Workbook

Sheet kiadási segédtábla
A1: KIADÁSI SEGÉDTÁBLA | J1: =+'1. Sülysáp összesen'!J1 -> 2022. III. Negyedéves költségvetési beszámoló
C7: ELŐIRÁNYZAT | H7: FELHASZNÁLÁS | P7: előirányzat(ok) változása
H8: Ft-ban | L8: %-ban | P8: =+'1. Sülysáp összesen'!P8 -> 1 | Q8: =+' 2. Önk. Bevételek'!Q8 -> 1 | R8: =+'1. Sülysáp összesen'!R8 -> 0
B9: KIADÁSOK ÖSSZESEN | C9: =+C23 -> 1369849619 | D9: =+D23 -> 1434961892 | E9: =+E23 -> 1467238387 | F9: =+F23 -> 0 | H9: =+H23 -> 652525541 | I9: =+I23 -> 1015294567 | J9: =+J23 -> 0 | L9: =H9/C9 -> 0.4763483 | M9: =I9/D9 -> 0.70754114 | N9: =+J9/E9 -> 0 | P9: =IF(D9>0,+D9-C9,0) -> 65112273 | Q9: =IF(E9>0,+E9-D9,0) -> 32276495 | R9: =IF(F9>0,+F9-E9,0) -> 0 | S9: =SUM(P9:R9) -> 97388768 | T9: =+S9/C9 -> 0.071094496 | V9: =+S9-E9+C9 -> 0
A11: Rovat | B11: Megnevezés | C11: Eredeti előirányzat 2022.01.01 | D11: Módosított előirányzat 2022.06.30 | E11: Módosított előirányzat 2022.09.30 | F11: Módosított előirányzat 2022.12.31 | H11: 2022.06.30-ig tényleges felhasználás | I11: 2022.09.30-ig tényleges felhasználás | J11: 2022.12.31-ig tényleges felhasználás | L11: 2022.06.30-i felhasználás eredeti előir-hoz képest | M11: 2022.09.30-i felhasználás 2022.06.30-i módosított előir-hoz képest | N11: 2022.12.31-i felhasználás 2022.09.30-i módosított előir-hoz képest | P11: a 2022.06.30-i az eredetihez képest | Q11: a 2022.09.30-i a 2022.06.30-ihoz képest | R11: a 2022.12.31-i a 2022.09.30-ihoz képest | S11: előirányzatok változása összesen | T11: előirányzatok változása eredetihez képest
A13: K1 | B13: Személyi juttatások | C13: =+C37 -> 590239000 | D13: =+D37 -> 604139000 | E13: =+E37 -> 604337000 | F13: =+F37 -> 0 | H13: =+H37 -> 284624783 | I13: =+I37 -> 436310302 | J13: =+J37 -> 0 | L13: =H13/D13 -> 0.47112466 | M13: =I13/E13 -> 0.72196523 | N13: =J13/F13 -> #DIV/0! | P13: =+(D13-C13)*P$8 -> 13900000 | Q13: =+(E13-D13)*Q$8 -> 198000 | R13: =+(F13-E13)*R$8 -> 0 | S13: =SUM(P13:R13) -> 14098000 | T13: =IF(C13=0,0,+S13/C13) -> 0.02388524 | V13: =+S13-E13+C13 -> 0
A14: K2 | B14: Munkaadót terhelő járulékok és szoc. hozzáj. | C14: =+C49 -> 76600000 | D14: =+D49 -> 78315308 | E14: =+E49 -> 78315308 | F14: =+F49 -> 0 | H14: =+H49 -> 40732165 | I14: =+I49 -> 60206257 | J14: =+J49 -> 0 | L14: =H14/D14 -> 0.52010477 | M14: =I14/E14 -> 0.76876742 | N14: =J14/F14 -> #DIV/0! | P14: =+(D14-C14)*P$8 -> 1715308 | Q14: =+(E14-D14)*Q$8 -> 0 | R14: =+(F14-E14)*R$8 -> 0 | S14: =SUM(P14:R14) -> 1715308 | T14: =IF(C14=0,0,+S14/C14) -> 0.022393055 | V14: =+S14-E14+C14 -> 0
A15: K3 | B15: Dologi kiadások | C15: =+C61 -> 357274000 | D15: =+D61 -> 346106825 | E15: =+E61 -> 362368286 | F15: =+F61 -> 0 | H15: =+H61 -> 160841788 | I15: =+I61 -> 234965696 | J15: =+J61 -> 0 | L15: =H15/D15 -> 0.46471718 | M15: =I15/E15 -> 0.64841683 | N15: =J15/F15 -> #DIV/0! | P15: =+(D15-C15)*P$8 -> -11167175 | Q15: =+(E15-D15)*Q$8 -> 16261461 | R15: =+(F15-E15)*R$8 -> 0 | S15: =SUM(P15:R15) -> 5094286 | T15: =IF(C15=0,0,+S15/C15) -> 0.014258765 | V15: =+S15-E15+C15 -> 0
A16: K4 | B16: Elláttotak pénzpeli juttatásai | C16: =+C73 -> 16000000 | D16: =+D73 -> 16000000 | E16: =+E73 -> 16000000 | F16: =+F73 -> 0 | H16: =+H73 -> 4998433 | I16: =+I73 -> 8147040 | J16: =+J73 -> 0 | L16: =H16/D16 -> 0.31240206 | M16: =I16/E16 -> 0.50919 | N16: =J16/F16 -> #DIV/0! | P16: =+(D16-C16)*P$8 -> 0 | Q16: =+(E16-D16)*Q$8 -> 0 | R16: =+(F16-E16)*R$8 -> 0 | S16: =SUM(P16:R16) -> 0 | T16: =IF(C16=0,0,+S16/C16) -> 0 | V16: =+S16-E16+C16 -> 0
A17: K5 | B17: Egyéb működési célú kiadások | C17: =+C85 -> 151426315 | D17: =+D85 -> 221879015 | E17: =+E85 -> 225231315 | F17: =+F85 -> 0 | H17: =+H85 -> 91594087 | I17: =+I85 -> 153439419 | J17: =+J85 -> 0 | L17: =H17/D17 -> 0.41281095 | M17: =I17/E17 -> 0.6812526 | N17: =J17/F17 -> #DIV/0! | P17: =+(D17-C17)*P$8 -> 70452700 | Q17: =+(E17-D17)*Q$8 -> 3352300 | R17: =+(F17-E17)*R$8 -> 0 | S17: =SUM(P17:R17) -> 73805000 | T17: =IF(C17=0,0,+S17/C17) -> 0.48739877 | V17: =+S17-E17+C17 -> 0
A18: K6 | B18: Beruházások | C18: =+C97 -> 70280500 | D18: =+D97 -> 59793445 | E18: =+E97 -> 72112179 | F18: =+F97 -> 0 | H18: =+H97 -> 11687839 | I18: =+I97 -> 61419713 | J18: =+J97 -> 0 | L18: =H18/D18 -> 0.19547024 | M18: =I18/E18 -> 0.85172455 | N18: =J18/F18 -> #DIV/0! | P18: =+(D18-C18)*P$8 -> -10487055 | Q18: =+(E18-D18)*Q$8 -> 12318734 | R18: =+(F18-E18)*R$8 -> 0 | S18: =SUM(P18:R18) -> 1831679 | T18: =IF(C18=0,0,+S18/C18) -> 0.026062407 | V18: =+S18-E18+C18 -> 0
A19: K7 | B19: Felújítások | C19: =+C109 -> 83452445 | D19: =+D109 -> 83452445 | E19: =+E109 -> 83452445 | F19: =+F109 -> 0 | H19: =+H109 -> 32771553 | I19: =+I109 -> 35385584 | J19: =+J109 -> 0 | L19: =H19/D19 -> 0.39269734 | M19: =I19/E19 -> 0.42402094 | N19: =J19/F19 -> #DIV/0! | P19: =+(D19-C19)*P$8 -> 0 | Q19: =+(E19-D19)*Q$8 -> 0 | R19: =+(F19-E19)*R$8 -> 0 | S19: =SUM(P19:R19) -> 0 | T19: =IF(C19=0,0,+S19/C19) -> 0 | V19: =+S19-E19+C19 -> 0
A20: K8 | B20: Egyéb felhalmozási célú kiadások | C20: =+C121 -> 0 | D20: =+D121 -> 44000 | E20: =+E121 -> 190000 | F20: =+F121 -> 0 | H20: =+H121 -> 43039 | I20: =+I121 -> 188702 | J20: =+J121 -> 0 | L20: 0 | M20: 0 | N20: 0 | P20: =+(D20-C20)*P$8 -> 44000 | Q20: =+(E20-D20)*Q$8 -> 146000 | R20: =+(F20-E20)*R$8 -> 0 | S20: =SUM(P20:R20) -> 190000 | T20: =IF(C20=0,0,+S20/C20) -> 0 | V20: =+S20-E20+C20 -> 0
A21: K9 | B21: Finanszírozási kiadások | C21: =+C133 -> 675998039 | D21: =+D133 -> 676652534 | E21: =+E133 -> 682652534 | F21: =+F133 -> 0 | H21: =+H133 -> 347736936 | I21: =+I133 -> 515503086 | J21: =+J133 -> 0 | L21: =+H21/D21 -> 0.51390768 | M21: =+I21/E21 -> 0.75514711 | N21: =+J21/F21 -> #DIV/0! | P21: =+(D21-C21)*P$8 -> 654495 | Q21: =+(E21-D21)*Q$8 -> 6000000 | R21: =+(F21-E21)*R$8 -> 0 | S21: =SUM(P21:R21) -> 6654495 | T21: =IF(C21=0,0,+S21/C21) -> 0.0098439561 | V21: =+S21-E21+C21 -> 0
B22: intézményi finanszírozás miatti korrekció | C22: =-C145 -> -651420680 | D22: =-D145 -> -651420680 | E22: =-E145 -> -657420680 | F22: =-F145 -> 0 | H22: =-H145 -> -322505082 | I22: =-I145 -> -490271232 | J22: =-J145 -> 0 | P22: =-P145 -> 0 | Q22: =-Q145 -> -6000000 | R22: =-R145 -> 0 | S22: =-S145 -> -6000000 | T22: =IF(C22=0,0,+S22/C22) -> 0.0092106379 | V22: =+S22-E22+C22 -> 0
B23: KIADÁSOK ÖSSZESEN | C23: =SUM(C13:C22) -> 1369849619 | D23: =SUM(D13:D22) -> 1434961892 | E23: =SUM(E13:E22) -> 1467238387 | F23: =SUM(F13:F22) -> 0 | H23: =SUM(H13:H22) -> 652525541 | I23: =SUM(I13:I22) -> 1015294567 | J23: =SUM(J13:J22) -> 0 | L23: =H23/D23 -> 0.45473371 | M23: =I23/E23 -> 0.69197656 | N23: =J23/F23 -> #DIV/0! | P23: =SUM(P13:P22) -> 65112273 | Q23: =SUM(Q13:Q22) -> 32276495 | R23: =SUM(R13:R22) -> 0 | S23: =SUM(S13:S22) -> 97388768 | T23: =IF(C23=0,0,+S23/C23) -> 0.071094496 | V23: =+S23-E23+C23 -> 0
B24: kontroll | T24: =IF(C24=0,0,+S24/C24) -> 0 | V24: =+S24-E24+C24 -> 0
A28: K1 | B28: =+'3. Önk. Kiadások'!B13 -> Személyi juttatások
B29: =+'3. Önk. Kiadások'!A1 -> Sülysáp Város Önkormányzata | C29: =+'3. Önk. Kiadások'!C13 -> 100510000 | D29: =+'3. Önk. Kiadások'!D13 -> 112270000 | E29: =+'3. Önk. Kiadások'!E13 -> 112270000 | F29: =+'3. Önk. Kiadások'!F13 -> 0 | G29: =+'3. Önk. Kiadások'!G13 -> 0 | H29: =+'3. Önk. Kiadások'!H13 -> 46032044 | I29: =+'3. Önk. Kiadások'!I13 -> 77087587 | J29: =+'3. Önk. Kiadások'!J13 -> 0 | P29: =+'3. Önk. Kiadások'!P13 -> 11760000 | Q29: =+'3. Önk. Kiadások'!Q13 -> 0 | R29: =+'3. Önk. Kiadások'!R13 -> 0 | S29: =+'3. Önk. Kiadások'!S13 -> 11760000
B30: Gondozási Központ | C30: =+'8. Dr Gáspár HSZK'!C13 -> 29825000 | D30: =+'8. Dr Gáspár HSZK'!D13 -> 29825000 | E30: =+'8. Dr Gáspár HSZK'!E13 -> 29825000 | F30: =+'8. Dr Gáspár HSZK'!F13 -> 0 | H30: =+'8. Dr Gáspár HSZK'!H13 -> 14014974 | I30: =+'8. Dr Gáspár HSZK'!I13 -> 22459864 | J30: =+'8. Dr Gáspár HSZK'!J13 -> 0 | P30: =+'8. Dr Gáspár HSZK'!P13 -> 0 | Q30: =+'8. Dr Gáspár HSZK'!Q13 -> 0 | R30: =+'8. Dr Gáspár HSZK'!R13 -> 0 | S30: =+'8. Dr Gáspár HSZK'!S13 -> 0
B31: Csicsergő Napköziotthonos Óvoda | C31: =+'6. Csicsergő'!C13 -> 193790000 | D31: =+'6. Csicsergő'!D13 -> 193790000 | E31: =+'6. Csicsergő'!E13 -> 193790000 | F31: =+'6. Csicsergő'!F13 -> 0 | H31: =+'6. Csicsergő'!H13 -> 90223993 | I31: =+'6. Csicsergő'!I13 -> 137245051 | J31: =+'6. Csicsergő'!J13 -> 0 | P31: =+'6. Csicsergő'!P13 -> 0 | Q31: =+'6. Csicsergő'!Q13 -> 0 | R31: =+'6. Csicsergő'!R13 -> 0 | S31: =+'6. Csicsergő'!S13 -> 0
B32: Gólyahír Bőlcsőde | C32: =+'5. Gólyahír'!C13 -> 70787000 | D32: =+'5. Gólyahír'!D13 -> 70787000 | E32: =+'5. Gólyahír'!E13 -> 70787000 | F32: =+'5. Gólyahír'!F13 -> 0 | H32: =+'5. Gólyahír'!H13 -> 33440240 | I32: =+'5. Gólyahír'!I13 -> 52226930 | J32: =+'5. Gólyahír'!J13 -> 0 | P32: =+'5. Gólyahír'!P13 -> 0 | Q32: =+'5. Gólyahír'!Q13 -> 0 | R32: =+'5. Gólyahír'!R13 -> 0 | S32: =+'5. Gólyahír'!S13 -> 0
B33: Polgármesteri Hivatal | C33: =+'4. Polg.Hiv.'!C13 -> 136770000 | D33: =+'4. Polg.Hiv.'!D13 -> 138910000 | E33: =+'4. Polg.Hiv.'!E13 -> 138910000 | F33: =+'4. Polg.Hiv.'!F13 -> 0 | H33: =+'4. Polg.Hiv.'!H13 -> 73242121 | I33: =+'4. Polg.Hiv.'!I13 -> 105852857 | J33: =+'4. Polg.Hiv.'!J13 -> 0 | P33: =+'4. Polg.Hiv.'!P13 -> 2140000 | Q33: =+'4. Polg.Hiv.'!Q13 -> 0 | R33: =+'4. Polg.Hiv.'!R13 -> 0 | S33: =+'4. Polg.Hiv.'!S13 -> 2140000
B34: Wass Albert Művelődési Központ és Könyvtár | C34: =+'7. WAMKK'!C13 -> 20982000 | D34: =+'7. WAMKK'!D13 -> 20982000 | E34: =+'7. WAMKK'!E13 -> 20982000 | F34: =+'7. WAMKK'!F13 -> 0 | H34: =+'7. WAMKK'!H13 -> 8356256 | I34: =+'7. WAMKK'!I13 -> 12538644 | J34: =+'7. WAMKK'!J13 -> 0 | P34: =+'7. WAMKK'!P13 -> 0 | Q34: =+'7. WAMKK'!Q13 -> 0 | R34: =+'7. WAMKK'!R13 -> 0 | S34: =+'7. WAMKK'!S13 -> 0
B35: Központi Konyha | C35: =+'9. Közp. Konyha'!C13 -> 37575000 | D35: =+'9. Közp. Konyha'!D13 -> 37575000 | E35: =+'9. Közp. Konyha'!E13 -> 37773000 | F35: =+'9. Közp. Konyha'!F13 -> 0 | H35: =+'9. Közp. Konyha'!H13 -> 19315155 | I35: =+'9. Közp. Konyha'!I13 -> 28899369 | J35: =+'9. Közp. Konyha'!J13 -> 0 | P35: =+'9. Közp. Konyha'!P13 -> 0 | Q35: =+'9. Közp. Konyha'!Q13 -> 198000 | R35: =+'9. Közp. Konyha'!R13 -> 0 | S35: =+'9. Közp. Konyha'!S13 -> 198000
B36: technikai sor
A37: =+A28 -> K1 | B37: ÖSSZESEN | C37: =SUM(C29:C36) -> 590239000 | D37: =SUM(D29:D36) -> 604139000 | E37: =SUM(E29:E36) -> 604337000 | F37: =SUM(F29:F36) -> 0 | H37: =SUM(H29:H36) -> 284624783 | I37: =SUM(I29:I36) -> 436310302 | J37: =SUM(J29:J36) -> 0 | P37: =SUM(P29:P36) -> 13900000 | Q37: =SUM(Q29:Q36) -> 198000 | R37: =SUM(R29:R36) -> 0 | S37: =SUM(S29:S36) -> 14098000
A40: K2 | B40: =+'3. Önk. Kiadások'!B29 -> Munkaadót terhelő járulékok és szociális hozzájárulás
B41: =+B29 -> Sülysáp Város Önkormányzata | C41: =+'3. Önk. Kiadások'!C29 -> 13000000 | D41: =+'3. Önk. Kiadások'!D29 -> 14415000 | E41: =+'3. Önk. Kiadások'!E29 -> 14415000 | F41: =+'3. Önk. Kiadások'!F29 -> 0 | H41: =+'3. Önk. Kiadások'!H29 -> 5715394 | I41: =+'3. Önk. Kiadások'!I29 -> 9195251 | J41: =+'3. Önk. Kiadások'!J29 -> 0 | P41: =+'3. Önk. Kiadások'!P29 -> 1415000 | Q41: =+'3. Önk. Kiadások'!Q29 -> 0 | R41: =+'3. Önk. Kiadások'!R29 -> 0 | S41: =+'3. Önk. Kiadások'!S29 -> 1415000
B42: =+B30 -> Gondozási Központ | C42: =+'8. Dr Gáspár HSZK'!C29 -> 3900000 | D42: =+'8. Dr Gáspár HSZK'!D29 -> 3900000 | E42: =+'8. Dr Gáspár HSZK'!E29 -> 3900000 | F42: =+'8. Dr Gáspár HSZK'!F29 -> 0 | H42: =+'8. Dr Gáspár HSZK'!H29 -> 2020593 | I42: =+'8. Dr Gáspár HSZK'!I29 -> 3125665 | J42: =+'8. Dr Gáspár HSZK'!J29 -> 0 | P42: =+'8. Dr Gáspár HSZK'!P29 -> 0 | Q42: =+'8. Dr Gáspár HSZK'!Q29 -> 0 | R42: =+'8. Dr Gáspár HSZK'!R29 -> 0 | S42: =+'8. Dr Gáspár HSZK'!S29 -> 0
B43: =+B31 -> Csicsergő Napköziotthonos Óvoda | C43: =+'6. Csicsergő'!C30 -> 25000000 | D43: =+'6. Csicsergő'!D30 -> 25000000 | E43: =+'6. Csicsergő'!E30 -> 25000000 | F43: =+'6. Csicsergő'!F30 -> 0 | H43: =+'6. Csicsergő'!H30 -> 13078152 | I43: =+'6. Csicsergő'!I30 -> 19369353 | J43: =+'6. Csicsergő'!J30 -> 0 | P43: =+'6. Csicsergő'!P30 -> 0 | Q43: =+'6. Csicsergő'!Q30 -> 0 | R43: =+'6. Csicsergő'!R30 -> 0 | S43: =+'6. Csicsergő'!S30 -> 0
B44: =+B32 -> Gólyahír Bőlcsőde | C44: =+'5. Gólyahír'!C29 -> 9100000 | D44: =+'5. Gólyahír'!D29 -> 9100000 | E44: =+'5. Gólyahír'!E29 -> 9100000 | F44: =+'5. Gólyahír'!F29 -> 0 | H44: =+'5. Gólyahír'!H29 -> 4723238 | I44: =+'5. Gólyahír'!I29 -> 7206667 | J44: =+'5. Gólyahír'!J29 -> 0 | P44: =+'5. Gólyahír'!P29 -> 0 | Q44: =+'5. Gólyahír'!Q29 -> 0 | R44: =+'5. Gólyahír'!R29 -> 0 | S44: =+'5. Gólyahír'!S29 -> 0
B45: =+B33 -> Polgármesteri Hivatal | C45: =+'4. Polg.Hiv.'!C29 -> 17900000 | D45: =+'4. Polg.Hiv.'!D29 -> 18200308 | E45: =+'4. Polg.Hiv.'!E29 -> 18200308 | F45: =+'4. Polg.Hiv.'!F29 -> 0 | H45: =+'4. Polg.Hiv.'!H29 -> 11393724 | I45: =+'4. Polg.Hiv.'!I29 -> 15628466 | J45: =+'4. Polg.Hiv.'!J29 -> 0 | P45: =+'4. Polg.Hiv.'!P29 -> 300308 | Q45: =+'4. Polg.Hiv.'!Q29 -> 0 | R45: =+'4. Polg.Hiv.'!R29 -> 0 | S45: =+'4. Polg.Hiv.'!S29 -> 300308
B46: =+B34 -> Wass Albert Művelődési Központ és Könyvtár | C46: =+'7. WAMKK'!C29 -> 2800000 | D46: =+'7. WAMKK'!D29 -> 2800000 | E46: =+'7. WAMKK'!E29 -> 2800000 | F46: =+'7. WAMKK'!F29 -> 0 | H46: =+'7. WAMKK'!H29 -> 1183516 | I46: =+'7. WAMKK'!I29 -> 1773121 | J46: =+'7. WAMKK'!J29 -> 0 | P46: =+'7. WAMKK'!P29 -> 0 | Q46: =+'7. WAMKK'!Q29 -> 0 | R46: =+'7. WAMKK'!R29 -> 0 | S46: =+'7. WAMKK'!S29 -> 0
B47: =+B35 -> Központi Konyha | C47: =+'9. Közp. Konyha'!C29 -> 4900000 | D47: =+'9. Közp. Konyha'!D29 -> 4900000 | E47: =+'9. Közp. Konyha'!E29 -> 4900000 | F47: =+'9. Közp. Konyha'!F29 -> 0 | H47: =+'9. Közp. Konyha'!H29 -> 2617548 | I47: =+'9. Közp. Konyha'!I29 -> 3907734 | J47: =+'9. Közp. Konyha'!J29 -> 0 | P47: =+'9. Közp. Konyha'!P29 -> 0 | Q47: =+'9. Közp. Konyha'!Q29 -> 0 | R47: =+'9. Közp. Konyha'!R29 -> 0 | S47: =+'9. Közp. Konyha'!S29 -> 0
B48: technikai sor
A49: =+A40 -> K2 | B49: ÖSSZESEN | C49: =SUM(C41:C48) -> 76600000 | D49: =SUM(D41:D48) -> 78315308 | E49: =SUM(E41:E48) -> 78315308 | F49: =SUM(F41:F48) -> 0 | H49: =SUM(H41:H48) -> 40732165 | I49: =SUM(I41:I48) -> 60206257 | J49: =SUM(J41:J48) -> 0 | P49: =SUM(P41:P48) -> 1715308 | Q49: =SUM(Q41:Q48) -> 0 | R49: =SUM(R41:R48) -> 0 | S49: =SUM(S41:S48) -> 1715308
A52: K3 | B52: =+'3. Önk. Kiadások'!B32 -> Dologi kiadások
B53: =+B41 -> Sülysáp Város Önkormányzata | C53: =+'3. Önk. Kiadások'!C32 -> 217700000 | D53: =+'3. Önk. Kiadások'!D32 -> 207001305 | E53: =+'3. Önk. Kiadások'!E32 -> 208680000 | F53: =+'3. Önk. Kiadások'!F32 -> 0 | H53: =+'3. Önk. Kiadások'!H32 -> 87543418 | I53: =+'3. Önk. Kiadások'!I32 -> 121417212 | J53: =+'3. Önk. Kiadások'!J32 -> 0 | P53: =+'3. Önk. Kiadások'!P32 -> -10698695 | Q53: =+'3. Önk. Kiadások'!Q32 -> 1678695 | R53: =+'3. Önk. Kiadások'!R32 -> 0 | S53: =+'3. Önk. Kiadások'!S32 -> -9020000
B54: =+B42 -> Gondozási Központ | C54: =+'8. Dr Gáspár HSZK'!C32 -> 12060000 | D54: =+'8. Dr Gáspár HSZK'!D32 -> 12060000 | E54: =+'8. Dr Gáspár HSZK'!E32 -> 12060000 | F54: =+'8. Dr Gáspár HSZK'!F32 -> 0 | H54: =+'8. Dr Gáspár HSZK'!H32 -> 4912145 | I54: =+'8. Dr Gáspár HSZK'!I32 -> 7939130 | J54: =+'8. Dr Gáspár HSZK'!J32 -> 0 | P54: =+'8. Dr Gáspár HSZK'!P32 -> 0 | Q54: =+'8. Dr Gáspár HSZK'!Q32 -> 0 | R54: =+'8. Dr Gáspár HSZK'!R32 -> 0 | S54: =+'8. Dr Gáspár HSZK'!S32 -> 0
...

Sheet bevételi segédtábla
A1: BEVÉTELI SEGÉDTÁBLA | J1: =+'1. Sülysáp összesen'!J1 -> 2022. III. Negyedéves költségvetési beszámoló
C7: ELŐIRÁNYZAT | H7: FELHASZNÁLÁS | P7: előirányzat(ok) változása
H8: Ft-ban | L8: %-ban | P8: =+'1. Sülysáp összesen'!P8 -> 1 | Q8: =+' 2. Önk. Bevételek'!Q8 -> 1 | R8: =+'1. Sülysáp összesen'!R8 -> 0
B9: BEVÉTELEK ÖSSZESEN | C9: =+C22 -> 1369849619 | D9: =+D22 -> 1434961892 | E9: =+E22 -> 1467238387 | F9: =+F22 -> 0 | H9: =+H22 -> 1412569508 | I9: =+I22 -> 1774693801 | J9: =+J22 -> 0 | L9: =IF(D9=0,0,H9/D9) -> 0.98439514 | M9: =IF(E9=0,0,I9/E9) -> 1.209547 | N9: =IF(F9=0,0,J9/F9) -> 0 | P9: =IF(D9>0,+D9-C9,0) -> 65112273 | Q9: =IF(E9>0,+E9-D9,0) -> 32276495 | R9: =IF(F9>0,+F9-E9,0) -> 0 | S9: =+P9*P$8+Q9*Q$8+R9*R$8 -> 97388768 | T9: =+S9/C9 -> 0.071094496 | V9: =+S9-E9+C9 -> 0
A11: Rovat | B11: Megnevezés | C11: Eredeti előirányzat 2022.01.01 | D11: Módosított előirányzat 2022.06.30 | E11: Módosított előirányzat 2022.09.30 | F11: Módosított előirányzat 2022.12.31 | H11: 2022.06.30-ig tényleges felhasználás | I11: 2022.09.30-ig tényleges felhasználás | J11: 2022.12.31-ig tényleges felhasználás | L11: 2022.06.30-i felhasználás eredeti előir-hoz képest | M11: 2022.09.30-i felhasználás 2022.06.30-i módosított előir-hoz képest | N11: 2022.12.31-i felhasználás 2022.09.30-i módosított előir-hoz képest | P11: a 2022.06.30-i az eredetihez képest | Q11: a 2022.09.30-i a 2022.06.30-ihoz képest | R11: a 2022.12.31-i a 2022.09.30-ihoz képest | S11: előirányzatok változása összesen | T11: előirányzatok változása eredetihez képest
A13: B1 | B13: Működési célú tám-ok államháztartáson belülről | C13: =+C36 -> 780199287 | D13: =+D36 -> 783370506 | E13: =+E36 -> 812937448 | F13: =+F36 -> 0 | H13: =+H36 -> 426403824 | I13: =+I36 -> 615282212 | J13: =+J36 -> 0 | L13: =IF(D13=0,0,H13/D13) -> 0.54431948 | M13: =IF(E13=0,0,I13/E13) -> 0.75686292 | N13: =IF(F13=0,0,J13/F13) -> 0 | P13: =+(D13-C13)*P$8 -> 3171219 | Q13: =+(E13-D13)*Q$8 -> 29566942 | R13: =+(F13-E13)*R$8 -> 0 | S13: =+P13*P$8+Q13*Q$8+R13*R$8 -> 32738161 | T13: =IF(C13=0,0,+S13/C13) -> 0.04196128 | V13: =+S13-E13+C13 -> 0
A14: B2 | B14: Felhalmozási célú tám-ok államházt-on belülről | C14: =+C48 -> 70000000 | D14: =+D48 -> 69813054 | E14: =+E48 -> 69813054 | F14: =+F48 -> 0 | H14: =+H48 -> 335582001 | I14: =+I48 -> 359844539 | J14: =+J48 -> 0 | L14: =IF(D14=0,0,H14/D14) -> 4.8068661 | M14: =IF(E14=0,0,I14/E14) -> 5.1544019 | N14: =IF(F14=0,0,J14/F14) -> 0 | P14: =+(D14-C14)*P$8 -> -186946 | Q14: =+(E14-D14)*Q$8 -> 0 | R14: =+(F14-E14)*R$8 -> 0 | S14: =+P14*P$8+Q14*Q$8+R14*R$8 -> -186946 | T14: =IF(C14=0,0,+S14/C14) -> -0.0026706571 | V14: =+S14-E14+C14 -> 0
A15: B3 | B15: Közhatalmi bevételek | C15: =+C60 -> 200000000 | D15: =+D60 -> 200000000 | E15: =+E60 -> 200000000 | F15: =+F60 -> 0 | H15: =+H60 -> 122999106 | I15: =+I60 -> 223760794 | J15: =+J60 -> 0 | L15: =IF(D15=0,0,H15/D15) -> 0.61499553 | M15: =IF(E15=0,0,I15/E15) -> 1.118804 | N15: =IF(F15=0,0,J15/F15) -> 0 | P15: =+(D15-C15)*P$8 -> 0 | Q15: =+(E15-D15)*Q$8 -> 0 | R15: =+(F15-E15)*R$8 -> 0 | S15: =+P15*P$8+Q15*Q$8+R15*R$8 -> 0 | T15: =IF(C15=0,0,+S15/C15) -> 0 | V15: =+S15-E15+C15 -> 0
A16: B4 | B16: Működési bevételek | C16: =+C72 -> 101501530 | D16: =+D72 -> 101501530 | E16: =+E72 -> 101501530 | F16: =+F72 -> 0 | H16: =+H72 -> 63438970 | I16: =+I72 -> 102607737 | J16: =+J72 -> 0 | L16: =IF(D16=0,0,H16/D16) -> 0.62500506 | M16: =IF(E16=0,0,I16/E16) -> 1.0108984 | N16: =IF(F16=0,0,J16/F16) -> 0 | P16: =+(D16-C16)*P$8 -> 0 | Q16: =+(E16-D16)*Q$8 -> 0 | R16: =+(F16-E16)*R$8 -> 0 | S16: =+P16*P$8+Q16*Q$8+R16*R$8 -> 0 | T16: =IF(C16=0,0,+S16/C16) -> 0 | V16: =+S16-E16+C16 -> 0
A17: B5 | B17: Felhalmozási bevételek | C17: =+C84 -> 61100000 | D17: =+D84 -> 123228000 | E17: =+E84 -> 125937553 | F17: =+F84 -> 0 | H17: =+H84 -> 143069306 | I17: =+I84 -> 151653949 | J17: =+J84 -> 0 | L17: =IF(D17=0,0,H17/D17) -> 1.161013 | M17: =IF(E17=0,0,I17/E17) -> 1.2041996 | N17: =IF(F17=0,0,J17/F17) -> 0 | P17: =+(D17-C17)*P$8 -> 62128000 | Q17: =+(E17-D17)*Q$8 -> 2709553 | R17: =+(F17-E17)*R$8 -> 0 | S17: =+P17*P$8+Q17*Q$8+R17*R$8 -> 64837553 | T17: =IF(C17=0,0,+S17/C17) -> 1.0611711 | V17: =+S17-E17+C17 -> 0
A18: B6 | B18: Működési célú átvett pénzeszközök | C18: =+C96 -> 0 | D18: =+D96 -> 0 | E18: =+E96 -> 0 | F18: =+F96 -> 0 | H18: =+H96 -> 161668810 | I18: =+I96 -> 161668810 | J18: =+J96 -> 0 | L18: =IF(D18=0,0,H18/D18) -> 0 | M18: =IF(E18=0,0,I18/E18) -> 0 | N18: =IF(F18=0,0,J18/F18) -> 0 | P18: =+(D18-C18)*P$8 -> 0 | Q18: =+(E18-D18)*Q$8 -> 0 | R18: =+(F18-E18)*R$8 -> 0 | S18: =+P18*P$8+Q18*Q$8+R18*R$8 -> 0 | T18: =IF(C18=0,0,+S18/C18) -> 0 | V18: =+S18-E18+C18 -> 0
A19: B7 | B19: Felhalmozási célú átvett pénzeszközök | C19: =+C108 -> 0 | D19: =+D108 -> 0 | E19: =+E108 -> 0 | F19: =+F108 -> 0 | H19: =+H108 -> 1704190 | I19: =+I108 -> 2172463 | J19: =+J108 -> 0 | L19: =IF(D19=0,0,H19/D19) -> 0 | M19: =IF(E19=0,0,I19/E19) -> 0 | N19: =IF(F19=0,0,J19/F19) -> 0 | P19: =+(D19-C19)*P$8 -> 0 | Q19: =+(E19-D19)*Q$8 -> 0 | R19: =+(F19-E19)*R$8 -> 0 | S19: =+P19*P$8+Q19*Q$8+R19*R$8 -> 0 | T19: =IF(C19=0,0,+S19/C19) -> 0 | V19: =+S19-E19+C19 -> 0
A20: B8 | B20: Finanszírozási bevételek | C20: =+C120 -> 808469482 | D20: =+D120 -> 808469482 | E20: =+E120 -> 814469482 | F20: =+F120 -> 0 | H20: =+H120 -> 480208383 | I20: =+I120 -> 647974529 | J20: =+J120 -> 0 | L20: =IF(D20=0,0,H20/D20) -> 0.59397218 | M20: =IF(E20=0,0,I20/E20) -> 0.79557865 | N20: =IF(F20=0,0,J20/F20) -> 0 | P20: =+P120 -> 0 | Q20: =+Q120 -> 6000000 | R20: =+R120 -> 0 | S20: =+P20*P$8+Q20*Q$8+R20*R$8 -> 6000000 | T20: =IF(C20=0,0,+S20/C20) -> 0.0074214304 | V20: =+S20-E20+C20 -> 0
B21: intézményi finanszírozás miatti korrekció | C21: =-C144 -> -651420680 | D21: =-D144 -> -651420680 | E21: =-E144 -> -657420680 | F21: =-F144 -> 0 | H21: =-H144 -> -322505082 | I21: =-I144 -> -490271232 | J21: =-J144 -> 0 | L21: =IF(D21=0,0,H21/D21) -> 0.49507959 | M21: =IF(E21=0,0,I21/E21) -> 0.74574963 | N21: =IF(F21=0,0,J21/F21) -> 0 | P21: =-P144 -> 0 | Q21: =-Q144 -> -6000000 | R21: =-R144 -> 0 | S21: =+P21*P$8+Q21*Q$8+R21*R$8 -> -6000000 | T21: =IF(C21=0,0,+S21/C21) -> 0.0092106379 | V21: =+S21-E21+C21 -> 0
B22: BEVÉTELEK ÖSSZESEN | C22: =SUM(C13:C21) -> 1369849619 | D22: =SUM(D13:D21) -> 1434961892 | E22: =SUM(E13:E21) -> 1467238387 | F22: =SUM(F13:F21) -> 0 | H22: =SUM(H13:H21) -> 1412569508 | I22: =SUM(I13:I21) -> 1774693801 | J22: =SUM(J13:J21) -> 0 | L22: =IF(D22=0,0,H22/D22) -> 0.98439514 | M22: =IF(E22=0,0,I22/E22) -> 1.209547 | N22: =IF(F22=0,0,J22/F22) -> 0 | P22: =SUM(P13:P21) -> 65112273 | Q22: =SUM(Q13:Q21) -> 32276495 | R22: =SUM(R13:R21) -> 0 | S22: =+P22*P$8+Q22*Q$8+R22*R$8 -> 97388768 | T22: =IF(C22=0,0,+S22/C22) -> 0.071094496 | V22: =+S22-E22+C22 -> 0
B23: kontroll | T23: =IF(C23=0,0,+S23/C23) -> 0 | V23: =+S23-E23+C23 -> 0
A27: B1 | B27: =+B13 -> Működési célú tám-ok államháztartáson belülről
B28: =+'3. Önk. Kiadások'!A1 -> Sülysáp Város Önkormányzata | C28: =+' 2. Önk. Bevételek'!C13 -> 780199287 | D28: =+' 2. Önk. Bevételek'!D13 -> 780386233 | E28: =+' 2. Önk. Bevételek'!E13 -> 809953175 | F28: =+' 2. Önk. Bevételek'!F13 -> 0 | G28: =+'3. Önk. Kiadások'!G13 -> 0 | H28: =+' 2. Önk. Bevételek'!H13 -> 414017409 | I28: =+' 2. Önk. Bevételek'!I13 -> 602895797 | J28: =+' 2. Önk. Bevételek'!J13 -> 0 | L28: =IF(D28=0,0,H28/D28) -> 0.53052885 | M28: =IF(E28=0,0,I28/E28) -> 0.74435883 | N28: =IF(F28=0,0,J28/F28) -> 0 | P28: =+' 2. Önk. Bevételek'!P13 -> 186946 | Q28: =+' 2. Önk. Bevételek'!Q13 -> 29566942 | R28: =+' 2. Önk. Bevételek'!R13 -> 0 | S28: =+P28*P$8+Q28*Q$8+R28*R$8 -> 29753888
B29: =+'8. Dr Gáspár HSZK'!A1 -> Dr. Gáspár István HSZK | C29: =+'8. Dr Gáspár HSZK'!C93 -> 0 | D29: =+'8. Dr Gáspár HSZK'!D93 -> 0 | E29: =+'8. Dr Gáspár HSZK'!E93 -> 0 | F29: =+'8. Dr Gáspár HSZK'!F93 -> 0 | H29: =+'8. Dr Gáspár HSZK'!H93 -> 0 | I29: =+'8. Dr Gáspár HSZK'!I93 -> 0 | J29: =+'8. Dr Gáspár HSZK'!J93 -> 0 | L29: =IF(D29=0,0,H29/D29) -> 0 | M29: =IF(E29=0,0,I29/E29) -> 0 | N29: =IF(F29=0,0,J29/F29) -> 0 | P29: =+'8. Dr Gáspár HSZK'!P93 -> 0 | Q29: =+'8. Dr Gáspár HSZK'!Q93 -> 0 | R29: =+'8. Dr Gáspár HSZK'!R93 -> 0 | S29: =+P29*P$8+Q29*Q$8+R29*R$8 -> 0
B30: =+'6. Csicsergő'!A1 -> SÜLYSÁPI CSICSERGŐ ÓVODA | C30: =+'6. Csicsergő'!C93 -> 0 | D30: =+'6. Csicsergő'!D93 -> 0 | E30: =+'6. Csicsergő'!E93 -> 0 | F30: =+'6. Csicsergő'!F93 -> 0 | H30: =+'6. Csicsergő'!H93 -> 0 | I30: =+'6. Csicsergő'!I93 -> 0 | J30: =+'6. Csicsergő'!J93 -> 0 | L30: =IF(D30=0,0,H30/D30) -> 0 | M30: =IF(E30=0,0,I30/E30) -> 0 | N30: =IF(F30=0,0,J30/F30) -> 0 | P30: =+'6. Csicsergő'!P93 -> 0 | Q30: =+'6. Csicsergő'!Q93 -> 0 | R30: =+'6. Csicsergő'!R93 -> 0 | S30: =+P30*P$8+Q30*Q$8+R30*R$8 -> 0
B31: =+'5. Gólyahír'!A1 -> GÓLYAHÍR BÖLCSŐDE | C31: =+'5. Gólyahír'!C93 -> 0 | D31: =+'5. Gólyahír'!D93 -> 0 | E31: =+'5. Gólyahír'!E93 -> 0 | F31: =+'5. Gólyahír'!F93 -> 0 | H31: =+'5. Gólyahír'!H93 -> 0 | I31: =+'5. Gólyahír'!I93 -> 0 | J31: =+'5. Gólyahír'!J93 -> 0 | L31: =IF(D31=0,0,H31/D31) -> 0 | M31: =IF(E31=0,0,I31/E31) -> 0 | N31: =IF(F31=0,0,J31/F31) -> 0 | P31: =+'5. Gólyahír'!P93 -> 0 | Q31: =+'5. Gólyahír'!Q93 -> 0 | R31: =+'5. Gólyahír'!R93 -> 0 | S31: =+P31*P$8+Q31*Q$8+R31*R$8 -> 0
B32: =+'4. Polg.Hiv.'!A1 -> POLGÁRMESTERI HIVATAL | C32: =+'4. Polg.Hiv.'!C93 -> 0 | D32: =+'4. Polg.Hiv.'!D93 -> 2984273 | E32: =+'4. Polg.Hiv.'!E93 -> 2984273 | F32: =+'4. Polg.Hiv.'!F93 -> 0 | H32: =+'4. Polg.Hiv.'!H93 -> 9331645 | I32: =+'4. Polg.Hiv.'!I93 -> 9331645 | J32: =+'4. Polg.Hiv.'!J93 -> 0 | L32: =IF(D32=0,0,H32/D32) -> 3.1269408 | M32: =IF(E32=0,0,I32/E32) -> 3.1269408 | N32: =IF(F32=0,0,J32/F32) -> 0 | P32: =+'4. Polg.Hiv.'!P93 -> 2984273 | Q32: =+'4. Polg.Hiv.'!Q93 -> 0 | R32: =+'4. Polg.Hiv.'!R93 -> 0 | S32: =+P32*P$8+Q32*Q$8+R32*R$8 -> 2984273
B33: =+'7. WAMKK'!A1 -> Wass Albert Művelődési Központ és Könyvtár | C33: =+'7. WAMKK'!C93 -> 0 | D33: =+'7. WAMKK'!D93 -> 0 | E33: =+'7. WAMKK'!E93 -> 0 | F33: =+'7. WAMKK'!F93 -> 0 | H33: =+'7. WAMKK'!H93 -> 3054770 | I33: =+'7. WAMKK'!I93 -> 3054770 | J33: =+'7. WAMKK'!J93 -> 0 | L33: =IF(D33=0,0,H33/D33) -> 0 | M33: =IF(E33=0,0,I33/E33) -> 0 | N33: =IF(F33=0,0,J33/F33) -> 0 | P33: =+'7. WAMKK'!P93 -> 0 | Q33: =+'7. WAMKK'!Q93 -> 0 | R33: =+'7. WAMKK'!R93 -> 0 | S33: =+P33*P$8+Q33*Q$8+R33*R$8 -> 0
B34: =+'9. Közp. Konyha'!A1 -> Központi Konyha | C34: =+'9. Közp. Konyha'!C93 -> 0 | D34: =+'9. Közp. Konyha'!D93 -> 0 | E34: =+'9. Közp. Konyha'!E93 -> 0 | F34: =+'9. Közp. Konyha'!F93 -> 0 | H34: =+'9. Közp. Konyha'!H93 -> 0 | I34: =+'9. Közp. Konyha'!I93 -> 0 | J34: =+'9. Közp. Konyha'!J93 -> 0 | L34: =IF(D34=0,0,H34/D34) -> 0 | M34: =IF(E34=0,0,I34/E34) -> 0 | N34: =IF(F34=0,0,J34/F34) -> 0 | P34: =+'9. Közp. Konyha'!P93 -> 0 | Q34: =+'9. Közp. Konyha'!Q93 -> 0 | R34: =+'9. Közp. Konyha'!R93 -> 0 | S34: =+P34*P$8+Q34*Q$8+R34*R$8 -> 0
B35: technikai sor
A36: =+A27 -> B1 | B36: ÖSSZESEN | C36: =SUM(C28:C35) -> 780199287 | D36: =SUM(D28:D35) -> 783370506 | E36: =SUM(E28:E35) -> 812937448 | F36: =SUM(F28:F35) -> 0 | H36: =SUM(H28:H35) -> 426403824 | I36: =SUM(I28:I35) -> 615282212 | J36: =SUM(J28:J35) -> 0 | L36: =IF(D36=0,0,H36/D36) -> 0.54431948 | M36: =IF(E36=0,0,I36/E36) -> 0.75686292 | N36: =IF(F36=0,0,J36/F36) -> 0 | P36: =SUM(P28:P35) -> 3171219 | Q36: =SUM(Q28:Q35) -> 29566942 | R36: =SUM(R28:R35) -> 0 | S36: =+P36*P$8+Q36*Q$8+R36*R$8 -> 32738161
A39: B2 | B39: =+B14 -> Felhalmozási célú tám-ok államházt-on belülről | S39: =+P39*P$8+Q39*Q$8+R39*R$8 -> 0
B40: =+B28 -> Sülysáp Város Önkormányzata | C40: =+' 2. Önk. Bevételek'!C30 -> 70000000 | D40: =+' 2. Önk. Bevételek'!D30 -> 69813054 | E40: =+' 2. Önk. Bevételek'!E30 -> 69813054 | F40: =+' 2. Önk. Bevételek'!F30 -> 0 | H40: =+' 2. Önk. Bevételek'!H30 -> 335582001 | I40: =+' 2. Önk. Bevételek'!I30 -> 359844539 | J40: =+' 2. Önk. Bevételek'!J30 -> 0 | L40: =IF(D40=0,0,H40/D40) -> 4.8068661 | M40: =IF(E40=0,0,I40/E40) -> 5.1544019 | N40: =IF(F40=0,0,J40/F40) -> 0 | P40: =+' 2. Önk. Bevételek'!P30 -> -186946 | Q40: =+' 2. Önk. Bevételek'!Q30 -> 0 | R40: =+' 2. Önk. Bevételek'!R30 -> 0 | S40: =+P40*P$8+Q40*Q$8+R40*R$8 -> -186946
B41: =+B29 -> Dr. Gáspár István HSZK | L41: =IF(D41=0,0,H41/D41) -> 0 | M41: =IF(E41=0,0,I41/E41) -> 0 | N41: =IF(F41=0,0,J41/F41) -> 0 | S41: =+P41*P$8+Q41*Q$8+R41*R$8 -> 0
B42: =+B30 -> SÜLYSÁPI CSICSERGŐ ÓVODA | L42: =IF(D42=0,0,H42/D42) -> 0 | M42: =IF(E42=0,0,I42/E42) -> 0 | N42: =IF(F42=0,0,J42/F42) -> 0 | S42: =+P42*P$8+Q42*Q$8+R42*R$8 -> 0
B43: =+B31 -> GÓLYAHÍR BÖLCSŐDE | L43: =IF(D43=0,0,H43/D43) -> 0 | M43: =IF(E43=0,0,I43/E43) -> 0 | N43: =IF(F43=0,0,J43/F43) -> 0 | S43: =+P43*P$8+Q43*Q$8+R43*R$8 -> 0
B44: =+B32 -> POLGÁRMESTERI HIVATAL | L44: =IF(D44=0,0,H44/D44) -> 0 | M44: =IF(E44=0,0,I44/E44) -> 0 | N44: =IF(F44=0,0,J44/F44) -> 0 | S44: =+P44*P$8+Q44*Q$8+R44*R$8 -> 0
B45: =+B33 -> Wass Albert Művelődési Központ és Könyvtár | L45: =IF(D45=0,0,H45/D45) -> 0 | M45: =IF(E45=0,0,I45/E45) -> 0 | N45: =IF(F45=0,0,J45/F45) -> 0 | S45: =+P45*P$8+Q45*Q$8+R45*R$8 -> 0
B46: =+B34 -> Központi Konyha | L46: =IF(D46=0,0,H46/D46) -> 0 | M46: =IF(E46=0,0,I46/E46) -> 0 | N46: =IF(F46=0,0,J46/F46) -> 0 | S46: =+P46*P$8+Q46*Q$8+R46*R$8 -> 0
B47: technikai sor
A48: =+A39 -> B2 | B48: ÖSSZESEN | C48: =SUM(C40:C47) -> 70000000 | D48: =SUM(D40:D47) -> 69813054 | E48: =SUM(E40:E47) -> 69813054 | F48: =SUM(F40:F47) -> 0 | H48: =SUM(H40:H47) -> 335582001 | I48: =SUM(I40:I47) -> 359844539 | J48: =SUM(J40:J47) -> 0 | L48: =IF(D48=0,0,H48/D48) -> 4.8068661 | M48: =IF(E48=0,0,I48/E48) -> 5.1544019 | N48: =IF(F48=0,0,J48/F48) -> 0 | P48: =SUM(P40:P47) -> -186946 | Q48: =SUM(Q40:Q47) -> 0 | R48: =SUM(R40:R47) -> 0 | S48: =+P48*P$8+Q48*Q$8+R48*R$8 -> -186946
A51: B3 | B51: =+B15 -> Közhatalmi bevételek
B52: =+B40 -> Sülysáp Város Önkormányzata | C52: =+' 2. Önk. Bevételek'!C39 -> 200000000 | D52: =+' 2. Önk. Bevételek'!D39 -> 200000000 | E52: =+' 2. Önk. Bevételek'!E39 -> 200000000 | F52: =+' 2. Önk. Bevételek'!F39 -> 0 | H52: =+' 2. Önk. Bevételek'!H39 -> 122999106 | I52: =+' 2. Önk. Bevételek'!I39 -> 223760794 | J52: =+' 2. Önk. Bevételek'!J39 -> 0 | L52: =IF(D52=0,0,H52/D52) -> 0.61499553 | M52: =IF(E52=0,0,I52/E52) -> 1.118804 | N52: =IF(F52=0,0,J52/F52) -> 0 | P52: =+' 2. Önk. Bevételek'!P39 -> 0 | Q52: =+' 2. Önk. Bevételek'!Q39 -> 0 | R52: =+' 2. Önk. Bevételek'!R39 -> 0 | S52: =+P52*P$8+Q52*Q$8+R52*R$8 -> 0
B53: =+B41 -> Dr. Gáspár István HSZK | L53: =IF(D53=0,0,H53/D53) -> 0 | M53: =IF(E53=0,0,I53/E53) -> 0 | N53: =IF(F53=0,0,J53/F53) -> 0 | S53: =+P53*P$8+Q53*Q$8+R53*R$8 -> 0
B54: =+B42 -> SÜLYSÁPI CSICSERGŐ ÓVODA | L54: =IF(D54=0,0,H54/D54) -> 0 | M54: =IF(E54=0,0,I54/E54) -> 0 | N54: =IF(F54=0,0,J54/F54) -> 0 | S54: =+P54*P$8+Q54*Q$8+R54*R$8 -> 0
...

Sheet egységenkénti segédtábla
A1: Sülysáp Város Önkormányzata és intézményei | L1: ='1. Sülysáp összesen'!J1 -> 2022. III. Negyedéves költségvetési beszámoló
P4: 1 | Q4: 1 | R4: 0
C7: ELŐIRÁNYZAT | H7: FELHASZNÁLÁS | P7: előirányzat(ok) változása
H8: Ft-ban | L8: %-ban
A9: Rovat | B9: Megnevezés | C9: Eredeti előirányzat 2022.01.01 | D9: Módosított előirányzat 2022.06.30 | E9: Módosított előirányzat 2022.09.30 | F9: Módosított előirányzat 2022.12.31 | H9: 2022.06.30-ig tényleges felhasználás | I9: 2022.09.30-ig tényleges felhasználás | J9: 2022.12.31-ig tényleges felhasználás | L9: 2022.06.30-i felhasználás eredeti előir-hoz képest | M9: 2022.09.30-i felhasználás 2022.06.30-i módosított előir-hoz képest | N9: 2022.12.31-i felhasználás 2022.09.30-i módosított előir-hoz képest | P9: a 2022.06.30-i az eredetihez képest | Q9: a 2022.09.30-i a 2022.06.30-ihoz képest | R9: a 2022.12.31-i a 2022.09.30-ihoz képest | S9: előirányzatok változása összesen | T9: előirányzatok változása eredetihez képest
A11: =+'bevételi segédtábla'!B28 -> Sülysáp Város Önkormányzata
A13: K1 | B13: Személyi juttatások | C13: =+'3. Önk. Kiadások'!C13 -> 100510000 | D13: =+'3. Önk. Kiadások'!D13 -> 112270000 | E13: =+'3. Önk. Kiadások'!E13 -> 112270000 | F13: =+'3. Önk. Kiadások'!F13 -> 0 | G13: =+'3. Önk. Kiadások'!G13 -> 0 | H13: =+'3. Önk. Kiadások'!H13 -> 46032044 | I13: =+'3. Önk. Kiadások'!I13 -> 77087587 | J13: =+'3. Önk. Kiadások'!J13 -> 0 | L13: =IF(D13=0,0,H13/C13) -> 0.45798472 | M13: =IF(E13=0,0,I13/E13) -> 0.68662677 | N13: =IF(F13=0,0,J13/F13) -> 0 | P13: =+D13-C13 -> 11760000 | Q13: =+E13-D13 -> 0 | R13: =+F13-E13 -> -112270000 | S13: =+P$4*P13+Q$4*Q13*R$4*R13 -> 11760000 | T13: =IF(S13=0,0,S13/C13) -> 0.11700328
A14: K2 | B14: Munkaadót terhelő járulékok és szociális hozzájárulás | C14: =+'3. Önk. Kiadások'!C29 -> 13000000 | D14: =+'3. Önk. Kiadások'!D29 -> 14415000 | E14: =+'3. Önk. Kiadások'!E29 -> 14415000 | F14: =+'3. Önk. Kiadások'!F29 -> 0 | H14: =+'3. Önk. Kiadások'!H29 -> 5715394 | I14: =+'3. Önk. Kiadások'!I29 -> 9195251 | J14: =+'3. Önk. Kiadások'!J29 -> 0 | L14: =IF(D14=0,0,H14/C14) -> 0.43964569 | M14: =IF(E14=0,0,I14/E14) -> 0.63789462 | N14: =IF(F14=0,0,J14/F14) -> 0 | P14: =+D14-C14 -> 1415000 | Q14: =+E14-D14 -> 0 | R14: =+'3. Önk. Kiadások'!R29 -> 0 | S14: =+P$4*P14+Q$4*Q14*R$4*R14 -> 1415000 | T14: =IF(S14=0,0,S14/C14) -> 0.10884615
A15: K3 | B15: Dologi kiadások | C15: =+'3. Önk. Kiadások'!C32 -> 217700000 | D15: =+'3. Önk. Kiadások'!D32 -> 207001305 | E15: =+'3. Önk. Kiadások'!E32 -> 208680000 | F15: =+'3. Önk. Kiadások'!F32 -> 0 | H15: =+'3. Önk. Kiadások'!H32 -> 87543418 | I15: =+'3. Önk. Kiadások'!I32 -> 121417212 | J15: =+'3. Önk. Kiadások'!J32 -> 0 | L15: =IF(D15=0,0,H15/C15) -> 0.4021287 | M15: =IF(E15=0,0,I15/E15) -> 0.58183445 | N15: =IF(F15=0,0,J15/F15) -> 0 | P15: =+D15-C15 -> -10698695 | Q15: =+E15-D15 -> 1678695 | R15: =+'3. Önk. Kiadások'!R32 -> 0 | S15: =+P$4*P15+Q$4*Q15*R$4*R15 -> -10698695 | T15: =IF(S15=0,0,S15/C15) -> -0.049144212
A16: K4 | B16: Elláttotak pénzbeli juttatásai | C16: =+'3. Önk. Kiadások'!C81 -> 16000000 | D16: =+'3. Önk. Kiadások'!D81 -> 16000000 | E16: =+'3. Önk. Kiadások'!E81 -> 16000000 | F16: =+'3. Önk. Kiadások'!F81 -> 0 | H16: =+'3. Önk. Kiadások'!H81 -> 4998433 | I16: =+'3. Önk. Kiadások'!I81 -> 8147040 | J16: =+'3. Önk. Kiadások'!J81 -> 0 | L16: =IF(D16=0,0,H16/C16) -> 0.31240206 | M16: =IF(E16=0,0,I16/E16) -> 0.50919 | N16: =IF(F16=0,0,J16/F16) -> 0 | P16: =+D16-C16 -> 0 | Q16: =+E16-D16 -> 0 | R16: =+'3. Önk. Kiadások'!R81 -> 0 | S16: =+P$4*P16+Q$4*Q16*R$4*R16 -> 0 | T16: =IF(S16=0,0,S16/C16) -> 0
A17: K5 | B17: Egyéb működési célú kiadások | C17: =+'3. Önk. Kiadások'!C106 -> 151426315 | D17: =+'3. Önk. Kiadások'!D106 -> 221879015 | E17: =+'3. Önk. Kiadások'!E106 -> 225231315 | F17: =+'3. Önk. Kiadások'!F106 -> 0 | H17: =+'3. Önk. Kiadások'!H106 -> 91594087 | I17: =+'3. Önk. Kiadások'!I106 -> 153439419 | J17: =+'3. Önk. Kiadások'!J106 -> 0 | L17: =IF(D17=0,0,H17/C17) -> 0.60487563 | M17: =IF(E17=0,0,I17/E17) -> 0.6812526 | N17: =IF(F17=0,0,J17/F17) -> 0 | P17: =+D17-C17 -> 70452700 | Q17: =+E17-D17 -> 3352300 | R17: =+'3. Önk. Kiadások'!R106 -> 0 | S17: =+P$4*P17+Q$4*Q17*R$4*R17 -> 70452700 | T17: =IF(S17=0,0,S17/C17) -> 0.46526061
A18: K6 | B18: Beruházások | C18: =+'3. Önk. Kiadások'!C120 -> 49230500 | D18: =+'3. Önk. Kiadások'!D120 -> 37731000 | E18: =+'3. Önk. Kiadások'!E120 -> 58830500 | F18: =+'3. Önk. Kiadások'!F120 -> 0 | H18: =+'3. Önk. Kiadások'!H120 -> 5033909 | I18: =+'3. Önk. Kiadások'!I120 -> 50216919 | J18: =+'3. Önk. Kiadások'!J120 -> 0 | L18: =IF(D18=0,0,H18/C18) -> 0.10225184 | M18: =IF(E18=0,0,I18/E18) -> 0.85358647 | N18: =IF(F18=0,0,J18/F18) -> 0 | P18: =+D18-C18 -> -11499500 | Q18: =+E18-D18 -> 21099500 | R18: =+'3. Önk. Kiadások'!R120 -> 0 | S18: =+P$4*P18+Q$4*Q18*R$4*R18 -> -11499500 | T18: =IF(S18=0,0,S18/C18) -> -0.23358487
A19: K7 | B19: Felújítások | C19: =+'3. Önk. Kiadások'!C129 -> 83452445 | D19: =+'3. Önk. Kiadások'!D129 -> 83452445 | E19: =+'3. Önk. Kiadások'!E129 -> 83452445 | F19: =+'3. Önk. Kiadások'!F129 -> 0 | H19: =+'3. Önk. Kiadások'!H129 -> 32771553 | I19: =+'3. Önk. Kiadások'!I129 -> 35385584 | J19: =+'3. Önk. Kiadások'!J129 -> 0 | L19: =IF(D19=0,0,H19/C19) -> 0.39269734 | M19: =IF(E19=0,0,I19/E19) -> 0.42402094 | N19: =IF(F19=0,0,J19/F19) -> 0 | P19: =+D19-C19 -> 0 | Q19: =+E19-D19 -> 0 | R19: =+'3. Önk. Kiadások'!R129 -> 0 | S19: =+P$4*P19+Q$4*Q19*R$4*R19 -> 0 | T19: =IF(S19=0,0,S19/C19) -> 0
A20: K8 | B20: Szolgáltatások kiadásai | C20: =+'3. Önk. Kiadások'!C135 -> 0 | D20: =+'3. Önk. Kiadások'!D135 -> 44000 | E20: =+'3. Önk. Kiadások'!E135 -> 190000 | F20: =+'3. Önk. Kiadások'!F135 -> 0 | H20: =+'3. Önk. Kiadások'!H135 -> 43039 | I20: =+'3. Önk. Kiadások'!I135 -> 188702 | J20: =+'3. Önk. Kiadások'!J135 -> 0 | L20: =IF(D20=0,0,H20/C20) -> #DIV/0! | M20: =IF(E20=0,0,I20/E20) -> 0.99316842 | N20: =IF(F20=0,0,J20/F20) -> 0 | P20: =+D20-C20 -> 44000 | Q20: =+E20-D20 -> 146000 | R20: =+'3. Önk. Kiadások'!R135 -> 0 | S20: =+P$4*P20+Q$4*Q20*R$4*R20 -> 44000 | T20: =IF(S20=0,0,S20/C20) -> #DIV/0!
A21: K9 | B21: Finanszírozási kiadások | C21: =+'3. Önk. Kiadások'!C145 -> 675998039 | D21: =+'3. Önk. Kiadások'!D145 -> 676652534 | E21: =+'3. Önk. Kiadások'!E145 -> 682652534 | F21: =+'3. Önk. Kiadások'!F145 -> 0 | H21: =+'3. Önk. Kiadások'!H145 -> 347736936 | I21: =+'3. Önk. Kiadások'!I145 -> 515503086 | J21: =+'3. Önk. Kiadások'!J145 -> 0 | L21: =IF(D21=0,0,H21/C21) -> 0.51440524 | M21: =IF(E21=0,0,I21/E21) -> 0.75514711 | N21: =IF(F21=0,0,J21/F21) -> 0 | P21: =+D21-C21 -> 654495 | Q21: =+E21-D21 -> 6000000 | R21: =+'3. Önk. Kiadások'!R145 -> 0 | S21: =+P$4*P21+Q$4*Q21*R$4*R21 -> 654495 | T21: =IF(S21=0,0,S21/C21) -> 0.00096819068
B22: KIADÁSOK ÖSSZESEN | C22: =SUM(C13:C21) -> 1307317299 | D22: =SUM(D13:D21) -> 1369445299 | E22: =SUM(E13:E21) -> 1401721794 | F22: =SUM(F13:F21) -> 0 | H22: =SUM(H13:H21) -> 621468813 | I22: =SUM(I13:I21) -> 970580800 | J22: =SUM(J13:J21) -> 0 | L22: =IF(D22=0,0,H22/C22) -> 0.47537718 | M22: =IF(E22=0,0,I22/E22) -> 0.69242042 | N22: =IF(F22=0,0,J22/F22) -> 0 | P22: =SUM(P13:P21) -> 62128000 | Q22: =SUM(Q13:Q21) -> 32276495 | R22: =SUM(R13:R21) -> -112270000 | S22: =SUM(S13:S21) -> 62128000 | T22: =IF(S22=0,0,S22/C22) -> 0.047523275
A24: B1 | B24: Működési célú tám-ok államháztartáson belülről | C24: =+' 2. Önk. Bevételek'!C13 -> 780199287 | D24: =+' 2. Önk. Bevételek'!D13 -> 780386233 | E24: =+' 2. Önk. Bevételek'!E13 -> 809953175 | F24: =+' 2. Önk. Bevételek'!F13 -> 0 | G24: =+'3. Önk. Kiadások'!G13 -> 0 | H24: =+' 2. Önk. Bevételek'!H13 -> 414017409 | I24: =+' 2. Önk. Bevételek'!I13 -> 602895797 | J24: =+' 2. Önk. Bevételek'!J13 -> 0 | L24: =IF(D24=0,0,H24/D24) -> 0.53052885 | M24: =IF(E24=0,0,I24/E24) -> 0.74435883 | N24: =IF(F24=0,0,J24/F24) -> 0 | P24: =+D24-C24 -> 186946 | Q24: =+E24-D24 -> 29566942 | R24: =+F24-E24 -> -809953175 | S24: =+P$4*P24+Q$4*Q24*R$4*R24 -> 186946 | T24: =IF(S24=0,0,S24/C24) -> 0.00023961314
A25: B2 | B25: Felhalmozási célú tám-ok államházt-on belülről | C25: =+' 2. Önk. Bevételek'!C30 -> 70000000 | D25: =+' 2. Önk. Bevételek'!D30 -> 69813054 | E25: =+' 2. Önk. Bevételek'!E30 -> 69813054 | F25: =+' 2. Önk. Bevételek'!F30 -> 0 | H25: =+' 2. Önk. Bevételek'!H30 -> 335582001 | I25: =+' 2. Önk. Bevételek'!I30 -> 359844539 | J25: =+' 2. Önk. Bevételek'!J30 -> 0 | L25: =IF(D25=0,0,H25/D25) -> 4.8068661 | M25: =IF(E25=0,0,I25/E25) -> 5.1544019 | N25: =IF(F25=0,0,J25/F25) -> 0 | P25: =+D25-C25 -> -186946 | Q25: =+E25-D25 -> 0 | R25: =+F25-E25 -> -69813054 | S25: =+P$4*P25+Q$4*Q25*R$4*R25 -> -186946 | T25: =IF(S25=0,0,S25/C25) -> -0.0026706571
A26: B3 | B26: Közhatalmi bevételek | C26: =+' 2. Önk. Bevételek'!C39 -> 200000000 | D26: =+' 2. Önk. Bevételek'!D39 -> 200000000 | E26: =+' 2. Önk. Bevételek'!E39 -> 200000000 | F26: =+' 2. Önk. Bevételek'!F39 -> 0 | H26: =+' 2. Önk. Bevételek'!H39 -> 122999106 | I26: =+' 2. Önk. Bevételek'!I39 -> 223760794 | J26: =+' 2. Önk. Bevételek'!J39 -> 0 | L26: =IF(D26=0,0,H26/D26) -> 0.61499553 | M26: =IF(E26=0,0,I26/E26) -> 1.118804 | N26: =IF(F26=0,0,J26/F26) -> 0 | P26: =+D26-C26 -> 0 | Q26: =+E26-D26 -> 0 | R26: =+F26-E26 -> -200000000 | S26: =+P$4*P26+Q$4*Q26*R$4*R26 -> 0 | T26: =IF(S26=0,0,S26/C26) -> 0
A27: B4 | B27: Működési bevételek | C27: =+' 2. Önk. Bevételek'!C50 -> 54050000 | D27: =+' 2. Önk. Bevételek'!D50 -> 54050000 | E27: =+' 2. Önk. Bevételek'!E50 -> 54050000 | F27: =+' 2. Önk. Bevételek'!F50 -> 0 | H27: =+' 2. Önk. Bevételek'!H50 -> 36982630 | I27: =+' 2. Önk. Bevételek'!I50 -> 62593860 | J27: =+' 2. Önk. Bevételek'!J50 -> 0 | L27: =IF(D27=0,0,H27/D27) -> 0.68422997 | M27: =IF(E27=0,0,I27/E27) -> 1.1580733 | N27: =IF(F27=0,0,J27/F27) -> 0 | P27: =+D27-C27 -> 0 | Q27: =+E27-D27 -> 0 | R27: =+F27-E27 -> -54050000 | S27: =+P$4*P27+Q$4*Q27*R$4*R27 -> 0 | T27: =IF(S27=0,0,S27/C27) -> 0
A28: B5 | B28: Felhalmozási bevételek | C28: =+' 2. Önk. Bevételek'!C67 -> 61100000 | D28: =+' 2. Önk. Bevételek'!D67 -> 123228000 | E28: =+' 2. Önk. Bevételek'!E67 -> 125937553 | F28: =+' 2. Önk. Bevételek'!F67 -> 0 | H28: =+' 2. Önk. Bevételek'!H67 -> 143069306 | I28: =+' 2. Önk. Bevételek'!I67 -> 151653949 | J28: =+' 2. Önk. Bevételek'!J67 -> 0 | L28: =IF(D28=0,0,H28/D28) -> 1.161013 | M28: =IF(E28=0,0,I28/E28) -> 1.2041996 | N28: =IF(F28=0,0,J28/F28) -> 0 | P28: =+D28-C28 -> 62128000 | Q28: =+E28-D28 -> 2709553 | R28: =+F28-E28 -> -125937553 | S28: =+P$4*P28+Q$4*Q28*R$4*R28 -> 62128000 | T28: =IF(S28=0,0,S28/C28) -> 1.0168249
A29: B6 | B29: Működési célú átvett pénzeszközök | C29: =+' 2. Önk. Bevételek'!C72 -> 0 | D29: =+' 2. Önk. Bevételek'!D72 -> 0 | E29: =+' 2. Önk. Bevételek'!E72 -> 0 | F29: =+' 2. Önk. Bevételek'!F72 -> 0 | H29: =+' 2. Önk. Bevételek'!H72 -> 161668810 | I29: =+' 2. Önk. Bevételek'!I72 -> 161668810 | J29: =+' 2. Önk. Bevételek'!J72 -> 0 | L29: =IF(D29=0,0,H29/D29) -> 0 | M29: =IF(E29=0,0,I29/E29) -> 0 | N29: =IF(F29=0,0,J29/F29) -> 0 | P29: =+D29-C29 -> 0 | Q29: =+E29-D29 -> 0 | R29: =+F29-E29 -> 0 | S29: =+P$4*P29+Q$4*Q29*R$4*R29 -> 0 | T29: =IF(S29=0,0,S29/C29) -> 0
A30: B7 | B30: Felhalmozási célú átvett pénzeszközök | C30: =+' 2. Önk. Bevételek'!C76 -> 0 | D30: =+' 2. Önk. Bevételek'!D76 -> 0 | E30: =+' 2. Önk. Bevételek'!E76 -> 0 | F30: =+' 2. Önk. Bevételek'!F76 -> 0 | H30: =+' 2. Önk. Bevételek'!H76 -> 1704190 | I30: =+' 2. Önk. Bevételek'!I76 -> 2172463 | J30: =+' 2. Önk. Bevételek'!J76 -> 0 | L30: =IF(D30=0,0,H30/D30) -> 0 | M30: =IF(E30=0,0,I30/E30) -> 0 | N30: =IF(F30=0,0,J30/F30) -> 0 | P30: =+D30-C30 -> 0 | Q30: =+E30-D30 -> 0 | R30: =+F30-E30 -> 0 | S30: =+P$4*P30+Q$4*Q30*R$4*R30 -> 0 | T30: =IF(S30=0,0,S30/C30) -> 0
A31: B8-ból maradványértéken túli finanszírozási bevételek | C31: =+' 2. Önk. Bevételek'!C80-C32 -> 0 | D31: =+' 2. Önk. Bevételek'!D80-D32 -> 0 | E31: =+' 2. Önk. Bevételek'!E80-E32 -> 0 | F31: =+' 2. Önk. Bevételek'!F80-F32 -> 0 | H31: =+' 2. Önk. Bevételek'!H80-H32 -> 654495 | I31: =+' 2. Önk. Bevételek'!I80-I32 -> 654495 | J31: =+' 2. Önk. Bevételek'!J80-J32 -> 0 | L31: =IF(D31=0,0,H31/D31) -> 0 | M31: =IF(E31=0,0,I31/E31) -> 0 | N31: =IF(F31=0,0,J31/F31) -> 0 | P31: =+D31-C31 -> 0 | Q31: =+E31-D31 -> 0 | R31: =+F31-E31 -> 0 | S31: =+P$4*P31+Q$4*Q31*R$4*R31 -> 0 | T31: =IF(S31=0,0,S31/C31) -> 0
A32: B8-ból előző évi mardvány igénybevétele | C32: =+' 2. Önk. Bevételek'!C87 -> 141968012 | D32: =+' 2. Önk. Bevételek'!D87 -> 141968012 | E32: =+' 2. Önk. Bevételek'!E87 -> 141968012 | F32: =+' 2. Önk. Bevételek'!F87 -> 0 | H32: =+' 2. Önk. Bevételek'!H87 -> 141968016 | I32: =+' 2. Önk. Bevételek'!I87 -> 141968012 | J32: =+' 2. Önk. Bevételek'!J87 -> 0 | L32: =IF(D32=0,0,H32/D32) -> 1 | M32: =IF(E32=0,0,I32/E32) -> 1 | N32: =IF(F32=0,0,J32/F32) -> 0 | P32: =+D32-C32 -> 0 | Q32: =+E32-D32 -> 0 | R32: =+F32-E32 -> -141968012 | S32: =+P$4*P32+Q$4*Q32*R$4*R32 -> 0 | T32: =IF(S32=0,0,S32/C32) -> 0
B33: BEVÉTELEK ÖSSZESEN | C33: =SUM(C24:C32) -> 1307317299 | D33: =SUM(D24:D32) -> 1369445299 | E33: =SUM(E24:E32) -> 1401721794 | F33: =SUM(F24:F32) -> 0 | H33: =SUM(H24:H32) -> 1358645963 | I33: =SUM(I24:I32) -> 1707212719 | J33: =SUM(J24:J32) -> 0 | L33: =IF(D33=0,0,H33/D33) -> 0.99211408 | M33: =IF(E33=0,0,I33/E33) -> 1.2179398 | N33: =IF(F33=0,0,J33/F33) -> 0 | P33: =SUM(P24:P32) -> 62128000 | Q33: =SUM(Q24:Q32) -> 32276495 | R33: =SUM(R24:R32) -> -1401721794 | S33: =SUM(S24:S32) -> 62128000 | T33: =IF(S33=0,0,S33/C33) -> 0.047523275
B35: EGYENLEG | C35: =+C33-C22 -> 0 | D35: =+D33-D22 -> 0 | E35: =+E33-E22 -> 0 | F35: =+F33-F22 -> 0 | H35: =+H33-H22 -> 737177150 | I35: =+I33-I22 -> 736631919 | J35: =+J33-J22 -> 0 | L35: =IF(D35=0,0,H35/D35) -> 0 | M35: =IF(E35=0,0,I35/E35) -> 0 | N35: =IF(F35=0,0,J35/F35) -> 0 | P35: =+P33-P22 -> 0 | Q35: =+Q33-Q22 -> 0 | R35: =+R33-R22 -> -1289451794 | S35: =+S33-S22 -> 0
Q37: =+P42*P4+Q42*Q4 -> 0
A38: Dr Gáspár HSZK
A40: K1 | B40: =+B13 -> Személyi juttatások | C40: =+'8. Dr Gáspár HSZK'!C13 -> 29825000 | D40: =+'8. Dr Gáspár HSZK'!D13 -> 29825000 | E40: =+'8. Dr Gáspár HSZK'!E13 -> 29825000 | F40: =+'8. Dr Gáspár HSZK'!F13 -> 0 | H40: =+'8. Dr Gáspár HSZK'!H13 -> 14014974 | I40: =+'8. Dr Gáspár HSZK'!I13 -> 22459864 | J40: =+'8. Dr Gáspár HSZK'!J13 -> 0 | L40: =IF(D40=0,0,H40/D40) -> 0.46990692 | M40: =IF(E40=0,0,I40/E40) -> 0.75305495 | N40: =IF(F40=0,0,J40/F40) -> 0 | P40: =+D40-C40 -> 0 | Q40: =+E40-D40 -> 0 | R40: =+F40-E40 -> -29825000 | S40: =+P$4*P40+Q$4*Q40*R$4*R40 -> 0 | T40: =IF(S40=0,0,S40/C40) -> 0
A41: K2 | B41: =+B14 -> Munkaadót terhelő járulékok és szociális hozzájárulás | C41: =+'8. Dr Gáspár HSZK'!C29 -> 3900000 | D41: =+'8. Dr Gáspár HSZK'!D29 -> 3900000 | E41: =+'8. Dr Gáspár HSZK'!E29 -> 3900000 | F41: =+'8. Dr Gáspár HSZK'!F29 -> 0 | H41: =+'8. Dr Gáspár HSZK'!H29 -> 2020593 | I41: =+'8. Dr Gáspár HSZK'!I29 -> 3125665 | J41: =+'8. Dr Gáspár HSZK'!J29 -> 0 | L41: =IF(D41=0,0,H41/D41) -> 0.51810077 | M41: =IF(E41=0,0,I41/E41) -> 0.80145256 | N41: =IF(F41=0,0,J41/F41) -> 0 | P41: =+D41-C41 -> 0 | Q41: =+E41-D41 -> 0 | R41: =+F41-E41 -> -3900000 | S41: =+P$4*P41+Q$4*Q41*R$4*R41 -> 0 | T41: =IF(S41=0,0,S41/C41) -> 0
A42: K3 | B42: =+B15 -> Dologi kiadások | C42: =+'8. Dr Gáspár HSZK'!C32 -> 12060000 | D42: =+'8. Dr Gáspár HSZK'!D32 -> 12060000 | E42: =+'8. Dr Gáspár HSZK'!E32 -> 12060000 | F42: =+'8. Dr Gáspár HSZK'!F32 -> 0 | H42: =+'8. Dr Gáspár HSZK'!H32 -> 4912145 | I42: =+'8. Dr Gáspár HSZK'!I32 -> 7939130 | J42: =+'8. Dr Gáspár HSZK'!J32 -> 0 | L42: =IF(D42=0,0,H42/D42) -> 0.40730887 | M42: =IF(E42=0,0,I42/E42) -> 0.65830265 | N42: =IF(F42=0,0,J42/F42) -> 0 | P42: =+D42-C42 -> 0 | Q42: =+E42-D42 -> 0 | R42: =+F42-E42 -> -12060000 | S42: =+P$4*P42+Q$4*Q42*R$4*R42 -> 0 | T42: =IF(S42=0,0,S42/C42) -> 0
A43: K4 | B43: =+B16 -> Elláttotak pénzbeli juttatásai | L43: =IF(D43=0,0,H43/D43) -> 0 | M43: =IF(E43=0,0,I43/E43) -> 0 | N43: =IF(F43=0,0,J43/F43) -> 0 | P43: =+D43-C43 -> 0 | Q43: =+E43-D43 -> 0 | R43: =+F43-E43 -> 0 | S43: =+P$4*P43+Q$4*Q43*R$4*R43 -> 0 | T43: =IF(S43=0,0,S43/C43) -> 0
A44: K5 | B44: =+B17 -> Egyéb működési célú kiadások | L44: =IF(D44=0,0,H44/D44) -> 0 | M44: =IF(E44=0,0,I44/E44) -> 0 | N44: =IF(F44=0,0,J44/F44) -> 0 | P44: =+D44-C44 -> 0 | Q44: =+E44-D44 -> 0 | R44: =+F44-E44 -> 0 | S44: =+P$4*P44+Q$4*Q44*R$4*R44 -> 0 | T44: =IF(S44=0,0,S44/C44) -> 0
A45: K6 | B45: =+B18 -> Beruházások | C45: =+'8. Dr Gáspár HSZK'!C83 -> 4650000 | D45: =+'8. Dr Gáspár HSZK'!D83 -> 4650000 | E45: =+'8. Dr Gáspár HSZK'!E83 -> 4650000 | F45: =+'8. Dr Gáspár HSZK'!F83 -> 0 | H45: =+'8. Dr Gáspár HSZK'!H83 -> 1004214 | I45: =+'8. Dr Gáspár HSZK'!I83 -> 3704214 | J45: =+'8. Dr Gáspár HSZK'!J83 -> 0 | K45: =+'8. Dr Gáspár HSZK'!K83 -> 0 | L45: =IF(D45=0,0,H45/D45) -> 0.21596 | M45: =IF(E45=0,0,I45/E45) -> 0.79660516 | N45: =IF(F45=0,0,J45/F45) -> 0 | P45: =+D45-C45 -> 0 | Q45: =+E45-D45 -> 0 | R45: =+F45-E45 -> -4650000 | S45: =+P$4*P45+Q$4*Q45*R$4*R45 -> 0 | T45: =IF(S45=0,0,S45/C45) -> 0
A46: K7 | B46: =+B19 -> Felújítások | C46: =+'8. Dr Gáspár HSZK'!C86 -> 0 | D46: =+'8. Dr Gáspár HSZK'!D86 -> 0 | E46: =+'8. Dr Gáspár HSZK'!E86 -> 0 | F46: =+'8. Dr Gáspár HSZK'!F86 -> 0 | H46: =+'8. Dr Gáspár HSZK'!H86 -> 0 | I46: =+'8. Dr Gáspár HSZK'!I86 -> 0 | J46: =+'8. Dr Gáspár HSZK'!J86 -> 0 | K46: =+'8. Dr Gáspár HSZK'!K86 -> 0 | L46: =IF(D46=0,0,H46/D46) -> 0 | M46: =IF(E46=0,0,I46/E46) -> 0 | N46: =IF(F46=0,0,J46/F46) -> 0 | P46: =+D46-C46 -> 0 | Q46: =+E46-D46 -> 0 | R46: =+F46-E46 -> 0 | S46: =+P$4*P46+Q$4*Q46*R$4*R46 -> 0 | T46: =IF(S46=0,0,S46/C46) -> 0
A47: K8 | B47: =+B20 -> Szolgáltatások kiadásai | L47: =IF(D47=0,0,H47/D47) -> 0 | M47: =IF(E47=0,0,I47/E47) -> 0 | N47: =IF(F47=0,0,J47/F47) -> 0 | P47: =+D47-C47 -> 0 | Q47: =+E47-D47 -> 0 | R47: =+F47-E47 -> 0 | S47: =+P$4*P47+Q$4*Q47*R$4*R47 -> 0 | T47: =IF(S47=0,0,S47/C47) -> 0
A48: K9 | B48: =+B21 -> Finanszírozási kiadások | L48: =IF(D48=0,0,H48/D48) -> 0 | M48: =IF(E48=0,0,I48/E48) -> 0 | N48: =IF(F48=0,0,J48/F48) -> 0 | P48: =+D48-C48 -> 0 | Q48: =+E48-D48 -> 0 | R48: =+F48-E48 -> 0 | S48: =+P$4*P48+Q$4*Q48*R$4*R48 -> 0 | T48: =IF(S48=0,0,S48/C48) -> 0
B49: KIADÁSOK ÖSSZESEN | C49: =SUM(C40:C48) -> 50435000 | D49: =SUM(D40:D48) -> 50435000 | E49: =SUM(E40:E48) -> 50435000 | F49: =SUM(F40:F48) -> 0 | H49: =SUM(H40:H48) -> 21951926 | I49: =SUM(I40:I48) -> 37228873 | J49: =SUM(J40:J48) -> 0 | L49: =IF(D49=0,0,H49/D49) -> 0.43525183 | M49: =IF(E49=0,0,I49/E49) -> 0.73815551 | N49: =IF(F49=0,0,J49/F49) -> 0 | P49: =SUM(P40:P48) -> 0 | Q49: =SUM(Q40:Q48) -> 0 | R49: =SUM(R40:R48) -> -50435000 | S49: =SUM(S40:S48) -> 0 | T49: =IF(S49=0,0,S49/C49) -> 0
A51: =+A24 -> B1 | B51: Működési célú tám-ok államháztartáson belülről | C51: =+'8. Dr Gáspár HSZK'!C93 -> 0 | D51: =+'8. Dr Gáspár HSZK'!D93 -> 0 | E51: =+'8. Dr Gáspár HSZK'!E93 -> 0 | F51: =+'8. Dr Gáspár HSZK'!F93 -> 0 | G51: =+'8. Dr Gáspár HSZK'!G93 -> 0 | H51: =+'8. Dr Gáspár HSZK'!H93 -> 0 | I51: =+'8. Dr Gáspár HSZK'!I93 -> 0 | J51: =+'8. Dr Gáspár HSZK'!J93 -> 0 | L51: =IF(D51=0,0,H51/D51) -> 0 | M51: =IF(E51=0,0,I51/E51) -> 0 | N51: =IF(F51=0,0,J51/F51) -> 0 | P51: =+D51-C51 -> 0 | Q51: =+E51-D51 -> 0 | R51: =+F51-E51 -> 0 | S51: =+P$4*P51+Q$4*Q51*R$4*R51 -> 0 | T51: =IF(S51=0,0,S51/C51) -> 0
...

Sheet 1. Sülysáp összesen
A1: Sülysáp Város Önkormányzata és Intézményei | J1: 2022. III. Negyedéves költségvetési beszámoló
A6: BEVÉTELEK
C7: ELŐIRÁNYZAT | H7: REALIZÁLÁS | P7: előirányzat(ok) változása | V7: kontroll
H8: Ft-ban | L8: %-ban | P8: 1 | Q8: 1 | R8: 0
A9: rovat | B9: Megnevezés | C9: Eredeti előirányzat 2022.01.01 | D9: Módosított előirányzat 2022.06.30 | E9: Módosított előirányzat 2022.09.30 | F9: Módosított előirányzat 2022.12.31 | H9: 2022.06.30-ig tényleges realizálás | I9: 2022.09.30-ig tényleges realizálás | J9: 2022.12.31-ig tényleges realizálás | L9: 2022.06.30-i realizálás eredeti előir-hoz képest | M9: 2022.09.30-i realizálás 2022.06.30-i módosított előir-hoz képest | N9: 2022.12.31-i realizálás 2022.09.30-i módosított előir-hoz képest | P9: a 2022.06.30-i az eredetihez képest | Q9: a 2022.09.30-i a 2022.06.30-ihoz képest | R9: a 2022.12.31-i a 2022.09.30-ihoz képest | S9: előirányzatok változása összesen | T9: előirányzatok változása eredetihez képest | U9: kontroll
A10: B1 | B10: Működési célú támogatások államháztartáson belülről | C10: =+'bevételi segédtábla'!C13 -> 780199287 | D10: =+'bevételi segédtábla'!D13 -> 783370506 | E10: =+'bevételi segédtábla'!E13 -> 812937448 | F10: =+'bevételi segédtábla'!F13 -> 0 | H10: =+'bevételi segédtábla'!H13 -> 426403824 | I10: =+'bevételi segédtábla'!I13 -> 615282212 | J10: =+'bevételi segédtábla'!J13 -> 0 | L10: =H10/D10 -> 0.54431948 | M10: =I10/E10 -> 0.75686292 | N10: =J10/F10 -> #DIV/0! | P10: =+'bevételi segédtábla'!P13 -> 3171219 | Q10: =+'bevételi segédtábla'!Q13 -> 29566942 | R10: =+'bevételi segédtábla'!R13 -> 0 | S10: =+'bevételi segédtábla'!S13 -> 32738161 | T10: =IF(C10=0,0,+S10/C10) -> 0.04196128 | V10: =+S10-E10+C10 -> 0
A11: B2 | B11: Felhalmozási célú támogatások államháztartáson belülről | C11: =+'bevételi segédtábla'!C14 -> 70000000 | D11: =+'bevételi segédtábla'!D14 -> 69813054 | E11: =+'bevételi segédtábla'!E14 -> 69813054 | F11: =+'bevételi segédtábla'!F14 -> 0 | H11: =+'bevételi segédtábla'!H14 -> 335582001 | I11: =+'bevételi segédtábla'!I14 -> 359844539 | J11: =+'bevételi segédtábla'!J14 -> 0 | L11: =H11/D11 -> 4.8068661 | M11: =I11/E11 -> 5.1544019 | N11: =J11/F11 -> #DIV/0! | P11: =+'bevételi segédtábla'!P14 -> -186946 | Q11: =+'bevételi segédtábla'!Q14 -> 0 | R11: =+'bevételi segédtábla'!R14 -> 0 | S11: =+'bevételi segédtábla'!S14 -> -186946 | T11: =IF(C11=0,0,+S11/C11) -> -0.0026706571 | V11: =+S11-E11+C11 -> 0
A12: B3 | B12: Közhatalmi bevételek | C12: =+'bevételi segédtábla'!C15 -> 200000000 | D12: =+'bevételi segédtábla'!D15 -> 200000000 | E12: =+'bevételi segédtábla'!E15 -> 200000000 | F12: =+'bevételi segédtábla'!F15 -> 0 | H12: =+'bevételi segédtábla'!H15 -> 122999106 | I12: =+'bevételi segédtábla'!I15 -> 223760794 | J12: =+'bevételi segédtábla'!J15 -> 0 | L12: =H12/D12 -> 0.61499553 | M12: =I12/E12 -> 1.118804 | N12: =J12/F12 -> #DIV/0! | P12: =+'bevételi segédtábla'!P15 -> 0 | Q12: =+'bevételi segédtábla'!Q15 -> 0 | R12: =+'bevételi segédtábla'!R15 -> 0 | S12: =+'bevételi segédtábla'!S15 -> 0 | T12: =IF(C12=0,0,+S12/C12) -> 0 | V12: =+S12-E12+C12 -> 0
A13: B4 | B13: Működési bevételek | C13: =+'bevételi segédtábla'!C16 -> 101501530 | D13: =+'bevételi segédtábla'!D16 -> 101501530 | E13: =+'bevételi segédtábla'!E16 -> 101501530 | F13: =+'bevételi segédtábla'!F16 -> 0 | H13: =+'bevételi segédtábla'!H16 -> 63438970 | I13: =+'bevételi segédtábla'!I16 -> 102607737 | J13: =+'bevételi segédtábla'!J16 -> 0 | L13: =H13/D13 -> 0.62500506 | M13: =I13/E13 -> 1.0108984 | N13: =J13/F13 -> #DIV/0! | P13: =+'bevételi segédtábla'!P16 -> 0 | Q13: =+'bevételi segédtábla'!Q16 -> 0 | R13: =+'bevételi segédtábla'!R16 -> 0 | S13: =+'bevételi segédtábla'!S16 -> 0 | T13: =IF(C13=0,0,+S13/C13) -> 0 | V13: =+S13-E13+C13 -> 0
A14: B5 | B14: Felhalmozási bevételek | C14: =+'bevételi segédtábla'!C17 -> 61100000 | D14: =+'bevételi segédtábla'!D17 -> 123228000 | E14: =+'bevételi segédtábla'!E17 -> 125937553 | F14: =+'bevételi segédtábla'!F17 -> 0 | H14: =+'bevételi segédtábla'!H17 -> 143069306 | I14: =+'bevételi segédtábla'!I17 -> 151653949 | J14: =+'bevételi segédtábla'!J17 -> 0 | L14: =H14/D14 -> 1.161013 | M14: =I14/E14 -> 1.2041996 | N14: =J14/F14 -> #DIV/0! | P14: =+'bevételi segédtábla'!P17 -> 62128000 | Q14: =+'bevételi segédtábla'!Q17 -> 2709553 | R14: =+'bevételi segédtábla'!R17 -> 0 | S14: =+'bevételi segédtábla'!S17 -> 64837553 | T14: =IF(C14=0,0,+S14/C14) -> 1.0611711 | V14: =+S14-E14+C14 -> 0
A15: B6 | B15: Működési célú átvett pénzeszközök | C15: =+'bevételi segédtábla'!C18 -> 0 | D15: =+'bevételi segédtábla'!D18 -> 0 | E15: =+'bevételi segédtábla'!E18 -> 0 | F15: =+'bevételi segédtábla'!F18 -> 0 | H15: =+'bevételi segédtábla'!H18 -> 161668810 | I15: =+'bevételi segédtábla'!I18 -> 161668810 | J15: =+'bevételi segédtábla'!J18 -> 0 | L15: =H15/D15 -> #DIV/0! | M15: =I15/E15 -> #DIV/0! | N15: =J15/F15 -> #DIV/0! | P15: =+'bevételi segédtábla'!P18 -> 0 | Q15: =+'bevételi segédtábla'!Q18 -> 0 | R15: =+'bevételi segédtábla'!R18 -> 0 | S15: =+'bevételi segédtábla'!S18 -> 0 | T15: =IF(C15=0,0,+S15/C15) -> 0 | V15: =+S15-E15+C15 -> 0
A16: B7 | B16: Felhalmozási célú átvett pénzeszközök | C16: =+'bevételi segédtábla'!C19 -> 0 | D16: =+'bevételi segédtábla'!D19 -> 0 | E16: =+'bevételi segédtábla'!E19 -> 0 | F16: =+'bevételi segédtábla'!F19 -> 0 | H16: =+'bevételi segédtábla'!H19 -> 1704190 | I16: =+'bevételi segédtábla'!I19 -> 2172463 | J16: =+'bevételi segédtábla'!J19 -> 0 | L16: =H16/D16 -> #DIV/0! | M16: =I16/E16 -> #DIV/0! | N16: =J16/F16 -> #DIV/0! | P16: =+'bevételi segédtábla'!P19 -> 0 | Q16: =+'bevételi segédtábla'!Q19 -> 0 | R16: =+'bevételi segédtábla'!R19 -> 0 | S16: =+'bevételi segédtábla'!S19 -> 0 | T16: =IF(C16=0,0,+S16/C16) -> 0 | V16: =+S16-E16+C16 -> 0
A17: B8 | B17: Finanszírozási bevételek | C17: =+'bevételi segédtábla'!C20 -> 808469482 | D17: =+'bevételi segédtábla'!D20 -> 808469482 | E17: =+'bevételi segédtábla'!E20 -> 814469482 | F17: =+'bevételi segédtábla'!F20 -> 0 | H17: =+'bevételi segédtábla'!H20 -> 480208383 | I17: =+'bevételi segédtábla'!I20 -> 647974529 | J17: =+'bevételi segédtábla'!J20 -> 0 | L17: =H17/D17 -> 0.59397218 | M17: =I17/E17 -> 0.79557865 | N17: =J17/F17 -> #DIV/0! | P17: =+'bevételi segédtábla'!P20 -> 0 | Q17: =+'bevételi segédtábla'!Q20 -> 6000000 | R17: =+'bevételi segédtábla'!R20 -> 0 | S17: =+'bevételi segédtábla'!S20 -> 6000000 | T17: =IF(C17=0,0,+S17/C17) -> 0.0074214304 | V17: =+S17-E17+C17 -> 0
B18: korrekció intézményeknél megjelenő finanszírozás miatt | C18: =+'bevételi segédtábla'!C21 -> -651420680 | D18: =+'bevételi segédtábla'!D21 -> -651420680 | E18: =+'bevételi segédtábla'!E21 -> -657420680 | F18: =+'bevételi segédtábla'!F21 -> 0 | H18: =+'bevételi segédtábla'!H21 -> -322505082 | I18: =+'bevételi segédtábla'!I21 -> -490271232 | J18: =+'bevételi segédtábla'!J21 -> 0 | L18: =H18/D18 -> 0.49507959 | M18: =I18/E18 -> 0.74574963 | N18: =J18/F18 -> #DIV/0! | P18: =+'bevételi segédtábla'!P21 -> 0 | Q18: =+'bevételi segédtábla'!Q21 -> -6000000 | R18: =+'bevételi segédtábla'!R21 -> 0 | S18: =+'bevételi segédtábla'!S21 -> -6000000 | V18: =+S18-E18+C18 -> 0
B19: BEVÉTELEK ÖSSZESEN | C19: =SUM(C10:C18) -> 1369849619 | D19: =SUM(D10:D18) -> 1434961892 | E19: =SUM(E10:E18) -> 1467238387 | F19: =SUM(F10:F18) -> 0 | H19: =SUM(H10:H18) -> 1412569508 | I19: =SUM(I10:I18) -> 1774693801 | J19: =SUM(J10:J18) -> 0 | L19: =H19/D19 -> 0.98439514 | M19: =I19/E19 -> 1.209547 | N19: =J19/F19 -> #DIV/0! | P19: =SUM(P10:P18) -> 65112273 | Q19: =SUM(Q10:Q18) -> 32276495 | R19: =SUM(R10:R18) -> 0 | S19: =SUM(S10:S18) -> 97388768 | T19: =IF(C19=0,0,+S19/C19) -> 0.071094496 | V19: =+S19-E19+C19 -> 0
A23: KIADÁSOK
C24: ELŐIRÁNYZAT | H24: FELHASZNÁLÁS | P24: előirányzat(ok) változása | V24: kontroll
H25: Ft-ban | L25: %-ban
A26: rovat | B26: Megnevezés | C26: Eredeti előirányzat 2022.01.01 | D26: Módosított előirányzat 2022.06.30 | E26: Módosított előirányzat 2022.09.30 | F26: Módosított előirányzat 2022.12.31 | H26: 2022.06.30-ig tényleges realizálás | I26: 2022.09.30-ig tényleges realizálás | J26: 2022.12.31-ig tényleges realizálás | L26: 2022.06.30-i realizálás eredeti előir-hoz képest | M26: 2022.09.30-i realizálás 2022.06.30-i módosított előir-hoz képest | N26: 2022.12.31-i realizálás 2022.09.30-i módosított előir-hoz képest | P26: a 2022.06.30-i az eredetihez képest | Q26: a 2022.09.30-i a 2022.06.30-ihoz képest | R26: a 2022.12.31-i a 2022.09.30-ihoz képest | S26: előirányzatok változása összesen | T26: előirányzatok változása eredetihez képest
A27: K1 | B27: Személyi juttatások | C27: =+'kiadási segédtábla'!C13 -> 590239000 | D27: =+'kiadási segédtábla'!D13 -> 604139000 | E27: =+'kiadási segédtábla'!E13 -> 604337000 | F27: =+'kiadási segédtábla'!F13 -> 0 | H27: =+'kiadási segédtábla'!H13 -> 284624783 | I27: =+'kiadási segédtábla'!I13 -> 436310302 | J27: =+'kiadási segédtábla'!J13 -> 0 | L27: =H27/C27 -> 0.48221955 | M27: =I27/E27 -> 0.72196523 | N27: =J27/F27 -> #DIV/0! | P27: =+(D27-C27)*P$8 -> 13900000 | Q27: =+(E27-D27)*Q$8 -> 198000 | R27: =+(F27-E27)*R$8 -> 0 | S27: =SUM(P27:R27) -> 14098000 | T27: =IF(C27=0,0,+S27/C27) -> 0.02388524 | V27: =+S27-E27+C27 -> 0
A28: K2 | B28: Munkaadót terhelő járulékok és szociális hozzájárulás | C28: =+'kiadási segédtábla'!C14 -> 76600000 | D28: =+'kiadási segédtábla'!D14 -> 78315308 | E28: =+'kiadási segédtábla'!E14 -> 78315308 | F28: =+'kiadási segédtábla'!F14 -> 0 | H28: =+'kiadási segédtábla'!H14 -> 40732165 | I28: =+'kiadási segédtábla'!I14 -> 60206257 | J28: =+'kiadási segédtábla'!J14 -> 0 | L28: =H28/C28 -> 0.5317515 | M28: =I28/E28 -> 0.76876742 | N28: =J28/F28 -> #DIV/0! | P28: =+(D28-C28)*P$8 -> 1715308 | Q28: =+(E28-D28)*Q$8 -> 0 | R28: =+(F28-E28)*R$8 -> 0 | S28: =SUM(P28:R28) -> 1715308 | T28: =IF(C28=0,0,+S28/C28) -> 0.022393055 | V28: =+S28-E28+C28 -> 0
A29: K3 | B29: Dologi kiadások | C29: =+'kiadási segédtábla'!C15 -> 357274000 | D29: =+'kiadási segédtábla'!D15 -> 346106825 | E29: =+'kiadási segédtábla'!E15 -> 362368286 | F29: =+'kiadási segédtábla'!F15 -> 0 | H29: =+'kiadási segédtábla'!H15 -> 160841788 | I29: =+'kiadási segédtábla'!I15 -> 234965696 | J29: =+'kiadási segédtábla'!J15 -> 0 | L29: =H29/C29 -> 0.4501917 | M29: =I29/E29 -> 0.64841683 | N29: =J29/F29 -> #DIV/0! | P29: =+(D29-C29)*P$8 -> -11167175 | Q29: =+(E29-D29)*Q$8 -> 16261461 | R29: =+(F29-E29)*R$8 -> 0 | S29: =SUM(P29:R29) -> 5094286 | T29: =IF(C29=0,0,+S29/C29) -> 0.014258765 | V29: =+S29-E29+C29 -> 0
A30: K4 | B30: Elláttotak pénzbeli juttatásai | C30: =+'kiadási segédtábla'!C16 -> 16000000 | D30: =+'kiadási segédtábla'!D16 -> 16000000 | E30: =+'kiadási segédtábla'!E16 -> 16000000 | F30: =+'kiadási segédtábla'!F16 -> 0 | H30: =+'kiadási segédtábla'!H16 -> 4998433 | I30: =+'kiadási segédtábla'!I16 -> 8147040 | J30: =+'kiadási segédtábla'!J16 -> 0 | L30: =H30/C30 -> 0.31240206 | M30: =I30/E30 -> 0.50919 | N30: =J30/F30 -> #DIV/0! | P30: =+(D30-C30)*P$8 -> 0 | Q30: =+(E30-D30)*Q$8 -> 0 | R30: =+(F30-E30)*R$8 -> 0 | S30: =SUM(P30:R30) -> 0 | T30: =IF(C30=0,0,+S30/C30) -> 0 | V30: =+S30-E30+C30 -> 0
