Workbook

Sheet kiadási segédtábla
A1: KIADÁSI SEGÉDTÁBLA | J1: =+'1. Sülysáp összesen'!J1 -> 2022. III. Negyedéves költségvetési beszámoló
C7: ELŐIRÁNYZAT | H7: FELHASZNÁLÁS | P7: előirányzat(ok) változása
H8: Ft-ban | L8: %-ban | P8: =+'1. Sülysáp összesen'!P8 -> 1 | Q8: =+' 2. Önk. Bevételek'!Q8 -> 1 | R8: =+'1. Sülysáp összesen'!R8 -> 0
B9: KIADÁSOK ÖSSZESEN | C9: =+C23 -> 1369849619 | D9: =+D23 -> 1434961892 | E9: =+E23 -> 1467238387 | F9: =+F23 -> 0 | H9: =+H23 -> 652525541 | I9: =+I23 -> 1015294567 | J9: =+J23 -> 0 | L9: =H9/C9 -> 0.4763483 | M9: =I9/D9 -> 0.70754114 | N9: =+J9/E9 -> 0 | P9: =IF(D9>0,+D9-C9,0) -> 65112273 | Q9: =IF(E9>0,+E9-D9,0) -> 32276495 | R9: =IF(F9>0,+F9-E9,0) -> 0 | S9: =SUM(P9:R9) -> 97388768 | T9: =+S9/C9 -> 0.071094496 | V9: =+S9-E9+C9 -> 0
A11: Rovat | B11: Megnevezés | C11: Eredeti előirányzat 2022.01.01 | D11: Módosított előirányzat 2022.06.30 | E11: Módosított előirányzat 2022.09.30 | F11: Módosított előirányzat 2022.12.31 | H11: 2022.06.30-ig tényleges felhasználás | I11: 2022.09.30-ig tényleges felhasználás | J11: 2022.12.31-ig tényleges felhasználás | L11: 2022.06.30-i felhasználás eredeti előir-hoz képest | M11: 2022.09.30-i felhasználás 2022.06.30-i módosított előir-hoz képest | N11: 2022.12.31-i felhasználás 2022.09.30-i módosított előir-hoz képest | P11: a 2022.06.30-i az eredetihez képest | Q11: a 2022.09.30-i a 2022.06.30-ihoz képest | R11: a 2022.12.31-i a 2022.09.30-ihoz képest | S11: előirányzatok változása összesen | T11: előirányzatok változása eredetihez képest
A13: K1 | B13: Személyi juttatások | C13: =+C37 -> 590239000 | D13: =+D37 -> 604139000 | E13: =+E37 -> 604337000 | F13: =+F37 -> 0 | H13: =+H37 -> 284624783 | I13: =+I37 -> 436310302 | J13: =+J37 -> 0 | L13: =H13/D13 -> 0.47112466 | M13: =I13/E13 -> 0.72196523 | N13: =J13/F13 -> #DIV/0! | P13: =+(D13-C13)*P$8 -> 13900000 | Q13: =+(E13-D13)*Q$8 -> 198000 | R13: =+(F13-E13)*R$8 -> 0 | S13: =SUM(P13:R13) -> 14098000 | T13: =IF(C13=0,0,+S13/C13) -> 0.02388524 | V13: =+S13-E13+C13 -> 0
A14: K2 | B14: Munkaadót terhelő járulékok és szoc. hozzáj. | C14: =+C49 -> 76600000 | D14: =+D49 -> 78315308 | E14: =+E49 -> 78315308 | F14: =+F49 -> 0 | H14: =+H49 -> 40732165 | I14: =+I49 -> 60206257 | J14: =+J49 -> 0 | L14: =H14/D14 -> 0.52010477 | M14: =I14/E14 -> 0.76876742 | N14: =J14/F14 -> #DIV/0! | P14: =+(D14-C14)*P$8 -> 1715308 | Q14: =+(E14-D14)*Q$8 -> 0 | R14: =+(F14-E14)*R$8 -> 0 | S14: =SUM(P14:R14) -> 1715308 | T14: =IF(C14=0,0,+S14/C14) -> 0.022393055 | V14: =+S14-E14+C14 -> 0
A15: K3 | B15: Dologi kiadások | C15: =+C61 -> 357274000 | D15: =+D61 -> 346106825 | E15: =+E61 -> 362368286 | F15: =+F61 -> 0 | H15: =+H61 -> 160841788 | I15: =+I61 -> 234965696 | J15: =+J61 -> 0 | L15: =H15/D15 -> 0.46471718 | M15: =I15/E15 -> 0.64841683 | N15: =J15/F15 -> #DIV/0! | P15: =+(D15-C15)*P$8 -> -11167175 | Q15: =+(E15-D15)*Q$8 -> 16261461 | R15: =+(F15-E15)*R$8 -> 0 | S15: =SUM(P15:R15) -> 5094286 | T15: =IF(C15=0,0,+S15/C15) -> 0.014258765 | V15: =+S15-E15+C15 -> 0
A16: K4 | B16: Elláttotak pénzpeli juttatásai | C16: =+C73 -> 16000000 | D16: =+D73 -> 16000000 | E16: =+E73 -> 16000000 | F16: =+F73 -> 0 | H16: =+H73 -> 4998433 | I16: =+I73 -> 8147040 | J16: =+J73 -> 0 | L16: =H16/D16 -> 0.31240206 | M16: =I16/E16 -> 0.50919 | N16: =J16/F16 -> #DIV/0! | P16: =+(D16-C16)*P$8 -> 0 | Q16: =+(E16-D16)*Q$8 -> 0 | R16: =+(F16-E16)*R$8 -> 0 | S16: =SUM(P16:R16) -> 0 | T16: =IF(C16=0,0,+S16/C16) -> 0 | V16: =+S16-E16+C16 -> 0
A17: K5 | B17: Egyéb működési célú kiadások | C17: =+C85 -> 151426315 | D17: =+D85 -> 221879015 | E17: =+E85 -> 225231315 | F17: =+F85 -> 0 | H17: =+H85 -> 91594087 | I17: =+I85 -> 153439419 | J17: =+J85 -> 0 | L17: =H17/D17 -> 0.41281095 | M17: =I17/E17 -> 0.6812526 | N17: =J17/F17 -> #DIV/0! | P17: =+(D17-C17)*P$8 -> 70452700 | Q17: =+(E17-D17)*Q$8 -> 3352300 | R17: =+(F17-E17)*R$8 -> 0 | S17: =SUM(P17:R17) -> 73805000 | T17: =IF(C17=0,0,+S17/C17) -> 0.48739877 | V17: =+S17-E17+C17 -> 0
A18: K6 | B18: Beruházások | C18: =+C97 -> 70280500 | D18: =+D97 -> 59793445 | E18: =+E97 -> 72112179 | F18: =+F97 -> 0 | H18: =+H97 -> 11687839 | I18: =+I97 -> 61419713 | J18: =+J97 -> 0 | L18: =H18/D18 -> 0.19547024 | M18: =I18/E18 -> 0.85172455 | N18: =J18/F18 -> #DIV/0! | P18: =+(D18-C18)*P$8 -> -10487055 | Q18: =+(E18-D18)*Q$8 -> 12318734 | R18: =+(F18-E18)*R$8 -> 0 | S18: =SUM(P18:R18) -> 1831679 | T18: =IF(C18=0,0,+S18/C18) -> 0.026062407 | V18: =+S18-E18+C18 -> 0
A19: K7 | B19: Felújítások | C19: =+C109 -> 83452445 | D19: =+D109 -> 83452445 | E19: =+E109 -> 83452445 | F19: =+F109 -> 0 | H19: =+H109 -> 32771553 | I19: =+I109 -> 35385584 | J19: =+J109 -> 0 | L19: =H19/D19 -> 0.39269734 | M19: =I19/E19 -> 0.42402094 | N19: =J19/F19 -> #DIV/0! | P19: =+(D19-C19)*P$8 -> 0 | Q19: =+(E19-D19)*Q$8 -> 0 | R19: =+(F19-E19)*R$8 -> 0 | S19: =SUM(P19:R19) -> 0 | T19: =IF(C19=0,0,+S19/C19) -> 0 | V19: =+S19-E19+C19 -> 0
A20: K8 | B20: Egyéb felhalmozási célú kiadások | C20: =+C121 -> 0 | D20: =+D121 -> 44000 | E20: =+E121 -> 190000 | F20: =+F121 -> 0 | H20: =+H121 -> 43039 | I20: =+I121 -> 188702 | J20: =+J121 -> 0 | L20: 0 | M20: 0 | N20: 0 | P20: =+(D20-C20)*P$8 -> 44000 | Q20: =+(E20-D20)*Q$8 -> 146000 | R20: =+(F20-E20)*R$8 -> 0 | S20: =SUM(P20:R20) -> 190000 | T20: =IF(C20=0,0,+S20/C20) -> 0 | V20: =+S20-E20+C20 -> 0
A21: K9 | B21: Finanszírozási kiadások | C21: =+C133 -> 675998039 | D21: =+D133 -> 676652534 | E21: =+E133 -> 682652534 | F21: =+F133 -> 0 | H21: =+H133 -> 347736936 | I21: =+I133 -> 515503086 | J21: =+J133 -> 0 | L21: =+H21/D21 -> 0.51390768 | M21: =+I21/E21 -> 0.75514711 | N21: =+J21/F21 -> #DIV/0! | P21: =+(D21-C21)*P$8 -> 654495 | Q21: =+(E21-D21)*Q$8 -> 6000000 | R21: =+(F21-E21)*R$8 -> 0 | S21: =SUM(P21:R21) -> 6654495 | T21: =IF(C21=0,0,+S21/C21) -> 0.0098439561 | V21: =+S21-E21+C21 -> 0
B22: intézményi finanszírozás miatti korrekció | C22: =-C145 -> -651420680 | D22: =-D145 -> -651420680 | E22: =-E145 -> -657420680 | F22: =-F145 -> 0 | H22: =-H145 -> -322505082 | I22: =-I145 -> -490271232 | J22: =-J145 -> 0 | P22: =-P145 -> 0 | Q22: =-Q145 -> -6000000 | R22: =-R145 -> 0 | S22: =-S145 -> -6000000 | T22: =IF(C22=0,0,+S22/C22) -> 0.0092106379 | V22: =+S22-E22+C22 -> 0
B23: KIADÁSOK ÖSSZESEN | C23: =SUM(C13:C22) -> 1369849619 | D23: =SUM(D13:D22) -> 1434961892 | E23: =SUM(E13:E22) -> 1467238387 | F23: =SUM(F13:F22) -> 0 | H23: =SUM(H13:H22) -> 652525541 | I23: =SUM(I13:I22) -> 1015294567 | J23: =SUM(J13:J22) -> 0 | L23: =H23/D23 -> 0.45473371 | M23: =I23/E23 -> 0.69197656 | N23: =J23/F23 -> #DIV/0! | P23: =SUM(P13:P22) -> 65112273 | Q23: =SUM(Q13:Q22) -> 32276495 | R23: =SUM(R13:R22) -> 0 | S23: =SUM(S13:S22) -> 97388768 | T23: =IF(C23=0,0,+S23/C23) -> 0.071094496 | V23: =+S23-E23+C23 -> 0
B24: kontroll | T24: =IF(C24=0,0,+S24/C24) -> 0 | V24: =+S24-E24+C24 -> 0
A28: K1 | B28: =+'3. Önk. Kiadások'!B13 -> Személyi juttatások
B29: =+'3. Önk. Kiadások'!A1 -> Sülysáp Város Önkormányzata | C29: =+'3. Önk. Kiadások'!C13 -> 100510000 | D29: =+'3. Önk. Kiadások'!D13 -> 112270000 | E29: =+'3. Önk. Kiadások'!E13 -> 112270000 | F29: =+'3. Önk. Kiadások'!F13 -> 0 | G29: =+'3. Önk. Kiadások'!G13 -> 0 | H29: =+'3. Önk. Kiadások'!H13 -> 46032044 | I29: =+'3. Önk. Kiadások'!I13 -> 77087587 | J29: =+'3. Önk. Kiadások'!J13 -> 0 | P29: =+'3. Önk. Kiadások'!P13 -> 11760000 | Q29: =+'3. Önk. Kiadások'!Q13 -> 0 | R29: =+'3. Önk. Kiadások'!R13 -> 0 | S29: =+'3. Önk. Kiadások'!S13 -> 11760000
B30: Gondozási Központ | C30: =+'8. Dr Gáspár HSZK'!C13 -> 29825000 | D30: =+'8. Dr Gáspár HSZK'!D13 -> 29825000 | E30: =+'8. Dr Gáspár HSZK'!E13 -> 29825000 | F30: =+'8. Dr Gáspár HSZK'!F13 -> 0 | H30: =+'8. Dr Gáspár HSZK'!H13 -> 14014974 | I30: =+'8. Dr Gáspár HSZK'!I13 -> 22459864 | J30: =+'8. Dr Gáspár HSZK'!J13 -> 0 | P30: =+'8. Dr Gáspár HSZK'!P13 -> 0 | Q30: =+'8. Dr Gáspár HSZK'!Q13 -> 0 | R30: =+'8. Dr Gáspár HSZK'!R13 -> 0 | S30: =+'8. Dr Gáspár HSZK'!S13 -> 0
B31: Csicsergő Napköziotthonos Óvoda | C31: =+'6. Csicsergő'!C13 -> 193790000 | D31: =+'6. Csicsergő'!D13 -> 193790000 | E31: =+'6. Csicsergő'!E13 -> 193790000 | F31: =+'6. Csicsergő'!F13 -> 0 | H31: =+'6. Csicsergő'!H13 -> 90223993 | I31: =+'6. Csicsergő'!I13 -> 137245051 | J31: =+'6. Csicsergő'!J13 -> 0 | P31: =+'6. Csicsergő'!P13 -> 0 | Q31: =+'6. Csicsergő'!Q13 -> 0 | R31: =+'6. Csicsergő'!R13 -> 0 | S31: =+'6. Csicsergő'!S13 -> 0
B32: Gólyahír Bőlcsőde | C32: =+'5. Gólyahír'!C13 -> 70787000 | D32: =+'5. Gólyahír'!D13 -> 70787000 | E32: =+'5. Gólyahír'!E13 -> 70787000 | F32: =+'5. Gólyahír'!F13 -> 0 | H32: =+'5. Gólyahír'!H13 -> 33440240 | I32: =+'5. Gólyahír'!I13 -> 52226930 | J32: =+'5. Gólyahír'!J13 -> 0 | P32: =+'5. Gólyahír'!P13 -> 0 | Q32: =+'5. Gólyahír'!Q13 -> 0 | R32: =+'5. Gólyahír'!R13 -> 0 | S32: =+'5. Gólyahír'!S13 -> 0
B33: Polgármesteri Hivatal | C33: =+'4. Polg.Hiv.'!C13 -> 136770000 | D33: =+'4. Polg.Hiv.'!D13 -> 138910000 | E33: =+'4. Polg.Hiv.'!E13 -> 138910000 | F33: =+'4. Polg.Hiv.'!F13 -> 0 | H33: =+'4. Polg.Hiv.'!H13 -> 73242121 | I33: =+'4. Polg.Hiv.'!I13 -> 105852857 | J33: =+'4. Polg.Hiv.'!J13 -> 0 | P33: =+'4. Polg.Hiv.'!P13 -> 2140000 | Q33: =+'4. Polg.Hiv.'!Q13 -> 0 | R33: =+'4. Polg.Hiv.'!R13 -> 0 | S33: =+'4. Polg.Hiv.'!S13 -> 2140000
B34: Wass Albert Művelődési Központ és Könyvtár | C34: =+'7. WAMKK'!C13 -> 20982000 | D34: =+'7. WAMKK'!D13 -> 20982000 | E34: =+'7. WAMKK'!E13 -> 20982000 | F34: =+'7. WAMKK'!F13 -> 0 | H34: =+'7. WAMKK'!H13 -> 8356256 | I34: =+'7. WAMKK'!I13 -> 12538644 | J34: =+'7. WAMKK'!J13 -> 0 | P34: =+'7. WAMKK'!P13 -> 0 | Q34: =+'7. WAMKK'!Q13 -> 0 | R34: =+'7. WAMKK'!R13 -> 0 | S34: =+'7. WAMKK'!S13 -> 0
B35: Központi Konyha | C35: =+'9. Közp. Konyha'!C13 -> 37575000 | D35: =+'9. Közp. Konyha'!D13 -> 37575000 | E35: =+'9. Közp. Konyha'!E13 -> 37773000 | F35: =+'9. Közp. Konyha'!F13 -> 0 | H35: =+'9. Közp. Konyha'!H13 -> 19315155 | I35: =+'9. Közp. Konyha'!I13 -> 28899369 | J35: =+'9. Közp. Konyha'!J13 -> 0 | P35: =+'9. Közp. Konyha'!P13 -> 0 | Q35: =+'9. Közp. Konyha'!Q13 -> 198000 | R35: =+'9. Közp. Konyha'!R13 -> 0 | S35: =+'9. Közp. Konyha'!S13 -> 198000
B36: technikai sor
A37: =+A28 -> K1 | B37: ÖSSZESEN | C37: =SUM(C29:C36) -> 590239000 | D37: =SUM(D29:D36) -> 604139000 | E37: =SUM(E29:E36) -> 604337000 | F37: =SUM(F29:F36) -> 0 | H37: =SUM(H29:H36) -> 284624783 | I37: =SUM(I29:I36) -> 436310302 | J37: =SUM(J29:J36) -> 0 | P37: =SUM(P29:P36) -> 13900000 | Q37: =SUM(Q29:Q36) -> 198000 | R37: =SUM(R29:R36) -> 0 | S37: =SUM(S29:S36) -> 14098000
A40: K2 | B40: =+'3. Önk. Kiadások'!B29 -> Munkaadót terhelő járulékok és szociális hozzájárulás
B41: =+B29 -> Sülysáp Város Önkormányzata | C41: =+'3. Önk. Kiadások'!C29 -> 13000000 | D41: =+'3. Önk. Kiadások'!D29 -> 14415000 | E41: =+'3. Önk. Kiadások'!E29 -> 14415000 | F41: =+'3. Önk. Kiadások'!F29 -> 0 | H41: =+'3. Önk. Kiadások'!H29 -> 5715394 | I41: =+'3. Önk. Kiadások'!I29 -> 9195251 | J41: =+'3. Önk. Kiadások'!J29 -> 0 | P41: =+'3. Önk. Kiadások'!P29 -> 1415000 | Q41: =+'3. Önk. Kiadások'!Q29 -> 0 | R41: =+'3. Önk. Kiadások'!R29 -> 0 | S41: =+'3. Önk. Kiadások'!S29 -> 1415000
B42: =+B30 -> Gondozási Központ | C42: =+'8. Dr Gáspár HSZK'!C29 -> 3900000 | D42: =+'8. Dr Gáspár HSZK'!D29 -> 3900000 | E42: =+'8. Dr Gáspár HSZK'!E29 -> 3900000 | F42: =+'8. Dr Gáspár HSZK'!F29 -> 0 | H42: =+'8. Dr Gáspár HSZK'!H29 -> 2020593 | I42: =+'8. Dr Gáspár HSZK'!I29 -> 3125665 | J42: =+'8. Dr Gáspár HSZK'!J29 -> 0 | P42: =+'8. Dr Gáspár HSZK'!P29 -> 0 | Q42: =+'8. Dr Gáspár HSZK'!Q29 -> 0 | R42: =+'8. Dr Gáspár HSZK'!R29 -> 0 | S42: =+'8. Dr Gáspár HSZK'!S29 -> 0
B43: =+B31 -> Csicsergő Napköziotthonos Óvoda | C43: =+'6. Csicsergő'!C30 -> 25000000 | D43: =+'6. Csicsergő'!D30 -> 25000000 | E43: =+'6. Csicsergő'!E30 -> 25000000 | F43: =+'6. Csicsergő'!F30 -> 0 | H43: =+'6. Csicsergő'!H30 -> 13078152 | I43: =+'6. Csicsergő'!I30 -> 19369353 | J43: =+'6. Csicsergő'!J30 -> 0 | P43: =+'6. Csicsergő'!P30 -> 0 | Q43: =+'6. Csicsergő'!Q30 -> 0 | R43: =+'6. Csicsergő'!R30 -> 0 | S43: =+'6. Csicsergő'!S30 -> 0
B44: =+B32 -> Gólyahír Bőlcsőde | C44: =+'5. Gólyahír'!C29 -> 9100000 | D44: =+'5. Gólyahír'!D29 -> 9100000 | E44: =+'5. Gólyahír'!E29 -> 9100000 | F44: =+'5. Gólyahír'!F29 -> 0 | H44: =+'5. Gólyahír'!H29 -> 4723238 | I44: =+'5. Gólyahír'!I29 -> 7206667 | J44: =+'5. Gólyahír'!J29 -> 0 | P44: =+'5. Gólyahír'!P29 -> 0 | Q44: =+'5. Gólyahír'!Q29 -> 0 | R44: =+'5. Gólyahír'!R29 -> 0 | S44: =+'5. Gólyahír'!S29 -> 0
B45: =+B33 -> Polgármesteri Hivatal | C45: =+'4. Polg.Hiv.'!C29 -> 17900000 | D45: =+'4. Polg.Hiv.'!D29 -> 18200308 | E45: =+'4. Polg.Hiv.'!E29 -> 18200308 | F45: =+'4. Polg.Hiv.'!F29 -> 0 | H45: =+'4. Polg.Hiv.'!H29 -> 11393724 | I45: =+'4. Polg.Hiv.'!I29 -> 15628466 | J45: =+'4. Polg.Hiv.'!J29 -> 0 | P45: =+'4. Polg.Hiv.'!P29 -> 300308 | Q45: =+'4. Polg.Hiv.'!Q29 -> 0 | R45: =+'4. Polg.Hiv.'!R29 -> 0 | S45: =+'4. Polg.Hiv.'!S29 -> 300308
B46: =+B34 -> Wass Albert Művelődési Központ és Könyvtár | C46: =+'7. WAMKK'!C29 -> 2800000 | D46: =+'7. WAMKK'!D29 -> 2800000 | E46: =+'7. WAMKK'!E29 -> 2800000 | F46: =+'7. WAMKK'!F29 -> 0 | H46: =+'7. WAMKK'!H29 -> 1183516 | I46: =+'7. WAMKK'!I29 -> 1773121 | J46: =+'7. WAMKK'!J29 -> 0 | P46: =+'7. WAMKK'!P29 -> 0 | Q46: =+'7. WAMKK'!Q29 -> 0 | R46: =+'7. WAMKK'!R29 -> 0 | S46: =+'7. WAMKK'!S29 -> 0
B47: =+B35 -> Központi Konyha | C47: =+'9. Közp. Konyha'!C29 -> 4900000 | D47: =+'9. Közp. Konyha'!D29 -> 4900000 | E47: =+'9. Közp. Konyha'!E29 -> 4900000 | F47: =+'9. Közp. Konyha'!F29 -> 0 | H47: =+'9. Közp. Konyha'!H29 -> 2617548 | I47: =+'9. Közp. Konyha'!I29 -> 3907734 | J47: =+'9. Közp. Konyha'!J29 -> 0 | P47: =+'9. Közp. Konyha'!P29 -> 0 | Q47: =+'9. Közp. Konyha'!Q29 -> 0 | R47: =+'9. Közp. Konyha'!R29 -> 0 | S47: =+'9. Közp. Konyha'!S29 -> 0
B48: technikai sor
A49: =+A40 -> K2 | B49: ÖSSZESEN | C49: =SUM(C41:C48) -> 76600000 | D49: =SUM(D41:D48) -> 78315308 | E49: =SUM(E41:E48) -> 78315308 | F49: =SUM(F41:F48) -> 0 | H49: =SUM(H41:H48) -> 40732165 | I49: =SUM(I41:I48) -> 60206257 | J49: =SUM(J41:J48) -> 0 | P49: =SUM(P41:P48) -> 1715308 | Q49: =SUM(Q41:Q48) -> 0 | R49: =SUM(R41:R48) -> 0 | S49: =SUM(S41:S48) -> 1715308
A52: K3 | B52: =+'3. Önk. Kiadások'!B32 -> Dologi kiadások
B53: =+B41 -> Sülysáp Város Önkormányzata | C53: =+'3. Önk. Kiadások'!C32 -> 217700000 | D53: =+'3. Önk. Kiadások'!D32 -> 207001305 | E53: =+'3. Önk. Kiadások'!E32 -> 208680000 | F53: =+'3. Önk. Kiadások'!F32 -> 0 | H53: =+'3. Önk. Kiadások'!H32 -> 87543418 | I53: =+'3. Önk. Kiadások'!I32 -> 121417212 | J53: =+'3. Önk. Kiadások'!J32 -> 0 | P53: =+'3. Önk. Kiadások'!P32 -> -10698695 | Q53: =+'3. Önk. Kiadások'!Q32 -> 1678695 | R53: =+'3. Önk. Kiadások'!R32 -> 0 | S53: =+'3. Önk. Kiadások'!S32 -> -9020000
B54: =+B42 -> Gondozási Központ | C54: =+'8. Dr Gáspár HSZK'!C32 -> 12060000 | D54: =+'8. Dr Gáspár HSZK'!D32 -> 12060000 | E54: =+'8. Dr Gáspár HSZK'!E32 -> 12060000 | F54: =+'8. Dr Gáspár HSZK'!F32 -> 0 | H54: =+'8. Dr Gáspár HSZK'!H32 -> 4912145 | I54: =+'8. Dr Gáspár HSZK'!I32 -> 7939130 | J54: =+'8. Dr Gáspár HSZK'!J32 -> 0 | P54: =+'8. Dr Gáspár HSZK'!P32 -> 0 | Q54: =+'8. Dr Gáspár HSZK'!Q32 -> 0 | R54: =+'8. Dr Gáspár HSZK'!R32 -> 0 | S54: =+'8. Dr Gáspár HSZK'!S32 -> 0
B55: =+B43 -> Csicsergő Napköziotthonos Óvoda | C55: =+'6. Csicsergő'!C33 -> 11646000 | D55: =+'6. Csicsergő'!D33 -> 11646000 | E55: =+'6. Csicsergő'!E33 -> 11646000 | F55: =+'6. Csicsergő'!F33 -> 0 | H55: =+'6. Csicsergő'!H33 -> 7163057 | I55: =+'6. Csicsergő'!I33 -> 9537641 | J55: =+'6. Csicsergő'!J33 -> 0 | P55: =+'6. Csicsergő'!P33 -> 0 | Q55: =+'6. Csicsergő'!Q33 -> 0 | R55: =+'6. Csicsergő'!R33 -> 0 | S55: =+'6. Csicsergő'!S33 -> 0
B56: =+B44 -> Gólyahír Bőlcsőde | C56: =+'5. Gólyahír'!C32 -> 13420000 | D56: =+'5. Gólyahír'!D32 -> 13008000 | E56: =+'5. Gólyahír'!E32 -> 15008000 | F56: =+'5. Gólyahír'!F32 -> 0 | H56: =+'5. Gólyahír'!H32 -> 6261679 | I56: =+'5. Gólyahír'!I32 -> 9741549 | J56: =+'5. Gólyahír'!J32 -> 0 | P56: =+'5. Gólyahír'!P32 -> -412000 | Q56: =+'5. Gólyahír'!Q32 -> 2000000 | R56: =+'5. Gólyahír'!R32 -> 0 | S56: =+'5. Gólyahír'!S32 -> 1588000
B57: =+B45 -> Polgármesteri Hivatal | C57: =+'4. Polg.Hiv.'!C32 -> 10760000 | D57: =+'4. Polg.Hiv.'!D32 -> 11303965 | E57: =+'4. Polg.Hiv.'!E32 -> 11303965 | F57: =+'4. Polg.Hiv.'!F32 -> 0 | H57: =+'4. Polg.Hiv.'!H32 -> 6649553 | I57: =+'4. Polg.Hiv.'!I32 -> 9705924 | J57: =+'4. Polg.Hiv.'!J32 -> 0 | P57: =+'4. Polg.Hiv.'!P32 -> 543965 | Q57: =+'4. Polg.Hiv.'!Q32 -> 0 | R57: =+'4. Polg.Hiv.'!R32 -> 0 | S57: =+'4. Polg.Hiv.'!S32 -> 543965
B58: =+B46 -> Wass Albert Művelődési Központ és Könyvtár | C58: =+'7. WAMKK'!C32 -> 18618000 | D58: =+'7. WAMKK'!D32 -> 18017555 | E58: =+'7. WAMKK'!E32 -> 31275555 | F58: =+'7. WAMKK'!F32 -> 0 | H58: =+'7. WAMKK'!H32 -> 6515355 | I58: =+'7. WAMKK'!I32 -> 21064460 | J58: =+'7. WAMKK'!J32 -> 0 | P58: =+'7. WAMKK'!P32 -> -600445 | Q58: =+'7. WAMKK'!Q32 -> 13258000 | R58: =+'7. WAMKK'!R32 -> 0 | S58: =+'7. WAMKK'!S32 -> 12657555
B59: =+B47 -> Központi Konyha | C59: =+'9. Közp. Konyha'!C32 -> 73070000 | D59: =+'9. Közp. Konyha'!D32 -> 73070000 | E59: =+'9. Közp. Konyha'!E32 -> 72394766 | F59: =+'9. Közp. Konyha'!F32 -> 0 | H59: =+'9. Közp. Konyha'!H32 -> 41796581 | I59: =+'9. Közp. Konyha'!I32 -> 55559780 | J59: =+'9. Közp. Konyha'!J32 -> 0 | P59: =+'9. Közp. Konyha'!P32 -> 0 | Q59: =+'9. Közp. Konyha'!Q32 -> -675234 | R59: =+'9. Közp. Konyha'!R32 -> 0 | S59: =+'9. Közp. Konyha'!S32 -> -675234
B60: technikai sor
A61: =+A52 -> K3 | B61: ÖSSZESEN | C61: =SUM(C53:C60) -> 357274000 | D61: =SUM(D53:D60) -> 346106825 | E61: =SUM(E53:E60) -> 362368286 | F61: =SUM(F53:F60) -> 0 | H61: =SUM(H53:H60) -> 160841788 | I61: =SUM(I53:I60) -> 234965696 | J61: =SUM(J53:J60) -> 0 | P61: =SUM(P53:P60) -> -11167175 | Q61: =SUM(Q53:Q60) -> 16261461 | R61: =SUM(R53:R60) -> 0 | S61: =SUM(S53:S60) -> 5094286
A64: K4 | B64: =+'3. Önk. Kiadások'!B81 -> Elláttotak pénzpeli juttatásai
B65: =+B53 -> Sülysáp Város Önkormányzata | C65: =+'3. Önk. Kiadások'!C81 -> 16000000 | D65: =+'3. Önk. Kiadások'!D81 -> 16000000 | E65: =+'3. Önk. Kiadások'!E81 -> 16000000 | F65: =+'3. Önk. Kiadások'!F81 -> 0 | H65: =+'3. Önk. Kiadások'!H81 -> 4998433 | I65: =+'3. Önk. Kiadások'!I81 -> 8147040 | J65: =+'3. Önk. Kiadások'!J81 -> 0 | P65: =+'3. Önk. Kiadások'!P81 -> 0 | Q65: =+'3. Önk. Kiadások'!Q81 -> 0 | R65: =+'3. Önk. Kiadások'!R81 -> 0 | S65: =+'3. Önk. Kiadások'!S81 -> 0
B66: =+B54 -> Gondozási Központ
B67: =+B55 -> Csicsergő Napköziotthonos Óvoda
B68: =+B56 -> Gólyahír Bőlcsőde
B69: =+B57 -> Polgármesteri Hivatal
B70: =+B58 -> Wass Albert Művelődési Központ és Könyvtár
B71: =+B59 -> Központi Konyha
B72: technikai sor
A73: =+A64 -> K4 | B73: ÖSSZESEN | C73: =SUM(C65:C72) -> 16000000 | D73: =SUM(D65:D72) -> 16000000 | E73: =SUM(E65:E72) -> 16000000 | F73: =SUM(F65:F72) -> 0 | H73: =SUM(H65:H72) -> 4998433 | I73: =SUM(I65:I72) -> 8147040 | J73: =SUM(J65:J72) -> 0 | P73: =SUM(P65:P72) -> 0 | Q73: =SUM(Q65:Q72) -> 0 | R73: =SUM(R65:R72) -> 0 | S73: =SUM(S65:S72) -> 0
A76: K5 | B76: =+'3. Önk. Kiadások'!B106 -> Egyéb működési célú kiadások
B77: =+B65 -> Sülysáp Város Önkormányzata | C77: =+'3. Önk. Kiadások'!C106 -> 151426315 | D77: =+'3. Önk. Kiadások'!D106 -> 221879015 | E77: =+'3. Önk. Kiadások'!E106 -> 225231315 | F77: =+'3. Önk. Kiadások'!F106 -> 0 | H77: =+'3. Önk. Kiadások'!H106 -> 91594087 | I77: =+'3. Önk. Kiadások'!I106 -> 153439419 | J77: =+'3. Önk. Kiadások'!J106 -> 0 | P77: =+'3. Önk. Kiadások'!P106 -> 70452700 | Q77: =+'3. Önk. Kiadások'!Q106 -> 3352300 | R77: =+'3. Önk. Kiadások'!R106 -> 0 | S77: =+'3. Önk. Kiadások'!S106 -> 73805000
B78: =+B66 -> Gondozási Központ
B79: =+B67 -> Csicsergő Napköziotthonos Óvoda
B80: =+B68 -> Gólyahír Bőlcsőde
B81: =+B69 -> Polgármesteri Hivatal
B82: =+B70 -> Wass Albert Művelődési Központ és Könyvtár
B83: =+B71 -> Központi Konyha
B84: technikai sor
A85: =+A76 -> K5 | B85: ÖSSZESEN | C85: =SUM(C77:C84) -> 151426315 | D85: =SUM(D77:D84) -> 221879015 | E85: =SUM(E77:E84) -> 225231315 | F85: =SUM(F77:F84) -> 0 | H85: =SUM(H77:H84) -> 91594087 | I85: =SUM(I77:I84) -> 153439419 | J85: =SUM(J77:J84) -> 0 | P85: =SUM(P77:P84) -> 70452700 | Q85: =SUM(Q77:Q84) -> 3352300 | R85: =SUM(R77:R84) -> 0 | S85: =SUM(S77:S84) -> 73805000
A88: K6 | B88: =+'3. Önk. Kiadások'!B120 -> Beruházások
B89: =+B77 -> Sülysáp Város Önkormányzata | C89: =+'3. Önk. Kiadások'!C120 -> 49230500 | D89: =+'3. Önk. Kiadások'!D120 -> 37731000 | E89: =+'3. Önk. Kiadások'!E120 -> 58830500 | F89: =+'3. Önk. Kiadások'!F120 -> 0 | H89: =+'3. Önk. Kiadások'!H120 -> 5033909 | I89: =+'3. Önk. Kiadások'!I120 -> 50216919 | J89: =+'3. Önk. Kiadások'!J120 -> 0 | P89: =+'3. Önk. Kiadások'!P120 -> -11499500 | Q89: =+'3. Önk. Kiadások'!Q120 -> 21099500 | R89: =+'3. Önk. Kiadások'!R120 -> 0 | S89: =+'3. Önk. Kiadások'!S120 -> 9600000
B90: =+B78 -> Gondozási Központ | C90: =+'8. Dr Gáspár HSZK'!C83 -> 4650000 | D90: =+'8. Dr Gáspár HSZK'!D83 -> 4650000 | E90: =+'8. Dr Gáspár HSZK'!E83 -> 4650000 | F90: =+'8. Dr Gáspár HSZK'!F83 -> 0 | H90: =+'8. Dr Gáspár HSZK'!H83 -> 1004214 | I90: =+'8. Dr Gáspár HSZK'!I83 -> 3704214 | J90: =+'8. Dr Gáspár HSZK'!J83 -> 0 | P90: =+'8. Dr Gáspár HSZK'!P83 -> 0 | Q90: =+'8. Dr Gáspár HSZK'!Q83 -> 0 | R90: =+'8. Dr Gáspár HSZK'!R83 -> 0 | S90: =+'8. Dr Gáspár HSZK'!S83 -> 0
B91: =+B79 -> Csicsergő Napköziotthonos Óvoda | C91: =+'6. Csicsergő'!C84 -> 3150000 | D91: =+'6. Csicsergő'!D84 -> 3150000 | E91: =+'6. Csicsergő'!E84 -> 3150000 | F91: =+'6. Csicsergő'!F84 -> 0 | H91: =+'6. Csicsergő'!H84 -> 2648999 | I91: =+'6. Csicsergő'!I84 -> 2648999 | J91: =+'6. Csicsergő'!J84 -> 0 | P91: =+'6. Csicsergő'!P84 -> 0 | Q91: =+'6. Csicsergő'!Q84 -> 0 | R91: =+'6. Csicsergő'!R84 -> 0 | S91: =+'6. Csicsergő'!S84 -> 0
B92: =+B80 -> Gólyahír Bőlcsőde | C92: =+'5. Gólyahír'!C83 -> 650000 | D92: =+'5. Gólyahír'!D83 -> 1062000 | E92: =+'5. Gólyahír'!E83 -> 1062000 | F92: =+'5. Gólyahír'!F83 -> 0 | H92: =+'5. Gólyahír'!H83 -> 664685 | I92: =+'5. Gólyahír'!I83 -> 1060925 | J92: =+'5. Gólyahír'!J83 -> 0 | P92: =+'5. Gólyahír'!P83 -> 412000 | Q92: =+'5. Gólyahír'!Q83 -> 0 | R92: =+'5. Gólyahír'!R83 -> 0 | S92: =+'5. Gólyahír'!S83 -> 412000
B93: =+B81 -> Polgármesteri Hivatal | C93: =+'4. Polg.Hiv.'!C83 -> 2000000 | D93: =+'4. Polg.Hiv.'!D83 -> 2000000 | E93: =+'4. Polg.Hiv.'!E83 -> 2000000 | F93: =+'4. Polg.Hiv.'!F83 -> 0 | H93: =+'4. Polg.Hiv.'!H83 -> 1611855 | I93: =+'4. Polg.Hiv.'!I83 -> 1611855 | J93: =+'4. Polg.Hiv.'!J83 -> 0 | P93: =+'4. Polg.Hiv.'!P83 -> 0 | Q93: =+'4. Polg.Hiv.'!Q83 -> 0 | R93: =+'4. Polg.Hiv.'!R83 -> 0 | S93: =+'4. Polg.Hiv.'!S83 -> 0
B94: =+B82 -> Wass Albert Művelődési Központ és Könyvtár | C94: =+'7. WAMKK'!C83 -> 10600000 | D94: =+'7. WAMKK'!D83 -> 11200445 | E94: =+'7. WAMKK'!E83 -> 1942445 | F94: =+'7. WAMKK'!F83 -> 0 | H94: =+'7. WAMKK'!H83 -> 724177 | I94: =+'7. WAMKK'!I83 -> 1699567 | J94: =+'7. WAMKK'!J83 -> 0 | P94: =+'7. WAMKK'!P83 -> 600445 | Q94: =+'7. WAMKK'!Q83 -> -9258000 | R94: =+'7. WAMKK'!R83 -> 0 | S94: =+'7. WAMKK'!S83 -> -8657555
B95: =+B83 -> Központi Konyha | C95: =+'9. Közp. Konyha'!C83 -> 0 | D95: =+'9. Közp. Konyha'!D83 -> 0 | E95: =+'9. Közp. Konyha'!E83 -> 477234 | F95: =+'9. Közp. Konyha'!F83 -> 0 | H95: =+'9. Közp. Konyha'!H83 -> 0 | I95: =+'9. Közp. Konyha'!I83 -> 477234 | J95: =+'9. Közp. Konyha'!J83 -> 0 | P95: =+'9. Közp. Konyha'!P83 -> 0 | Q95: =+'9. Közp. Konyha'!Q83 -> 477234 | R95: =+'9. Közp. Konyha'!R83 -> 0 | S95: =+'9. Közp. Konyha'!S83 -> 477234
B96: technikai sor
A97: =+A88 -> K6 | B97: ÖSSZESEN | C97: =SUM(C89:C96) -> 70280500 | D97: =SUM(D89:D96) -> 59793445 | E97: =SUM(E89:E96) -> 72112179 | F97: =SUM(F89:F96) -> 0 | H97: =SUM(H89:H96) -> 11687839 | I97: =SUM(I89:I96) -> 61419713 | J97: =SUM(J89:J96) -> 0 | P97: =SUM(P89:P96) -> -10487055 | Q97: =SUM(Q89:Q96) -> 12318734 | R97: =SUM(R89:R96) -> 0 | S97: =SUM(S89:S96) -> 1831679
A100: K7 | B100: =+'3. Önk. Kiadások'!B129 -> Felújítások
B101: =+B89 -> Sülysáp Város Önkormányzata | C101: =+'3. Önk. Kiadások'!C129 -> 83452445 | D101: =+'3. Önk. Kiadások'!D129 -> 83452445 | E101: =+'3. Önk. Kiadások'!E129 -> 83452445 | F101: =+'3. Önk. Kiadások'!F129 -> 0 | H101: =+'3. Önk. Kiadások'!H129 -> 32771553 | I101: =+'3. Önk. Kiadások'!I129 -> 35385584 | J101: =+'3. Önk. Kiadások'!J129 -> 0 | P101: =+'3. Önk. Kiadások'!P129 -> 0 | Q101: =+'3. Önk. Kiadások'!Q129 -> 0 | R101: =+'3. Önk. Kiadások'!R129 -> 0 | S101: =+'3. Önk. Kiadások'!S129 -> 0
B102: =+B90 -> Gondozási Központ | C102: =+'8. Dr Gáspár HSZK'!C86 -> 0 | D102: =+'8. Dr Gáspár HSZK'!D86 -> 0 | E102: =+'8. Dr Gáspár HSZK'!E86 -> 0 | F102: =+'8. Dr Gáspár HSZK'!F86 -> 0 | H102: =+'8. Dr Gáspár HSZK'!H86 -> 0 | I102: =+'8. Dr Gáspár HSZK'!I86 -> 0 | J102: =+'8. Dr Gáspár HSZK'!J86 -> 0 | P102: =+'8. Dr Gáspár HSZK'!P86 -> 0 | Q102: =+'8. Dr Gáspár HSZK'!Q86 -> 0 | R102: =+'8. Dr Gáspár HSZK'!R86 -> 0 | S102: =+'8. Dr Gáspár HSZK'!S86 -> 0
B103: =+B91 -> Csicsergő Napköziotthonos Óvoda | C103: =+'6. Csicsergő'!C87 -> 0 | D103: =+'6. Csicsergő'!D87 -> 0 | E103: =+'6. Csicsergő'!E87 -> 0 | F103: =+'6. Csicsergő'!F87 -> 0 | H103: =+'6. Csicsergő'!H87 -> 0 | I103: =+'6. Csicsergő'!I87 -> 0 | J103: =+'6. Csicsergő'!J87 -> 0 | P103: =+'6. Csicsergő'!P87 -> 0 | Q103: =+'6. Csicsergő'!Q87 -> 0 | R103: =+'6. Csicsergő'!R87 -> 0 | S103: =+'6. Csicsergő'!S87 -> 0
B104: =+B92 -> Gólyahír Bőlcsőde | C104: =+'5. Gólyahír'!C86 -> 0 | D104: =+'5. Gólyahír'!D86 -> 0 | E104: =+'5. Gólyahír'!E86 -> 0 | F104: =+'5. Gólyahír'!F86 -> 0 | H104: =+'5. Gólyahír'!H86 -> 0 | I104: =+'5. Gólyahír'!I86 -> 0 | J104: =+'5. Gólyahír'!J86 -> 0 | P104: =+'5. Gólyahír'!P86 -> 0 | Q104: =+'5. Gólyahír'!Q86 -> 0 | R104: =+'5. Gólyahír'!R86 -> 0 | S104: =+'5. Gólyahír'!S86 -> 0
B105: =+B93 -> Polgármesteri Hivatal | C105: =+'4. Polg.Hiv.'!C86 -> 0 | D105: =+'4. Polg.Hiv.'!D86 -> 0 | E105: =+'4. Polg.Hiv.'!E86 -> 0 | F105: =+'4. Polg.Hiv.'!F86 -> 0 | H105: =+'4. Polg.Hiv.'!H86 -> 0 | I105: =+'4. Polg.Hiv.'!I86 -> 0 | J105: =+'4. Polg.Hiv.'!J86 -> 0 | P105: =+'4. Polg.Hiv.'!P86 -> 0 | Q105: =+'4. Polg.Hiv.'!Q86 -> 0 | R105: =+'4. Polg.Hiv.'!R86 -> 0 | S105: =+'4. Polg.Hiv.'!S86 -> 0
B106: =+B94 -> Wass Albert Művelődési Központ és Könyvtár | C106: =+'7. WAMKK'!C86 -> 0 | D106: =+'7. WAMKK'!D86 -> 0 | E106: =+'7. WAMKK'!E86 -> 0 | F106: =+'7. WAMKK'!F86 -> 0 | H106: =+'7. WAMKK'!H86 -> 0 | I106: =+'7. WAMKK'!I86 -> 0 | J106: =+'7. WAMKK'!J86 -> 0 | P106: =+'7. WAMKK'!P86 -> 0 | Q106: =+'7. WAMKK'!Q86 -> 0 | R106: =+'7. WAMKK'!R86 -> 0 | S106: =+'7. WAMKK'!S86 -> 0
B107: =+B95 -> Központi Konyha | C107: =+'9. Közp. Konyha'!C86 -> 0 | D107: =+'9. Közp. Konyha'!D86 -> 0 | E107: =+'9. Közp. Konyha'!E86 -> 0 | F107: =+'9. Közp. Konyha'!F86 -> 0 | H107: =+'9. Közp. Konyha'!H86 -> 0 | I107: =+'9. Közp. Konyha'!I86 -> 0 | J107: =+'9. Közp. Konyha'!J86 -> 0 | P107: =+'9. Közp. Konyha'!P86 -> 0 | Q107: =+'9. Közp. Konyha'!Q86 -> 0 | R107: =+'9. Közp. Konyha'!R86 -> 0 | S107: =+'9. Közp. Konyha'!S86 -> 0
B108: technikai sor
A109: =+A100 -> K7 | B109: ÖSSZESEN | C109: =SUM(C101:C108) -> 83452445 | D109: =SUM(D101:D108) -> 83452445 | E109: =SUM(E101:E108) -> 83452445 | F109: =SUM(F101:F108) -> 0 | H109: =SUM(H101:H108) -> 32771553 | I109: =SUM(I101:I108) -> 35385584 | J109: =SUM(J101:J108) -> 0 | P109: =SUM(P101:P108) -> 0 | Q109: =SUM(Q101:Q108) -> 0 | R109: =SUM(R101:R108) -> 0 | S109: =SUM(S101:S108) -> 0
A112: K8 | B112: =+'3. Önk. Kiadások'!B135 -> Egyéb felhalmozási célú kiadások
B113: =+B101 -> Sülysáp Város Önkormányzata | C113: =+'3. Önk. Kiadások'!C135 -> 0 | D113: =+'3. Önk. Kiadások'!D135 -> 44000 | E113: =+'3. Önk. Kiadások'!E135 -> 190000 | F113: =+'3. Önk. Kiadások'!F135 -> 0 | H113: =+'3. Önk. Kiadások'!H135 -> 43039 | I113: =+'3. Önk. Kiadások'!I135 -> 188702 | J113: =+'3. Önk. Kiadások'!J135 -> 0 | P113: =+'3. Önk. Kiadások'!P135 -> 44000 | Q113: =+'3. Önk. Kiadások'!Q135 -> 146000 | R113: =+'3. Önk. Kiadások'!R135 -> 0 | S113: =+'3. Önk. Kiadások'!S135 -> 190000
B114: =+B102 -> Gondozási Központ
B115: =+B103 -> Csicsergő Napköziotthonos Óvoda
B116: =+B104 -> Gólyahír Bőlcsőde
B117: =+B105 -> Polgármesteri Hivatal
B118: =+B106 -> Wass Albert Művelődési Központ és Könyvtár
B119: =+B107 -> Központi Konyha
B120: technikai sor
A121: =+A112 -> K8 | B121: ÖSSZESEN | C121: =SUM(C113:C120) -> 0 | D121: =SUM(D113:D120) -> 44000 | E121: =SUM(E113:E120) -> 190000 | F121: =SUM(F113:F120) -> 0 | H121: =SUM(H113:H120) -> 43039 | I121: =SUM(I113:I120) -> 188702 | J121: =SUM(J113:J120) -> 0 | P121: =SUM(P113:P120) -> 44000 | Q121: =SUM(Q113:Q120) -> 146000 | R121: =SUM(R113:R120) -> 0 | S121: =SUM(S113:S120) -> 190000
A124: K9 | B124: =+'3. Önk. Kiadások'!B145 -> Finanszírozási kiadások
B125: =+B113 -> Sülysáp Város Önkormányzata | C125: =+'3. Önk. Kiadások'!C145 -> 675998039 | D125: =+'3. Önk. Kiadások'!D145 -> 676652534 | E125: =+'3. Önk. Kiadások'!E145 -> 682652534 | F125: =+'3. Önk. Kiadások'!F145 -> 0 | H125: =+'3. Önk. Kiadások'!H145 -> 347736936 | I125: =+'3. Önk. Kiadások'!I145 -> 515503086 | J125: =+'3. Önk. Kiadások'!J145 -> 0 | P125: =+'3. Önk. Kiadások'!P145 -> 654495 | Q125: =+'3. Önk. Kiadások'!Q145 -> 6000000 | R125: =+'3. Önk. Kiadások'!R145 -> 0 | S125: =+'3. Önk. Kiadások'!S145 -> 6654495
B126: =+B114 -> Gondozási Központ
...

Sheet bevételi segédtábla
A1: BEVÉTELI SEGÉDTÁBLA | J1: =+'1. Sülysáp összesen'!J1 -> 2022. III. Negyedéves költségvetési beszámoló
C7: ELŐIRÁNYZAT | H7: FELHASZNÁLÁS | P7: előirányzat(ok) változása
H8: Ft-ban | L8: %-ban | P8: =+'1. Sülysáp összesen'!P8 -> 1 | Q8: =+' 2. Önk. Bevételek'!Q8 -> 1 | R8: =+'1. Sülysáp összesen'!R8 -> 0
B9: BEVÉTELEK ÖSSZESEN | C9: =+C22 -> 1369849619 | D9: =+D22 -> 1434961892 | E9: =+E22 -> 1467238387 | F9: =+F22 -> 0 | H9: =+H22 -> 1412569508 | I9: =+I22 -> 1774693801 | J9: =+J22 -> 0 | L9: =IF(D9=0,0,H9/D9) -> 0.98439514 | M9: =IF(E9=0,0,I9/E9) -> 1.209547 | N9: =IF(F9=0,0,J9/F9) -> 0 | P9: =IF(D9>0,+D9-C9,0) -> 65112273 | Q9: =IF(E9>0,+E9-D9,0) -> 32276495 | R9: =IF(F9>0,+F9-E9,0) -> 0 | S9: =+P9*P$8+Q9*Q$8+R9*R$8 -> 97388768 | T9: =+S9/C9 -> 0.071094496 | V9: =+S9-E9+C9 -> 0
A11: Rovat | B11: Megnevezés | C11: Eredeti előirányzat 2022.01.01 | D11: Módosított előirányzat 2022.06.30 | E11: Módosított előirányzat 2022.09.30 | F11: Módosított előirányzat 2022.12.31 | H11: 2022.06.30-ig tényleges felhasználás | I11: 2022.09.30-ig tényleges felhasználás | J11: 2022.12.31-ig tényleges felhasználás | L11: 2022.06.30-i felhasználás eredeti előir-hoz képest | M11: 2022.09.30-i felhasználás 2022.06.30-i módosított előir-hoz képest | N11: 2022.12.31-i felhasználás 2022.09.30-i módosított előir-hoz képest | P11: a 2022.06.30-i az eredetihez képest | Q11: a 2022.09.30-i a 2022.06.30-ihoz képest | R11: a 2022.12.31-i a 2022.09.30-ihoz képest | S11: előirányzatok változása összesen | T11: előirányzatok változása eredetihez képest
A13: B1 | B13: Működési célú tám-ok államháztartáson belülről | C13: =+C36 -> 780199287 | D13: =+D36 -> 783370506 | E13: =+E36 -> 812937448 | F13: =+F36 -> 0 | H13: =+H36 -> 426403824 | I13: =+I36 -> 615282212 | J13: =+J36 -> 0 | L13: =IF(D13=0,0,H13/D13) -> 0.54431948 | M13: =IF(E13=0,0,I13/E13) -> 0.75686292 | N13: =IF(F13=0,0,J13/F13) -> 0 | P13: =+(D13-C13)*P$8 -> 3171219 | Q13: =+(E13-D13)*Q$8 -> 29566942 | R13: =+(F13-E13)*R$8 -> 0 | S13: =+P13*P$8+Q13*Q$8+R13*R$8 -> 32738161 | T13: =IF(C13=0,0,+S13/C13) -> 0.04196128 | V13: =+S13-E13+C13 -> 0
A14: B2 | B14: Felhalmozási célú tám-ok államházt-on belülről | C14: =+C48 -> 70000000 | D14: =+D48 -> 69813054 | E14: =+E48 -> 69813054 | F14: =+F48 -> 0 | H14: =+H48 -> 335582001 | I14: =+I48 -> 359844539 | J14: =+J48 -> 0 | L14: =IF(D14=0,0,H14/D14) -> 4.8068661 | M14: =IF(E14=0,0,I14/E14) -> 5.1544019 | N14: =IF(F14=0,0,J14/F14) -> 0 | P14: =+(D14-C14)*P$8 -> -186946 | Q14: =+(E14-D14)*Q$8 -> 0 | R14: =+(F14-E14)*R$8 -> 0 | S14: =+P14*P$8+Q14*Q$8+R14*R$8 -> -186946 | T14: =IF(C14=0,0,+S14/C14) -> -0.0026706571 | V14: =+S14-E14+C14 -> 0
A15: B3 | B15: Közhatalmi bevételek | C15: =+C60 -> 200000000 | D15: =+D60 -> 200000000 | E15: =+E60 -> 200000000 | F15: =+F60 -> 0 | H15: =+H60 -> 122999106 | I15: =+I60 -> 223760794 | J15: =+J60 -> 0 | L15: =IF(D15=0,0,H15/D15) -> 0.61499553 | M15: =IF(E15=0,0,I15/E15) -> 1.118804 | N15: =IF(F15=0,0,J15/F15) -> 0 | P15: =+(D15-C15)*P$8 -> 0 | Q15: =+(E15-D15)*Q$8 -> 0 | R15: =+(F15-E15)*R$8 -> 0 | S15: =+P15*P$8+Q15*Q$8+R15*R$8 -> 0 | T15: =IF(C15=0,0,+S15/C15) -> 0 | V15: =+S15-E15+C15 -> 0
A16: B4 | B16: Működési bevételek | C16: =+C72 -> 101501530 | D16: =+D72 -> 101501530 | E16: =+E72 -> 101501530 | F16: =+F72 -> 0 | H16: =+H72 -> 63438970 | I16: =+I72 -> 102607737 | J16: =+J72 -> 0 | L16: =IF(D16=0,0,H16/D16) -> 0.62500506 | M16: =IF(E16=0,0,I16/E16) -> 1.0108984 | N16: =IF(F16=0,0,J16/F16) -> 0 | P16: =+(D16-C16)*P$8 -> 0 | Q16: =+(E16-D16)*Q$8 -> 0 | R16: =+(F16-E16)*R$8 -> 0 | S16: =+P16*P$8+Q16*Q$8+R16*R$8 -> 0 | T16: =IF(C16=0,0,+S16/C16) -> 0 | V16: =+S16-E16+C16 -> 0
A17: B5 | B17: Felhalmozási bevételek | C17: =+C84 -> 61100000 | D17: =+D84 -> 123228000 | E17: =+E84 -> 125937553 | F17: =+F84 -> 0 | H17: =+H84 -> 143069306 | I17: =+I84 -> 151653949 | J17: =+J84 -> 0 | L17: =IF(D17=0,0,H17/D17) -> 1.161013 | M17: =IF(E17=0,0,I17/E17) -> 1.2041996 | N17: =IF(F17=0,0,J17/F17) -> 0 | P17: =+(D17-C17)*P$8 -> 62128000 | Q17: =+(E17-D17)*Q$8 -> 2709553 | R17: =+(F17-E17)*R$8 -> 0 | S17: =+P17*P$8+Q17*Q$8+R17*R$8 -> 64837553 | T17: =IF(C17=0,0,+S17/C17) -> 1.0611711 | V17: =+S17-E17+C17 -> 0
A18: B6 | B18: Működési célú átvett pénzeszközök | C18: =+C96 -> 0 | D18: =+D96 -> 0 | E18: =+E96 -> 0 | F18: =+F96 -> 0 | H18: =+H96 -> 161668810 | I18: =+I96 -> 161668810 | J18: =+J96 -> 0 | L18: =IF(D18=0,0,H18/D18) -> 0 | M18: =IF(E18=0,0,I18/E18) -> 0 | N18: =IF(F18=0,0,J18/F18) -> 0 | P18: =+(D18-C18)*P$8 -> 0 | Q18: =+(E18-D18)*Q$8 -> 0 | R18: =+(F18-E18)*R$8 -> 0 | S18: =+P18*P$8+Q18*Q$8+R18*R$8 -> 0 | T18: =IF(C18=0,0,+S18/C18) -> 0 | V18: =+S18-E18+C18 -> 0
A19: B7 | B19: Felhalmozási célú átvett pénzeszközök | C19: =+C108 -> 0 | D19: =+D108 -> 0 | E19: =+E108 -> 0 | F19: =+F108 -> 0 | H19: =+H108 -> 1704190 | I19: =+I108 -> 2172463 | J19: =+J108 -> 0 | L19: =IF(D19=0,0,H19/D19) -> 0 | M19: =IF(E19=0,0,I19/E19) -> 0 | N19: =IF(F19=0,0,J19/F19) -> 0 | P19: =+(D19-C19)*P$8 -> 0 | Q19: =+(E19-D19)*Q$8 -> 0 | R19: =+(F19-E19)*R$8 -> 0 | S19: =+P19*P$8+Q19*Q$8+R19*R$8 -> 0 | T19: =IF(C19=0,0,+S19/C19) -> 0 | V19: =+S19-E19+C19 -> 0
A20: B8 | B20: Finanszírozási bevételek | C20: =+C120 -> 808469482 | D20: =+D120 -> 808469482 | E20: =+E120 -> 814469482 | F20: =+F120 -> 0 | H20: =+H120 -> 480208383 | I20: =+I120 -> 647974529 | J20: =+J120 -> 0 | L20: =IF(D20=0,0,H20/D20) -> 0.59397218 | M20: =IF(E20=0,0,I20/E20) -> 0.79557865 | N20: =IF(F20=0,0,J20/F20) -> 0 | P20: =+P120 -> 0 | Q20: =+Q120 -> 6000000 | R20: =+R120 -> 0 | S20: =+P20*P$8+Q20*Q$8+R20*R$8 -> 6000000 | T20: =IF(C20=0,0,+S20/C20) -> 0.0074214304 | V20: =+S20-E20+C20 -> 0
B21: intézményi finanszírozás miatti korrekció | C21: =-C144 -> -651420680 | D21: =-D144 -> -651420680 | E21: =-E144 -> -657420680 | F21: =-F144 -> 0 | H21: =-H144 -> -322505082 | I21: =-I144 -> -490271232 | J21: =-J144 -> 0 | L21: =IF(D21=0,0,H21/D21) -> 0.49507959 | M21: =IF(E21=0,0,I21/E21) -> 0.74574963 | N21: =IF(F21=0,0,J21/F21) -> 0 | P21: =-P144 -> 0 | Q21: =-Q144 -> -6000000 | R21: =-R144 -> 0 | S21: =+P21*P$8+Q21*Q$8+R21*R$8 -> -6000000 | T21: =IF(C21=0,0,+S21/C21) -> 0.0092106379 | V21: =+S21-E21+C21 -> 0
B22: BEVÉTELEK ÖSSZESEN | C22: =SUM(C13:C21) -> 1369849619 | D22: =SUM(D13:D21) -> 1434961892 | E22: =SUM(E13:E21) -> 1467238387 | F22: =SUM(F13:F21) -> 0 | H22: =SUM(H13:H21) -> 1412569508 | I22: =SUM(I13:I21) -> 1774693801 | J22: =SUM(J13:J21) -> 0 | L22: =IF(D22=0,0,H22/D22) -> 0.98439514 | M22: =IF(E22=0,0,I22/E22) -> 1.209547 | N22: =IF(F22=0,0,J22/F22) -> 0 | P22: =SUM(P13:P21) -> 65112273 | Q22: =SUM(Q13:Q21) -> 32276495 | R22: =SUM(R13:R21) -> 0 | S22: =+P22*P$8+Q22*Q$8+R22*R$8 -> 97388768 | T22: =IF(C22=0,0,+S22/C22) -> 0.071094496 | V22: =+S22-E22+C22 -> 0
B23: kontroll | T23: =IF(C23=0,0,+S23/C23) -> 0 | V23: =+S23-E23+C23 -> 0
A27: B1 | B27: =+B13 -> Működési célú tám-ok államháztartáson belülről
B28: =+'3. Önk. Kiadások'!A1 -> Sülysáp Város Önkormányzata | C28: =+' 2. Önk. Bevételek'!C13 -> 780199287 | D28: =+' 2. Önk. Bevételek'!D13 -> 780386233 | E28: =+' 2. Önk. Bevételek'!E13 -> 809953175 | F28: =+' 2. Önk. Bevételek'!F13 -> 0 | G28: =+'3. Önk. Kiadások'!G13 -> 0 | H28: =+' 2. Önk. Bevételek'!H13 -> 414017409 | I28: =+' 2. Önk. Bevételek'!I13 -> 602895797 | J28: =+' 2. Önk. Bevételek'!J13 -> 0 | L28: =IF(D28=0,0,H28/D28) -> 0.53052885 | M28: =IF(E28=0,0,I28/E28) -> 0.74435883 | N28: =IF(F28=0,0,J28/F28) -> 0 | P28: =+' 2. Önk. Bevételek'!P13 -> 186946 | Q28: =+' 2. Önk. Bevételek'!Q13 -> 29566942 | R28: =+' 2. Önk. Bevételek'!R13 -> 0 | S28: =+P28*P$8+Q28*Q$8+R28*R$8 -> 29753888
B29: =+'8. Dr Gáspár HSZK'!A1 -> Dr. Gáspár István HSZK | C29: =+'8. Dr Gáspár HSZK'!C93 -> 0 | D29: =+'8. Dr Gáspár HSZK'!D93 -> 0 | E29: =+'8. Dr Gáspár HSZK'!E93 -> 0 | F29: =+'8. Dr Gáspár HSZK'!F93 -> 0 | H29: =+'8. Dr Gáspár HSZK'!H93 -> 0 | I29: =+'8. Dr Gáspár HSZK'!I93 -> 0 | J29: =+'8. Dr Gáspár HSZK'!J93 -> 0 | L29: =IF(D29=0,0,H29/D29) -> 0 | M29: =IF(E29=0,0,I29/E29) -> 0 | N29: =IF(F29=0,0,J29/F29) -> 0 | P29: =+'8. Dr Gáspár HSZK'!P93 -> 0 | Q29: =+'8. Dr Gáspár HSZK'!Q93 -> 0 | R29: =+'8. Dr Gáspár HSZK'!R93 -> 0 | S29: =+P29*P$8+Q29*Q$8+R29*R$8 -> 0
B30: =+'6. Csicsergő'!A1 -> SÜLYSÁPI CSICSERGŐ ÓVODA | C30: =+'6. Csicsergő'!C93 -> 0 | D30: =+'6. Csicsergő'!D93 -> 0 | E30: =+'6. Csicsergő'!E93 -> 0 | F30: =+'6. Csicsergő'!F93 -> 0 | H30: =+'6. Csicsergő'!H93 -> 0 | I30: =+'6. Csicsergő'!I93 -> 0 | J30: =+'6. Csicsergő'!J93 -> 0 | L30: =IF(D30=0,0,H30/D30) -> 0 | M30: =IF(E30=0,0,I30/E30) -> 0 | N30: =IF(F30=0,0,J30/F30) -> 0 | P30: =+'6. Csicsergő'!P93 -> 0 | Q30: =+'6. Csicsergő'!Q93 -> 0 | R30: =+'6. Csicsergő'!R93 -> 0 | S30: =+P30*P$8+Q30*Q$8+R30*R$8 -> 0
B31: =+'5. Gólyahír'!A1 -> GÓLYAHÍR BÖLCSŐDE | C31: =+'5. Gólyahír'!C93 -> 0 | D31: =+'5. Gólyahír'!D93 -> 0 | E31: =+'5. Gólyahír'!E93 -> 0 | F31: =+'5. Gólyahír'!F93 -> 0 | H31: =+'5. Gólyahír'!H93 -> 0 | I31: =+'5. Gólyahír'!I93 -> 0 | J31: =+'5. Gólyahír'!J93 -> 0 | L31: =IF(D31=0,0,H31/D31) -> 0 | M31: =IF(E31=0,0,I31/E31) -> 0 | N31: =IF(F31=0,0,J31/F31) -> 0 | P31: =+'5. Gólyahír'!P93 -> 0 | Q31: =+'5. Gólyahír'!Q93 -> 0 | R31: =+'5. Gólyahír'!R93 -> 0 | S31: =+P31*P$8+Q31*Q$8+R31*R$8 -> 0
B32: =+'4. Polg.Hiv.'!A1 -> POLGÁRMESTERI HIVATAL | C32: =+'4. Polg.Hiv.'!C93 -> 0 | D32: =+'4. Polg.Hiv.'!D93 -> 2984273 | E32: =+'4. Polg.Hiv.'!E93 -> 2984273 | F32: =+'4. Polg.Hiv.'!F93 -> 0 | H32: =+'4. Polg.Hiv.'!H93 -> 9331645 | I32: =+'4. Polg.Hiv.'!I93 -> 9331645 | J32: =+'4. Polg.Hiv.'!J93 -> 0 | L32: =IF(D32=0,0,H32/D32) -> 3.1269408 | M32: =IF(E32=0,0,I32/E32) -> 3.1269408 | N32: =IF(F32=0,0,J32/F32) -> 0 | P32: =+'4. Polg.Hiv.'!P93 -> 2984273 | Q32: =+'4. Polg.Hiv.'!Q93 -> 0 | R32: =+'4. Polg.Hiv.'!R93 -> 0 | S32: =+P32*P$8+Q32*Q$8+R32*R$8 -> 2984273
B33: =+'7. WAMKK'!A1 -> Wass Albert Művelődési Központ és Könyvtár | C33: =+'7. WAMKK'!C93 -> 0 | D33: =+'7. WAMKK'!D93 -> 0 | E33: =+'7. WAMKK'!E93 -> 0 | F33: =+'7. WAMKK'!F93 -> 0 | H33: =+'7. WAMKK'!H93 -> 3054770 | I33: =+'7. WAMKK'!I93 -> 3054770 | J33: =+'7. WAMKK'!J93 -> 0 | L33: =IF(D33=0,0,H33/D33) -> 0 | M33: =IF(E33=0,0,I33/E33) -> 0 | N33: =IF(F33=0,0,J33/F33) -> 0 | P33: =+'7. WAMKK'!P93 -> 0 | Q33: =+'7. WAMKK'!Q93 -> 0 | R33: =+'7. WAMKK'!R93 -> 0 | S33: =+P33*P$8+Q33*Q$8+R33*R$8 -> 0
B34: =+'9. Közp. Konyha'!A1 -> Központi Konyha | C34: =+'9. Közp. Konyha'!C93 -> 0 | D34: =+'9. Közp. Konyha'!D93 -> 0 | E34: =+'9. Közp. Konyha'!E93 -> 0 | F34: =+'9. Közp. Konyha'!F93 -> 0 | H34: =+'9. Közp. Konyha'!H93 -> 0 | I34: =+'9. Közp. Konyha'!I93 -> 0 | J34: =+'9. Közp. Konyha'!J93 -> 0 | L34: =IF(D34=0,0,H34/D34) -> 0 | M34: =IF(E34=0,0,I34/E34) -> 0 | N34: =IF(F34=0,0,J34/F34) -> 0 | P34: =+'9. Közp. Konyha'!P93 -> 0 | Q34: =+'9. Közp. Konyha'!Q93 -> 0 | R34: =+'9. Közp. Konyha'!R93 -> 0 | S34: =+P34*P$8+Q34*Q$8+R34*R$8 -> 0
B35: technikai sor
A36: =+A27 -> B1 | B36: ÖSSZESEN | C36: =SUM(C28:C35) -> 780199287 | D36: =SUM(D28:D35) -> 783370506 | E36: =SUM(E28:E35) -> 812937448 | F36: =SUM(F28:F35) -> 0 | H36: =SUM(H28:H35) -> 426403824 | I36: =SUM(I28:I35) -> 615282212 | J36: =SUM(J28:J35) -> 0 | L36: =IF(D36=0,0,H36/D36) -> 0.54431948 | M36: =IF(E36=0,0,I36/E36) -> 0.75686292 | N36: =IF(F36=0,0,J36/F36) -> 0 | P36: =SUM(P28:P35) -> 3171219 | Q36: =SUM(Q28:Q35) -> 29566942 | R36: =SUM(R28:R35) -> 0 | S36: =+P36*P$8+Q36*Q$8+R36*R$8 -> 32738161
A39: B2 | B39: =+B14 -> Felhalmozási célú tám-ok államházt-on belülről | S39: =+P39*P$8+Q39*Q$8+R39*R$8 -> 0
B40: =+B28 -> Sülysáp Város Önkormányzata | C40: =+' 2. Önk. Bevételek'!C30 -> 70000000 | D40: =+' 2. Önk. Bevételek'!D30 -> 69813054 | E40: =+' 2. Önk. Bevételek'!E30 -> 69813054 | F40: =+' 2. Önk. Bevételek'!F30 -> 0 | H40: =+' 2. Önk. Bevételek'!H30 -> 335582001 | I40: =+' 2. Önk. Bevételek'!I30 -> 359844539 | J40: =+' 2. Önk. Bevételek'!J30 -> 0 | L40: =IF(D40=0,0,H40/D40) -> 4.8068661 | M40: =IF(E40=0,0,I40/E40) -> 5.1544019 | N40: =IF(F40=0,0,J40/F40) -> 0 | P40: =+' 2. Önk. Bevételek'!P30 -> -186946 | Q40: =+' 2. Önk. Bevételek'!Q30 -> 0 | R40: =+' 2. Önk. Bevételek'!R30 -> 0 | S40: =+P40*P$8+Q40*Q$8+R40*R$8 -> -186946
B41: =+B29 -> Dr. Gáspár István HSZK | L41: =IF(D41=0,0,H41/D41) -> 0 | M41: =IF(E41=0,0,I41/E41) -> 0 | N41: =IF(F41=0,0,J41/F41) -> 0 | S41: =+P41*P$8+Q41*Q$8+R41*R$8 -> 0
B42: =+B30 -> SÜLYSÁPI CSICSERGŐ ÓVODA | L42: =IF(D42=0,0,H42/D42) -> 0 | M42: =IF(E42=0,0,I42/E42) -> 0 | N42: =IF(F42=0,0,J42/F42) -> 0 | S42: =+P42*P$8+Q42*Q$8+R42*R$8 -> 0
B43: =+B31 -> GÓLYAHÍR BÖLCSŐDE | L43: =IF(D43=0,0,H43/D43) -> 0 | M43: =IF(E43=0,0,I43/E43) -> 0 | N43: =IF(F43=0,0,J43/F43) -> 0 | S43: =+P43*P$8+Q43*Q$8+R43*R$8 -> 0
B44: =+B32 -> POLGÁRMESTERI HIVATAL | L44: =IF(D44=0,0,H44/D44) -> 0 | M44: =IF(E44=0,0,I44/E44) -> 0 | N44: =IF(F44=0,0,J44/F44) -> 0 | S44: =+P44*P$8+Q44*Q$8+R44*R$8 -> 0
B45: =+B33 -> Wass Albert Művelődési Központ és Könyvtár | L45: =IF(D45=0,0,H45/D45) -> 0 | M45: =IF(E45=0,0,I45/E45) -> 0 | N45: =IF(F45=0,0,J45/F45) -> 0 | S45: =+P45*P$8+Q45*Q$8+R45*R$8 -> 0
B46: =+B34 -> Központi Konyha | L46: =IF(D46=0,0,H46/D46) -> 0 | M46: =IF(E46=0,0,I46/E46) -> 0 | N46: =IF(F46=0,0,J46/F46) -> 0 | S46: =+P46*P$8+Q46*Q$8+R46*R$8 -> 0
B47: technikai sor
A48: =+A39 -> B2 | B48: ÖSSZESEN | C48: =SUM(C40:C47) -> 70000000 | D48: =SUM(D40:D47) -> 69813054 | E48: =SUM(E40:E47) -> 69813054 | F48: =SUM(F40:F47) -> 0 | H48: =SUM(H40:H47) -> 335582001 | I48: =SUM(I40:I47) -> 359844539 | J48: =SUM(J40:J47) -> 0 | L48: =IF(D48=0,0,H48/D48) -> 4.8068661 | M48: =IF(E48=0,0,I48/E48) -> 5.1544019 | N48: =IF(F48=0,0,J48/F48) -> 0 | P48: =SUM(P40:P47) -> -186946 | Q48: =SUM(Q40:Q47) -> 0 | R48: =SUM(R40:R47) -> 0 | S48: =+P48*P$8+Q48*Q$8+R48*R$8 -> -186946
A51: B3 | B51: =+B15 -> Közhatalmi bevételek
B52: =+B40 -> Sülysáp Város Önkormányzata | C52: =+' 2. Önk. Bevételek'!C39 -> 200000000 | D52: =+' 2. Önk. Bevételek'!D39 -> 200000000 | E52: =+' 2. Önk. Bevételek'!E39 -> 200000000 | F52: =+' 2. Önk. Bevételek'!F39 -> 0 | H52: =+' 2. Önk. Bevételek'!H39 -> 122999106 | I52: =+' 2. Önk. Bevételek'!I39 -> 223760794 | J52: =+' 2. Önk. Bevételek'!J39 -> 0 | L52: =IF(D52=0,0,H52/D52) -> 0.61499553 | M52: =IF(E52=0,0,I52/E52) -> 1.118804 | N52: =IF(F52=0,0,J52/F52) -> 0 | P52: =+' 2. Önk. Bevételek'!P39 -> 0 | Q52: =+' 2. Önk. Bevételek'!Q39 -> 0 | R52: =+' 2. Önk. Bevételek'!R39 -> 0 | S52: =+P52*P$8+Q52*Q$8+R52*R$8 -> 0
B53: =+B41 -> Dr. Gáspár István HSZK | L53: =IF(D53=0,0,H53/D53) -> 0 | M53: =IF(E53=0,0,I53/E53) -> 0 | N53: =IF(F53=0,0,J53/F53) -> 0 | S53: =+P53*P$8+Q53*Q$8+R53*R$8 -> 0
B54: =+B42 -> SÜLYSÁPI CSICSERGŐ ÓVODA | L54: =IF(D54=0,0,H54/D54) -> 0 | M54: =IF(E54=0,0,I54/E54) -> 0 | N54: =IF(F54=0,0,J54/F54) -> 0 | S54: =+P54*P$8+Q54*Q$8+R54*R$8 -> 0
B55: =+B43 -> GÓLYAHÍR BÖLCSŐDE | L55: =IF(D55=0,0,H55/D55) -> 0 | M55: =IF(E55=0,0,I55/E55) -> 0 | N55: =IF(F55=0,0,J55/F55) -> 0 | S55: =+P55*P$8+Q55*Q$8+R55*R$8 -> 0
B56: =+B44 -> POLGÁRMESTERI HIVATAL | L56: =IF(D56=0,0,H56/D56) -> 0 | M56: =IF(E56=0,0,I56/E56) -> 0 | N56: =IF(F56=0,0,J56/F56) -> 0 | S56: =+P56*P$8+Q56*Q$8+R56*R$8 -> 0
B57: =+B45 -> Wass Albert Művelődési Központ és Könyvtár | L57: =IF(D57=0,0,H57/D57) -> 0 | M57: =IF(E57=0,0,I57/E57) -> 0 | N57: =IF(F57=0,0,J57/F57) -> 0 | S57: =+P57*P$8+Q57*Q$8+R57*R$8 -> 0
B58: =+B46 -> Központi Konyha | L58: =IF(D58=0,0,H58/D58) -> 0 | M58: =IF(E58=0,0,I58/E58) -> 0 | N58: =IF(F58=0,0,J58/F58) -> 0 | S58: =+P58*P$8+Q58*Q$8+R58*R$8 -> 0
B59: technikai sor
A60: =+A51 -> B3 | B60: ÖSSZESEN | C60: =SUM(C52:C59) -> 200000000 | D60: =SUM(D52:D59) -> 200000000 | E60: =SUM(E52:E59) -> 200000000 | F60: =SUM(F52:F59) -> 0 | H60: =SUM(H52:H59) -> 122999106 | I60: =SUM(I52:I59) -> 223760794 | J60: =SUM(J52:J59) -> 0 | L60: =IF(D60=0,0,H60/D60) -> 0.61499553 | M60: =IF(E60=0,0,I60/E60) -> 1.118804 | N60: =IF(F60=0,0,J60/F60) -> 0 | P60: =SUM(P52:P59) -> 0 | Q60: =SUM(Q52:Q59) -> 0 | R60: =SUM(R52:R59) -> 0 | S60: =+P60*P$8+Q60*Q$8+R60*R$8 -> 0
A63: B4 | B63: =+B16 -> Működési bevételek
B64: =+B52 -> Sülysáp Város Önkormányzata | C64: =+' 2. Önk. Bevételek'!C50 -> 54050000 | D64: =+' 2. Önk. Bevételek'!D50 -> 54050000 | E64: =+' 2. Önk. Bevételek'!E50 -> 54050000 | F64: =+' 2. Önk. Bevételek'!F50 -> 0 | H64: =+' 2. Önk. Bevételek'!H50 -> 36982630 | I64: =+' 2. Önk. Bevételek'!I50 -> 62593860 | J64: =+' 2. Önk. Bevételek'!J50 -> 0 | L64: =IF(D64=0,0,H64/D64) -> 0.68422997 | M64: =IF(E64=0,0,I64/E64) -> 1.1580733 | N64: =IF(F64=0,0,J64/F64) -> 0 | P64: =+' 2. Önk. Bevételek'!P50 -> -4.6566129e-10 | Q64: =+' 2. Önk. Bevételek'!Q50 -> 0 | R64: =+' 2. Önk. Bevételek'!R50 -> 0 | S64: =+P64*P$8+Q64*Q$8+R64*R$8 -> -4.6566129e-10
B65: =+B53 -> Dr. Gáspár István HSZK | C65: =+'8. Dr Gáspár HSZK'!C95 -> 7605000 | D65: =+'8. Dr Gáspár HSZK'!D95 -> 7605000 | E65: =+'8. Dr Gáspár HSZK'!E95 -> 7605000 | F65: =+'8. Dr Gáspár HSZK'!F95 -> 0 | H65: =+'8. Dr Gáspár HSZK'!H95 -> 2960245 | I65: =+'8. Dr Gáspár HSZK'!I95 -> 4610080 | J65: =+'8. Dr Gáspár HSZK'!J95 -> 0 | L65: =IF(D65=0,0,H65/D65) -> 0.38924984 | M65: =IF(E65=0,0,I65/E65) -> 0.60619066 | N65: =IF(F65=0,0,J65/F65) -> 0 | P65: =+'8. Dr Gáspár HSZK'!P95 -> 0 | Q65: =+'8. Dr Gáspár HSZK'!Q95 -> 0 | R65: =+'8. Dr Gáspár HSZK'!R95 -> 0 | S65: =+P65*P$8+Q65*Q$8+R65*R$8 -> 0
B66: =+B54 -> SÜLYSÁPI CSICSERGŐ ÓVODA | C66: =+'6. Csicsergő'!C95 -> 5000 | D66: =+'6. Csicsergő'!D95 -> 5000 | E66: =+'6. Csicsergő'!E95 -> 5000 | F66: =+'6. Csicsergő'!F95 -> 0 | H66: =+'6. Csicsergő'!H95 -> 1920 | I66: =+'6. Csicsergő'!I95 -> 2397 | J66: =+'6. Csicsergő'!J95 -> 0 | L66: =IF(D66=0,0,H66/D66) -> 0.384 | M66: =IF(E66=0,0,I66/E66) -> 0.4794 | N66: =IF(F66=0,0,J66/F66) -> 0 | P66: =+'6. Csicsergő'!P95 -> 0 | Q66: =+'6. Csicsergő'!Q95 -> 0 | R66: =+'6. Csicsergő'!R95 -> 0 | S66: =+P66*P$8+Q66*Q$8+R66*R$8 -> 0
B67: =+B55 -> GÓLYAHÍR BÖLCSŐDE | C67: =+'5. Gólyahír'!C95 -> 4710530 | D67: =+'5. Gólyahír'!D95 -> 4710530 | E67: =+'5. Gólyahír'!E95 -> 4710530 | F67: =+'5. Gólyahír'!F95 -> 0 | H67: =+'5. Gólyahír'!H95 -> 2751764 | I67: =+'5. Gólyahír'!I95 -> 4313029 | J67: =+'5. Gólyahír'!J95 -> 0 | L67: =IF(D67=0,0,H67/D67) -> 0.58417291 | M67: =IF(E67=0,0,I67/E67) -> 0.91561438 | N67: =IF(F67=0,0,J67/F67) -> 0 | P67: =+'5. Gólyahír'!P95 -> 0 | Q67: =+'5. Gólyahír'!Q95 -> 0 | R67: =+'5. Gólyahír'!R95 -> 0 | S67: =+P67*P$8+Q67*Q$8+R67*R$8 -> 0
B68: =+B56 -> POLGÁRMESTERI HIVATAL | C68: =+'4. Polg.Hiv.'!C95 -> 10000 | D68: =+'4. Polg.Hiv.'!D95 -> 10000 | E68: =+'4. Polg.Hiv.'!E95 -> 10000 | F68: =+'4. Polg.Hiv.'!F95 -> 0 | H68: =+'4. Polg.Hiv.'!H95 -> 1548 | I68: =+'4. Polg.Hiv.'!I95 -> 3626 | J68: =+'4. Polg.Hiv.'!J95 -> 0 | L68: =IF(D68=0,0,H68/D68) -> 0.1548 | M68: =IF(E68=0,0,I68/E68) -> 0.3626 | N68: =IF(F68=0,0,J68/F68) -> 0 | P68: =+'4. Polg.Hiv.'!P95 -> 0 | Q68: =+'4. Polg.Hiv.'!Q95 -> 0 | R68: =+'4. Polg.Hiv.'!R95 -> 0 | S68: =+P68*P$8+Q68*Q$8+R68*R$8 -> 0
B69: =+B57 -> Wass Albert Művelődési Központ és Könyvtár | C69: =+'7. WAMKK'!C95 -> 821000 | D69: =+'7. WAMKK'!D95 -> 821000 | E69: =+'7. WAMKK'!E95 -> 821000 | F69: =+'7. WAMKK'!F95 -> 0 | H69: =+'7. WAMKK'!H95 -> 673005 | I69: =+'7. WAMKK'!I95 -> 906976 | J69: =+'7. WAMKK'!J95 -> 0 | L69: =IF(D69=0,0,H69/D69) -> 0.81973812 | M69: =IF(E69=0,0,I69/E69) -> 1.1047211 | N69: =IF(F69=0,0,J69/F69) -> 0 | P69: =+'7. WAMKK'!P95 -> 0 | Q69: =+'7. WAMKK'!Q95 -> 0 | R69: =+'7. WAMKK'!R95 -> 0 | S69: =+P69*P$8+Q69*Q$8+R69*R$8 -> 0
B70: =+B58 -> Központi Konyha | C70: =+'9. Közp. Konyha'!C95 -> 34300000 | D70: =+'9. Közp. Konyha'!D95 -> 34300000 | E70: =+'9. Közp. Konyha'!E95 -> 34300000 | F70: =+'9. Közp. Konyha'!F95 -> 0 | H70: =+'9. Közp. Konyha'!H95 -> 20067858 | I70: =+'9. Közp. Konyha'!I95 -> 30177769 | J70: =+'9. Közp. Konyha'!J95 -> 0 | L70: =IF(D70=0,0,H70/D70) -> 0.58506875 | M70: =IF(E70=0,0,I70/E70) -> 0.87981834 | N70: =IF(F70=0,0,J70/F70) -> 0 | P70: =+'9. Közp. Konyha'!P95 -> 0 | Q70: =+'9. Közp. Konyha'!Q95 -> 0 | R70: =+'9. Közp. Konyha'!R95 -> 0 | S70: =+P70*P$8+Q70*Q$8+R70*R$8 -> 0
B71: technikai sor
A72: =+A63 -> B4 | B72: ÖSSZESEN | C72: =SUM(C64:C71) -> 101501530 | D72: =SUM(D64:D71) -> 101501530 | E72: =SUM(E64:E71) -> 101501530 | F72: =SUM(F64:F71) -> 0 | H72: =SUM(H64:H71) -> 63438970 | I72: =SUM(I64:I71) -> 102607737 | J72: =SUM(J64:J71) -> 0 | L72: =IF(D72=0,0,H72/D72) -> 0.62500506 | M72: =IF(E72=0,0,I72/E72) -> 1.0108984 | N72: =IF(F72=0,0,J72/F72) -> 0 | P72: =SUM(P64:P71) -> -4.6566129e-10 | Q72: =SUM(Q64:Q71) -> 0 | R72: =SUM(R64:R71) -> 0 | S72: =+P72*P$8+Q72*Q$8+R72*R$8 -> -4.6566129e-10
A75: B5 | B75: =+B17 -> Felhalmozási bevételek
B76: =+B64 -> Sülysáp Város Önkormányzata | C76: =+' 2. Önk. Bevételek'!C67 -> 61100000 | D76: =+' 2. Önk. Bevételek'!D67 -> 123228000 | E76: =+' 2. Önk. Bevételek'!E67 -> 125937553 | F76: =+' 2. Önk. Bevételek'!F67 -> 0 | H76: =+' 2. Önk. Bevételek'!H67 -> 143069306 | I76: =+' 2. Önk. Bevételek'!I67 -> 151653949 | J76: =+' 2. Önk. Bevételek'!J67 -> 0 | L76: =IF(D76=0,0,H76/D76) -> 1.161013 | M76: =IF(E76=0,0,I76/E76) -> 1.2041996 | N76: =IF(F76=0,0,J76/F76) -> 0 | P76: =+' 2. Önk. Bevételek'!P67 -> 62128000 | Q76: =+' 2. Önk. Bevételek'!Q67 -> 2709553 | R76: =+' 2. Önk. Bevételek'!R67 -> 0 | S76: =+P76*P$8+Q76*Q$8+R76*R$8 -> 64837553
B77: =+B65 -> Dr. Gáspár István HSZK | L77: =IF(D77=0,0,H77/D77) -> 0 | M77: =IF(E77=0,0,I77/E77) -> 0 | N77: =IF(F77=0,0,J77/F77) -> 0 | S77: =+P77*P$8+Q77*Q$8+R77*R$8 -> 0
B78: =+B66 -> SÜLYSÁPI CSICSERGŐ ÓVODA | L78: =IF(D78=0,0,H78/D78) -> 0 | M78: =IF(E78=0,0,I78/E78) -> 0 | N78: =IF(F78=0,0,J78/F78) -> 0 | S78: =+P78*P$8+Q78*Q$8+R78*R$8 -> 0
B79: =+B67 -> GÓLYAHÍR BÖLCSŐDE | L79: =IF(D79=0,0,H79/D79) -> 0 | M79: =IF(E79=0,0,I79/E79) -> 0 | N79: =IF(F79=0,0,J79/F79) -> 0 | S79: =+P79*P$8+Q79*Q$8+R79*R$8 -> 0
B80: =+B68 -> POLGÁRMESTERI HIVATAL | L80: =IF(D80=0,0,H80/D80) -> 0 | M80: =IF(E80=0,0,I80/E80) -> 0 | N80: =IF(F80=0,0,J80/F80) -> 0 | S80: =+P80*P$8+Q80*Q$8+R80*R$8 -> 0
B81: =+B69 -> Wass Albert Művelődési Központ és Könyvtár | L81: =IF(D81=0,0,H81/D81) -> 0 | M81: =IF(E81=0,0,I81/E81) -> 0 | N81: =IF(F81=0,0,J81/F81) -> 0 | S81: =+P81*P$8+Q81*Q$8+R81*R$8 -> 0
B82: =+B70 -> Központi Konyha | L82: =IF(D82=0,0,H82/D82) -> 0 | M82: =IF(E82=0,0,I82/E82) -> 0 | N82: =IF(F82=0,0,J82/F82) -> 0 | S82: =+P82*P$8+Q82*Q$8+R82*R$8 -> 0
B83: technikai sor
A84: =+A75 -> B5 | B84: ÖSSZESEN | C84: =SUM(C76:C83) -> 61100000 | D84: =SUM(D76:D83) -> 123228000 | E84: =SUM(E76:E83) -> 125937553 | F84: =SUM(F76:F83) -> 0 | H84: =SUM(H76:H83) -> 143069306 | I84: =SUM(I76:I83) -> 151653949 | J84: =SUM(J76:J83) -> 0 | L84: =IF(D84=0,0,H84/D84) -> 1.161013 | M84: =IF(E84=0,0,I84/E84) -> 1.2041996 | N84: =IF(F84=0,0,J84/F84) -> 0 | P84: =SUM(P76:P83) -> 62128000 | Q84: =SUM(Q76:Q83) -> 2709553 | R84: =SUM(R76:R83) -> 0 | S84: =+P84*P$8+Q84*Q$8+R84*R$8 -> 64837553
A87: B6 | B87: =+B18 -> Működési célú átvett pénzeszközök
B88: =+B76 -> Sülysáp Város Önkormányzata | C88: =+' 2. Önk. Bevételek'!C72 -> 0 | D88: =+' 2. Önk. Bevételek'!D72 -> 0 | E88: =+' 2. Önk. Bevételek'!E72 -> 0 | F88: =+' 2. Önk. Bevételek'!F72 -> 0 | H88: =+' 2. Önk. Bevételek'!H72 -> 161668810 | I88: =+' 2. Önk. Bevételek'!I72 -> 161668810 | J88: =+' 2. Önk. Bevételek'!J72 -> 0 | L88: =IF(D88=0,0,H88/D88) -> 0 | M88: =IF(E88=0,0,I88/E88) -> 0 | N88: =IF(F88=0,0,J88/F88) -> 0 | P88: =+' 2. Önk. Bevételek'!P72 -> 0 | Q88: =+' 2. Önk. Bevételek'!Q72 -> 0 | R88: =+' 2. Önk. Bevételek'!R72 -> 0 | S88: =+P88*P$8+Q88*Q$8+R88*R$8 -> 0
B89: =+B77 -> Dr. Gáspár István HSZK | L89: =IF(D89=0,0,H89/D89) -> 0 | M89: =IF(E89=0,0,I89/E89) -> 0 | N89: =IF(F89=0,0,J89/F89) -> 0 | S89: =+P89*P$8+Q89*Q$8+R89*R$8 -> 0
B90: =+B78 -> SÜLYSÁPI CSICSERGŐ ÓVODA | L90: =IF(D90=0,0,H90/D90) -> 0 | M90: =IF(E90=0,0,I90/E90) -> 0 | N90: =IF(F90=0,0,J90/F90) -> 0 | S90: =+P90*P$8+Q90*Q$8+R90*R$8 -> 0
B91: =+B79 -> GÓLYAHÍR BÖLCSŐDE | L91: =IF(D91=0,0,H91/D91) -> 0 | M91: =IF(E91=0,0,I91/E91) -> 0 | N91: =IF(F91=0,0,J91/F91) -> 0 | S91: =+P91*P$8+Q91*Q$8+R91*R$8 -> 0
B92: =+B80 -> POLGÁRMESTERI HIVATAL | L92: =IF(D92=0,0,H92/D92) -> 0 | M92: =IF(E92=0,0,I92/E92) -> 0 | N92: =IF(F92=0,0,J92/F92) -> 0 | S92: =+P92*P$8+Q92*Q$8+R92*R$8 -> 0
B93: =+B81 -> Wass Albert Művelődési Központ és Könyvtár | L93: =IF(D93=0,0,H93/D93) -> 0 | M93: =IF(E93=0,0,I93/E93) -> 0 | N93: =IF(F93=0,0,J93/F93) -> 0 | S93: =+P93*P$8+Q93*Q$8+R93*R$8 -> 0
B94: =+B82 -> Központi Konyha | L94: =IF(D94=0,0,H94/D94) -> 0 | M94: =IF(E94=0,0,I94/E94) -> 0 | N94: =IF(F94=0,0,J94/F94) -> 0 | S94: =+P94*P$8+Q94*Q$8+R94*R$8 -> 0
B95: technikai sor
A96: =+A87 -> B6 | B96: ÖSSZESEN | C96: =SUM(C88:C95) -> 0 | D96: =SUM(D88:D95) -> 0 | E96: =SUM(E88:E95) -> 0 | F96: =SUM(F88:F95) -> 0 | H96: =SUM(H88:H95) -> 161668810 | I96: =SUM(I88:I95) -> 161668810 | J96: =SUM(J88:J95) -> 0 | L96: =IF(D96=0,0,H96/D96) -> 0 | M96: =IF(E96=0,0,I96/E96) -> 0 | N96: =IF(F96=0,0,J96/F96) -> 0 | P96: =SUM(P88:P95) -> 0 | Q96: =SUM(Q88:Q95) -> 0 | R96: =SUM(R88:R95) -> 0 | S96: =+P96*P$8+Q96*Q$8+R96*R$8 -> 0
A99: B7 | B99: =+B19 -> Felhalmozási célú átvett pénzeszközök
B100: =+B88 -> Sülysáp Város Önkormányzata | C100: =+' 2. Önk. Bevételek'!C76 -> 0 | D100: =+' 2. Önk. Bevételek'!D76 -> 0 | E100: =+' 2. Önk. Bevételek'!E76 -> 0 | F100: =+' 2. Önk. Bevételek'!F76 -> 0 | H100: =+' 2. Önk. Bevételek'!H76 -> 1704190 | I100: =+' 2. Önk. Bevételek'!I76 -> 2172463 | J100: =+' 2. Önk. Bevételek'!J76 -> 0 | L100: =IF(D100=0,0,H100/D100) -> 0 | M100: =IF(E100=0,0,I100/E100) -> 0 | N100: =IF(F100=0,0,J100/F100) -> 0 | P100: =+' 2. Önk. Bevételek'!P76 -> 0 | Q100: =+' 2. Önk. Bevételek'!Q76 -> 0 | R100: =+' 2. Önk. Bevételek'!R76 -> 0 | S100: =+P100*P$8+Q100*Q$8+R100*R$8 -> 0
B101: =+B89 -> Dr. Gáspár István HSZK | L101: =IF(D101=0,0,H101/D101) -> 0 | M101: =IF(E101=0,0,I101/E101) -> 0 | N101: =IF(F101=0,0,J101/F101) -> 0 | S101: =+P101*P$8+Q101*Q$8+R101*R$8 -> 0
B102: =+B90 -> SÜLYSÁPI CSICSERGŐ ÓVODA | L102: =IF(D102=0,0,H102/D102) -> 0 | M102: =IF(E102=0,0,I102/E102) -> 0 | N102: =IF(F102=0,0,J102/F102) -> 0 | S102: =+P102*P$8+Q102*Q$8+R102*R$8 -> 0
B103: =+B91 -> GÓLYAHÍR BÖLCSŐDE | L103: =IF(D103=0,0,H103/D103) -> 0 | M103: =IF(E103=0,0,I103/E103) -> 0 | N103: =IF(F103=0,0,J103/F103) -> 0 | S103: =+P103*P$8+Q103*Q$8+R103*R$8 -> 0
B104: =+B92 -> POLGÁRMESTERI HIVATAL | L104: =IF(D104=0,0,H104/D104) -> 0 | M104: =IF(E104=0,0,I104/E104) -> 0 | N104: =IF(F104=0,0,J104/F104) -> 0 | S104: =+P104*P$8+Q104*Q$8+R104*R$8 -> 0
B105: =+B93 -> Wass Albert Művelődési Központ és Könyvtár | L105: =IF(D105=0,0,H105/D105) -> 0 | M105: =IF(E105=0,0,I105/E105) -> 0 | N105: =IF(F105=0,0,J105/F105) -> 0 | S105: =+P105*P$8+Q105*Q$8+R105*R$8 -> 0
B106: =+B94 -> Központi Konyha | L106: =IF(D106=0,0,H106/D106) -> 0 | M106: =IF(E106=0,0,I106/E106) -> 0 | N106: =IF(F106=0,0,J106/F106) -> 0 | S106: =+P106*P$8+Q106*Q$8+R106*R$8 -> 0
B107: technikai sor
A108: =+A99 -> B7 | B108: ÖSSZESEN | C108: =SUM(C100:C107) -> 0 | D108: =SUM(D100:D107) -> 0 | E108: =SUM(E100:E107) -> 0 | F108: =SUM(F100:F107) -> 0 | H108: =SUM(H100:H107) -> 1704190 | I108: =SUM(I100:I107) -> 2172463 | J108: =SUM(J100:J107) -> 0 | L108: =IF(D108=0,0,H108/D108) -> 0 | M108: =IF(E108=0,0,I108/E108) -> 0 | N108: =IF(F108=0,0,J108/F108) -> 0 | P108: =SUM(P100:P107) -> 0 | Q108: =SUM(Q100:Q107) -> 0 | R108: =SUM(R100:R107) -> 0 | S108: =+P108*P$8+Q108*Q$8+R108*R$8 -> 0
A111: B8 | D111: korrekciós tétel lesz az összesítőben
B112: =+B100 -> Sülysáp Város Önkormányzata | C112: =+' 2. Önk. Bevételek'!C80 -> 141968012 | D112: =+' 2. Önk. Bevételek'!D80 -> 141968012 | E112: =+' 2. Önk. Bevételek'!E80 -> 141968012 | F112: =+' 2. Önk. Bevételek'!F80-F124 -> 0 | H112: =+' 2. Önk. Bevételek'!H80 -> 142622511 | I112: =+' 2. Önk. Bevételek'!I80 -> 142622507 | J112: =+' 2. Önk. Bevételek'!J80-J124 -> 0 | L112: =IF(D112=0,0,H112/D112) -> 1.0046102 | M112: =IF(E112=0,0,I112/E112) -> 1.0046102 | N112: =IF(F112=0,0,J112/F112) -> 0 | P112: =+' 2. Önk. Bevételek'!P80-P124 -> 0 | Q112: =+' 2. Önk. Bevételek'!Q80-Q124 -> 0 | R112: =+' 2. Önk. Bevételek'!R80-R124 -> 0 | S112: =+P112*P$8+Q112*Q$8+R112*R$8 -> 0
B113: =+B101 -> Dr. Gáspár István HSZK | C113: =+'8. Dr Gáspár HSZK'!C99 -> 42830000 | D113: =+'8. Dr Gáspár HSZK'!D99 -> 42830000 | E113: =+'8. Dr Gáspár HSZK'!E99 -> 42830000 | F113: =+'8. Dr Gáspár HSZK'!F99-F125 -> 0 | H113: =+'8. Dr Gáspár HSZK'!H99 -> 20754194 | I113: =+'8. Dr Gáspár HSZK'!I99 -> 37052307 | J113: =+'8. Dr Gáspár HSZK'!J99-J125 -> 0 | L113: =IF(D113=0,0,H113/D113) -> 0.48457142 | M113: =IF(E113=0,0,I113/E113) -> 0.86510173 | N113: =IF(F113=0,0,J113/F113) -> 0 | P113: =+'8. Dr Gáspár HSZK'!P99-P125 -> 0 | Q113: =+'8. Dr Gáspár HSZK'!Q99-Q125 -> 0 | R113: =+'8. Dr Gáspár HSZK'!R99-R125 -> 0 | S113: =+P113*P$8+Q113*Q$8+R113*R$8 -> 0
B114: =+B102 -> SÜLYSÁPI CSICSERGŐ ÓVODA | C114: =+'6. Csicsergő'!C99 -> 233581000 | D114: =+'6. Csicsergő'!D99 -> 233581000 | E114: =+'6. Csicsergő'!E99 -> 233581000 | F114: =+'6. Csicsergő'!F99-F126 -> 0 | H114: =+'6. Csicsergő'!H99 -> 116834931 | I114: =+'6. Csicsergő'!I99 -> 173535205 | J114: =+'6. Csicsergő'!J99-J126 -> 0 | L114: =IF(D114=0,0,H114/D114) -> 0.50019022 | M114: =IF(E114=0,0,I114/E114) -> 0.74293374 | N114: =IF(F114=0,0,J114/F114) -> 0 | P114: =+'6. Csicsergő'!P99-P126 -> 0 | Q114: =+'6. Csicsergő'!Q99-Q126 -> 0 | R114: =+'6. Csicsergő'!R99-R126 -> 0 | S114: =+P114*P$8+Q114*Q$8+R114*R$8 -> 0
B115: =+B103 -> GÓLYAHÍR BÖLCSŐDE | C115: =+'5. Gólyahír'!C99 -> 89246470 | D115: =+'5. Gólyahír'!D99 -> 89246470 | E115: =+'5. Gólyahír'!E99 -> 91246470 | F115: =+'5. Gólyahír'!F99-F127 -> 0 | H115: =+'5. Gólyahír'!H99 -> 45697644 | I115: =+'5. Gólyahír'!I99 -> 69566239 | J115: =+'5. Gólyahír'!J99-J127 -> 0 | L115: =IF(D115=0,0,H115/D115) -> 0.51203867 | M115: =IF(E115=0,0,I115/E115) -> 0.76239924 | N115: =IF(F115=0,0,J115/F115) -> 0 | P115: =+'5. Gólyahír'!P99-P127 -> 0 | Q115: =+'5. Gólyahír'!Q99-Q127 -> 2000000 | R115: =+'5. Gólyahír'!R99-R127 -> 0 | S115: =+P115*P$8+Q115*Q$8+R115*R$8 -> 2000000
B116: =+B104 -> POLGÁRMESTERI HIVATAL | C116: =+'4. Polg.Hiv.'!C99 -> 167420000 | D116: =+'4. Polg.Hiv.'!D99 -> 167420000 | E116: =+'4. Polg.Hiv.'!E99 -> 167420000 | F116: =+'4. Polg.Hiv.'!F99-F128 -> 0 | H116: =+'4. Polg.Hiv.'!H99 -> 91754672 | I116: =+'4. Polg.Hiv.'!I99 -> 128326114 | J116: =+'4. Polg.Hiv.'!J99-J128 -> 0 | L116: =IF(D116=0,0,H116/D116) -> 0.54805084 | M116: =IF(E116=0,0,I116/E116) -> 0.76649214 | N116: =IF(F116=0,0,J116/F116) -> 0 | P116: =+'4. Polg.Hiv.'!P99-P128 -> 0 | Q116: =+'4. Polg.Hiv.'!Q99-Q128 -> 0 | R116: =+'4. Polg.Hiv.'!R99-R128 -> 0 | S116: =+P116*P$8+Q116*Q$8+R116*R$8 -> 0
B117: =+B105 -> Wass Albert Művelődési Központ és Könyvtár | C117: =+'7. WAMKK'!C99 -> 52179000 | D117: =+'7. WAMKK'!D99 -> 52179000 | E117: =+'7. WAMKK'!E99 -> 56179000 | F117: =+'7. WAMKK'!F99-F129 -> 0 | H117: =+'7. WAMKK'!H99 -> 17216457 | I117: =+'7. WAMKK'!I99 -> 35221475 | J117: =+'7. WAMKK'!J99-J129 -> 0 | L117: =IF(D117=0,0,H117/D117) -> 0.32994992 | M117: =IF(E117=0,0,I117/E117) -> 0.62695091 | N117: =IF(F117=0,0,J117/F117) -> 0 | P117: =+'7. WAMKK'!P99-P129 -> 0 | Q117: =+'7. WAMKK'!Q99-Q129 -> 4000000 | R117: =+'7. WAMKK'!R99-R129 -> 0 | S117: =+P117*P$8+Q117*Q$8+R117*R$8 -> 4000000
B118: =+B106 -> Központi Konyha | C118: =+'9. Közp. Konyha'!C99 -> 81245000 | D118: =+'9. Közp. Konyha'!D99 -> 81245000 | E118: =+'9. Közp. Konyha'!E99 -> 81245000 | F118: =+'9. Közp. Konyha'!F99-F130 -> 0 | H118: =+'9. Közp. Konyha'!H99 -> 45327974 | I118: =+'9. Közp. Konyha'!I99 -> 61650682 | J118: =+'9. Közp. Konyha'!J99-J130 -> 0 | L118: =IF(D118=0,0,H118/D118) -> 0.55791709 | M118: =IF(E118=0,0,I118/E118) -> 0.75882432 | N118: =IF(F118=0,0,J118/F118) -> 0 | P118: =+'9. Közp. Konyha'!P99-P130 -> 0 | Q118: =+'9. Közp. Konyha'!Q99-Q130 -> 0 | R118: =+'9. Közp. Konyha'!R99-R130 -> 0 | S118: =+P118*P$8+Q118*Q$8+R118*R$8 -> 0
B119: technikai sor
A120: =+A111 -> B8 | B120: ÖSSZESEN | C120: =SUM(C112:C119) -> 808469482 | D120: =SUM(D112:D119) -> 808469482 | E120: =SUM(E112:E119) -> 814469482 | F120: =SUM(F112:F119) -> 0 | H120: =SUM(H112:H119) -> 480208383 | I120: =SUM(I112:I119) -> 647974529 | J120: =SUM(J112:J119) -> 0 | L120: =IF(D120=0,0,H120/D120) -> 0.59397218 | M120: =IF(E120=0,0,I120/E120) -> 0.79557865 | N120: =IF(F120=0,0,J120/F120) -> 0 | P120: =SUM(P112:P119) -> 0 | Q120: =SUM(Q112:Q119) -> 6000000 | R120: =SUM(R112:R119) -> 0 | S120: =+P120*P$8+Q120*Q$8+R120*R$8 -> 6000000
A123: B8-ból előző évi mardvány igénybevétele
B124: =+B112 -> Sülysáp Város Önkormányzata | C124: =+' 2. Önk. Bevételek'!C87 -> 141968012 | D124: =+' 2. Önk. Bevételek'!D87 -> 141968012 | E124: =+' 2. Önk. Bevételek'!E87 -> 141968012 | F124: =+' 2. Önk. Bevételek'!F87 -> 0 | H124: =+' 2. Önk. Bevételek'!H87 -> 141968016 | I124: =+' 2. Önk. Bevételek'!I87 -> 141968012 | J124: =+' 2. Önk. Bevételek'!J87 -> 0 | L124: =IF(D124=0,0,H124/D124) -> 1 | M124: =IF(E124=0,0,I124/E124) -> 1 | N124: =IF(F124=0,0,J124/F124) -> 0 | P124: =+' 2. Önk. Bevételek'!P87 -> 0 | Q124: =+' 2. Önk. Bevételek'!Q87 -> 0 | R124: =+' 2. Önk. Bevételek'!R87 -> 0 | S124: =+P124*P$8+Q124*Q$8+R124*R$8 -> 0
B125: =+B113 -> Dr. Gáspár István HSZK | C125: =+'8. Dr Gáspár HSZK'!C101 -> 1878080 | D125: =+'8. Dr Gáspár HSZK'!D101 -> 1878080 | E125: =+'8. Dr Gáspár HSZK'!E101 -> 1878080 | F125: =+'8. Dr Gáspár HSZK'!F101 -> 0 | H125: =+'8. Dr Gáspár HSZK'!H101 -> 1878080 | I125: =+'8. Dr Gáspár HSZK'!I101 -> 1878080 | J125: =+'8. Dr Gáspár HSZK'!J101 -> 0 | L125: =IF(D125=0,0,H125/D125) -> 1 | M125: =IF(E125=0,0,I125/E125) -> 1 | N125: =IF(F125=0,0,J125/F125) -> 0 | P125: =+'8. Dr Gáspár HSZK'!P101 -> 0 | Q125: =+'8. Dr Gáspár HSZK'!Q101 -> 0 | R125: =+'8. Dr Gáspár HSZK'!R101 -> 0 | S125: =+P125*P$8+Q125*Q$8+R125*R$8 -> 0
B126: =+B114 -> SÜLYSÁPI CSICSERGŐ ÓVODA | C126: =+'6. Csicsergő'!C101 -> 330406 | D126: =+'6. Csicsergő'!D101 -> 330406 | E126: =+'6. Csicsergő'!E101 -> 330406 | F126: =+'6. Csicsergő'!F101 -> 0 | H126: =+'6. Csicsergő'!H101 -> 330406 | I126: =+'6. Csicsergő'!I101 -> 330406 | J126: =+'6. Csicsergő'!J101 -> 0 | L126: =IF(D126=0,0,H126/D126) -> 1 | M126: =IF(E126=0,0,I126/E126) -> 1 | N126: =IF(F126=0,0,J126/F126) -> 0 | P126: =+'6. Csicsergő'!P101 -> 0 | Q126: =+'6. Csicsergő'!Q101 -> 0 | R126: =+'6. Csicsergő'!R101 -> 0 | S126: =+P126*P$8+Q126*Q$8+R126*R$8 -> 0
...

Sheet egységenkénti segédtábla
A1: Sülysáp Város Önkormányzata és intézményei | L1: ='1. Sülysáp összesen'!J1 -> 2022. III. Negyedéves költségvetési beszámoló
P4: 1 | Q4: 1 | R4: 0
C7: ELŐIRÁNYZAT | H7: FELHASZNÁLÁS | P7: előirányzat(ok) változása
H8: Ft-ban | L8: %-ban
A9: Rovat | B9: Megnevezés | C9: Eredeti előirányzat 2022.01.01 | D9: Módosított előirányzat 2022.06.30 | E9: Módosított előirányzat 2022.09.30 | F9: Módosított előirányzat 2022.12.31 | H9: 2022.06.30-ig tényleges felhasználás | I9: 2022.09.30-ig tényleges felhasználás | J9: 2022.12.31-ig tényleges felhasználás | L9: 2022.06.30-i felhasználás eredeti előir-hoz képest | M9: 2022.09.30-i felhasználás 2022.06.30-i módosított előir-hoz képest | N9: 2022.12.31-i felhasználás 2022.09.30-i módosított előir-hoz képest | P9: a 2022.06.30-i az eredetihez képest | Q9: a 2022.09.30-i a 2022.06.30-ihoz képest | R9: a 2022.12.31-i a 2022.09.30-ihoz képest | S9: előirányzatok változása összesen | T9: előirányzatok változása eredetihez képest
A11: =+'bevételi segédtábla'!B28 -> Sülysáp Város Önkormányzata
A13: K1 | B13: Személyi juttatások | C13: =+'3. Önk. Kiadások'!C13 -> 100510000 | D13: =+'3. Önk. Kiadások'!D13 -> 112270000 | E13: =+'3. Önk. Kiadások'!E13 -> 112270000 | F13: =+'3. Önk. Kiadások'!F13 -> 0 | G13: =+'3. Önk. Kiadások'!G13 -> 0 | H13: =+'3. Önk. Kiadások'!H13 -> 46032044 | I13: =+'3. Önk. Kiadások'!I13 -> 77087587 | J13: =+'3. Önk. Kiadások'!J13 -> 0 | L13: =IF(D13=0,0,H13/C13) -> 0.45798472 | M13: =IF(E13=0,0,I13/E13) -> 0.68662677 | N13: =IF(F13=0,0,J13/F13) -> 0 | P13: =+D13-C13 -> 11760000 | Q13: =+E13-D13 -> 0 | R13: =+F13-E13 -> -112270000 | S13: =+P$4*P13+Q$4*Q13*R$4*R13 -> 11760000 | T13: =IF(S13=0,0,S13/C13) -> 0.11700328
A14: K2 | B14: Munkaadót terhelő járulékok és szociális hozzájárulás | C14: =+'3. Önk. Kiadások'!C29 -> 13000000 | D14: =+'3. Önk. Kiadások'!D29 -> 14415000 | E14: =+'3. Önk. Kiadások'!E29 -> 14415000 | F14: =+'3. Önk. Kiadások'!F29 -> 0 | H14: =+'3. Önk. Kiadások'!H29 -> 5715394 | I14: =+'3. Önk. Kiadások'!I29 -> 9195251 | J14: =+'3. Önk. Kiadások'!J29 -> 0 | L14: =IF(D14=0,0,H14/C14) -> 0.43964569 | M14: =IF(E14=0,0,I14/E14) -> 0.63789462 | N14: =IF(F14=0,0,J14/F14) -> 0 | P14: =+D14-C14 -> 1415000 | Q14: =+E14-D14 -> 0 | R14: =+'3. Önk. Kiadások'!R29 -> 0 | S14: =+P$4*P14+Q$4*Q14*R$4*R14 -> 1415000 | T14: =IF(S14=0,0,S14/C14) -> 0.10884615
A15: K3 | B15: Dologi kiadások | C15: =+'3. Önk. Kiadások'!C32 -> 217700000 | D15: =+'3. Önk. Kiadások'!D32 -> 207001305 | E15: =+'3. Önk. Kiadások'!E32 -> 208680000 | F15: =+'3. Önk. Kiadások'!F32 -> 0 | H15: =+'3. Önk. Kiadások'!H32 -> 87543418 | I15: =+'3. Önk. Kiadások'!I32 -> 121417212 | J15: =+'3. Önk. Kiadások'!J32 -> 0 | L15: =IF(D15=0,0,H15/C15) -> 0.4021287 | M15: =IF(E15=0,0,I15/E15) -> 0.58183445 | N15: =IF(F15=0,0,J15/F15) -> 0 | P15: =+D15-C15 -> -10698695 | Q15: =+E15-D15 -> 1678695 | R15: =+'3. Önk. Kiadások'!R32 -> 0 | S15: =+P$4*P15+Q$4*Q15*R$4*R15 -> -10698695 | T15: =IF(S15=0,0,S15/C15) -> -0.049144212
A16: K4 | B16: Elláttotak pénzbeli juttatásai | C16: =+'3. Önk. Kiadások'!C81 -> 16000000 | D16: =+'3. Önk. Kiadások'!D81 -> 16000000 | E16: =+'3. Önk. Kiadások'!E81 -> 16000000 | F16: =+'3. Önk. Kiadások'!F81 -> 0 | H16: =+'3. Önk. Kiadások'!H81 -> 4998433 | I16: =+'3. Önk. Kiadások'!I81 -> 8147040 | J16: =+'3. Önk. Kiadások'!J81 -> 0 | L16: =IF(D16=0,0,H16/C16) -> 0.31240206 | M16: =IF(E16=0,0,I16/E16) -> 0.50919 | N16: =IF(F16=0,0,J16/F16) -> 0 | P16: =+D16-C16 -> 0 | Q16: =+E16-D16 -> 0 | R16: =+'3. Önk. Kiadások'!R81 -> 0 | S16: =+P$4*P16+Q$4*Q16*R$4*R16 -> 0 | T16: =IF(S16=0,0,S16/C16) -> 0
A17: K5 | B17: Egyéb működési célú kiadások | C17: =+'3. Önk. Kiadások'!C106 -> 151426315 | D17: =+'3. Önk. Kiadások'!D106 -> 221879015 | E17: =+'3. Önk. Kiadások'!E106 -> 225231315 | F17: =+'3. Önk. Kiadások'!F106 -> 0 | H17: =+'3. Önk. Kiadások'!H106 -> 91594087 | I17: =+'3. Önk. Kiadások'!I106 -> 153439419 | J17: =+'3. Önk. Kiadások'!J106 -> 0 | L17: =IF(D17=0,0,H17/C17) -> 0.60487563 | M17: =IF(E17=0,0,I17/E17) -> 0.6812526 | N17: =IF(F17=0,0,J17/F17) -> 0 | P17: =+D17-C17 -> 70452700 | Q17: =+E17-D17 -> 3352300 | R17: =+'3. Önk. Kiadások'!R106 -> 0 | S17: =+P$4*P17+Q$4*Q17*R$4*R17 -> 70452700 | T17: =IF(S17=0,0,S17/C17) -> 0.46526061
A18: K6 | B18: Beruházások | C18: =+'3. Önk. Kiadások'!C120 -> 49230500 | D18: =+'3. Önk. Kiadások'!D120 -> 37731000 | E18: =+'3. Önk. Kiadások'!E120 -> 58830500 | F18: =+'3. Önk. Kiadások'!F120 -> 0 | H18: =+'3. Önk. Kiadások'!H120 -> 5033909 | I18: =+'3. Önk. Kiadások'!I120 -> 50216919 | J18: =+'3. Önk. Kiadások'!J120 -> 0 | L18: =IF(D18=0,0,H18/C18) -> 0.10225184 | M18: =IF(E18=0,0,I18/E18) -> 0.85358647 | N18: =IF(F18=0,0,J18/F18) -> 0 | P18: =+D18-C18 -> -11499500 | Q18: =+E18-D18 -> 21099500 | R18: =+'3. Önk. Kiadások'!R120 -> 0 | S18: =+P$4*P18+Q$4*Q18*R$4*R18 -> -11499500 | T18: =IF(S18=0,0,S18/C18) -> -0.23358487
A19: K7 | B19: Felújítások | C19: =+'3. Önk. Kiadások'!C129 -> 83452445 | D19: =+'3. Önk. Kiadások'!D129 -> 83452445 | E19: =+'3. Önk. Kiadások'!E129 -> 83452445 | F19: =+'3. Önk. Kiadások'!F129 -> 0 | H19: =+'3. Önk. Kiadások'!H129 -> 32771553 | I19: =+'3. Önk. Kiadások'!I129 -> 35385584 | J19: =+'3. Önk. Kiadások'!J129 -> 0 | L19: =IF(D19=0,0,H19/C19) -> 0.39269734 | M19: =IF(E19=0,0,I19/E19) -> 0.42402094 | N19: =IF(F19=0,0,J19/F19) -> 0 | P19: =+D19-C19 -> 0 | Q19: =+E19-D19 -> 0 | R19: =+'3. Önk. Kiadások'!R129 -> 0 | S19: =+P$4*P19+Q$4*Q19*R$4*R19 -> 0 | T19: =IF(S19=0,0,S19/C19) -> 0
A20: K8 | B20: Szolgáltatások kiadásai | C20: =+'3. Önk. Kiadások'!C135 -> 0 | D20: =+'3. Önk. Kiadások'!D135 -> 44000 | E20: =+'3. Önk. Kiadások'!E135 -> 190000 | F20: =+'3. Önk. Kiadások'!F135 -> 0 | H20: =+'3. Önk. Kiadások'!H135 -> 43039 | I20: =+'3. Önk. Kiadások'!I135 -> 188702 | J20: =+'3. Önk. Kiadások'!J135 -> 0 | L20: =IF(D20=0,0,H20/C20) -> #DIV/0! | M20: =IF(E20=0,0,I20/E20) -> 0.99316842 | N20: =IF(F20=0,0,J20/F20) -> 0 | P20: =+D20-C20 -> 44000 | Q20: =+E20-D20 -> 146000 | R20: =+'3. Önk. Kiadások'!R135 -> 0 | S20: =+P$4*P20+Q$4*Q20*R$4*R20 -> 44000 | T20: =IF(S20=0,0,S20/C20) -> #DIV/0!
A21: K9 | B21: Finanszírozási kiadások | C21: =+'3. Önk. Kiadások'!C145 -> 675998039 | D21: =+'3. Önk. Kiadások'!D145 -> 676652534 | E21: =+'3. Önk. Kiadások'!E145 -> 682652534 | F21: =+'3. Önk. Kiadások'!F145 -> 0 | H21: =+'3. Önk. Kiadások'!H145 -> 347736936 | I21: =+'3. Önk. Kiadások'!I145 -> 515503086 | J21: =+'3. Önk. Kiadások'!J145 -> 0 | L21: =IF(D21=0,0,H21/C21) -> 0.51440524 | M21: =IF(E21=0,0,I21/E21) -> 0.75514711 | N21: =IF(F21=0,0,J21/F21) -> 0 | P21: =+D21-C21 -> 654495 | Q21: =+E21-D21 -> 6000000 | R21: =+'3. Önk. Kiadások'!R145 -> 0 | S21: =+P$4*P21+Q$4*Q21*R$4*R21 -> 654495 | T21: =IF(S21=0,0,S21/C21) -> 0.00096819068
B22: KIADÁSOK ÖSSZESEN | C22: =SUM(C13:C21) -> 1307317299 | D22: =SUM(D13:D21) -> 1369445299 | E22: =SUM(E13:E21) -> 1401721794 | F22: =SUM(F13:F21) -> 0 | H22: =SUM(H13:H21) -> 621468813 | I22: =SUM(I13:I21) -> 970580800 | J22: =SUM(J13:J21) -> 0 | L22: =IF(D22=0,0,H22/C22) -> 0.47537718 | M22: =IF(E22=0,0,I22/E22) -> 0.69242042 | N22: =IF(F22=0,0,J22/F22) -> 0 | P22: =SUM(P13:P21) -> 62128000 | Q22: =SUM(Q13:Q21) -> 32276495 | R22: =SUM(R13:R21) -> -112270000 | S22: =SUM(S13:S21) -> 62128000 | T22: =IF(S22=0,0,S22/C22) -> 0.047523275
A24: B1 | B24: Működési célú tám-ok államháztartáson belülről | C24: =+' 2. Önk. Bevételek'!C13 -> 780199287 | D24: =+' 2. Önk. Bevételek'!D13 -> 780386233 | E24: =+' 2. Önk. Bevételek'!E13 -> 809953175 | F24: =+' 2. Önk. Bevételek'!F13 -> 0 | G24: =+'3. Önk. Kiadások'!G13 -> 0 | H24: =+' 2. Önk. Bevételek'!H13 -> 414017409 | I24: =+' 2. Önk. Bevételek'!I13 -> 602895797 | J24: =+' 2. Önk. Bevételek'!J13 -> 0 | L24: =IF(D24=0,0,H24/D24) -> 0.53052885 | M24: =IF(E24=0,0,I24/E24) -> 0.74435883 | N24: =IF(F24=0,0,J24/F24) -> 0 | P24: =+D24-C24 -> 186946 | Q24: =+E24-D24 -> 29566942 | R24: =+F24-E24 -> -809953175 | S24: =+P$4*P24+Q$4*Q24*R$4*R24 -> 186946 | T24: =IF(S24=0,0,S24/C24) -> 0.00023961314
A25: B2 | B25: Felhalmozási célú tám-ok államházt-on belülről | C25: =+' 2. Önk. Bevételek'!C30 -> 70000000 | D25: =+' 2. Önk. Bevételek'!D30 -> 69813054 | E25: =+' 2. Önk. Bevételek'!E30 -> 69813054 | F25: =+' 2. Önk. Bevételek'!F30 -> 0 | H25: =+' 2. Önk. Bevételek'!H30 -> 335582001 | I25: =+' 2. Önk. Bevételek'!I30 -> 359844539 | J25: =+' 2. Önk. Bevételek'!J30 -> 0 | L25: =IF(D25=0,0,H25/D25) -> 4.8068661 | M25: =IF(E25=0,0,I25/E25) -> 5.1544019 | N25: =IF(F25=0,0,J25/F25) -> 0 | P25: =+D25-C25 -> -186946 | Q25: =+E25-D25 -> 0 | R25: =+F25-E25 -> -69813054 | S25: =+P$4*P25+Q$4*Q25*R$4*R25 -> -186946 | T25: =IF(S25=0,0,S25/C25) -> -0.0026706571
A26: B3 | B26: Közhatalmi bevételek | C26: =+' 2. Önk. Bevételek'!C39 -> 200000000 | D26: =+' 2. Önk. Bevételek'!D39 -> 200000000 | E26: =+' 2. Önk. Bevételek'!E39 -> 200000000 | F26: =+' 2. Önk. Bevételek'!F39 -> 0 | H26: =+' 2. Önk. Bevételek'!H39 -> 122999106 | I26: =+' 2. Önk. Bevételek'!I39 -> 223760794 | J26: =+' 2. Önk. Bevételek'!J39 -> 0 | L26: =IF(D26=0,0,H26/D26) -> 0.61499553 | M26: =IF(E26=0,0,I26/E26) -> 1.118804 | N26: =IF(F26=0,0,J26/F26) -> 0 | P26: =+D26-C26 -> 0 | Q26: =+E26-D26 -> 0 | R26: =+F26-E26 -> -200000000 | S26: =+P$4*P26+Q$4*Q26*R$4*R26 -> 0 | T26: =IF(S26=0,0,S26/C26) -> 0
A27: B4 | B27: Működési bevételek | C27: =+' 2. Önk. Bevételek'!C50 -> 54050000 | D27: =+' 2. Önk. Bevételek'!D50 -> 54050000 | E27: =+' 2. Önk. Bevételek'!E50 -> 54050000 | F27: =+' 2. Önk. Bevételek'!F50 -> 0 | H27: =+' 2. Önk. Bevételek'!H50 -> 36982630 | I27: =+' 2. Önk. Bevételek'!I50 -> 62593860 | J27: =+' 2. Önk. Bevételek'!J50 -> 0 | L27: =IF(D27=0,0,H27/D27) -> 0.68422997 | M27: =IF(E27=0,0,I27/E27) -> 1.1580733 | N27: =IF(F27=0,0,J27/F27) -> 0 | P27: =+D27-C27 -> 0 | Q27: =+E27-D27 -> 0 | R27: =+F27-E27 -> -54050000 | S27: =+P$4*P27+Q$4*Q27*R$4*R27 -> 0 | T27: =IF(S27=0,0,S27/C27) -> 0
A28: B5 | B28: Felhalmozási bevételek | C28: =+' 2. Önk. Bevételek'!C67 -> 61100000 | D28: =+' 2. Önk. Bevételek'!D67 -> 123228000 | E28: =+' 2. Önk. Bevételek'!E67 -> 125937553 | F28: =+' 2. Önk. Bevételek'!F67 -> 0 | H28: =+' 2. Önk. Bevételek'!H67 -> 143069306 | I28: =+' 2. Önk. Bevételek'!I67 -> 151653949 | J28: =+' 2. Önk. Bevételek'!J67 -> 0 | L28: =IF(D28=0,0,H28/D28) -> 1.161013 | M28: =IF(E28=0,0,I28/E28) -> 1.2041996 | N28: =IF(F28=0,0,J28/F28) -> 0 | P28: =+D28-C28 -> 62128000 | Q28: =+E28-D28 -> 2709553 | R28: =+F28-E28 -> -125937553 | S28: =+P$4*P28+Q$4*Q28*R$4*R28 -> 62128000 | T28: =IF(S28=0,0,S28/C28) -> 1.0168249
A29: B6 | B29: Működési célú átvett pénzeszközök | C29: =+' 2. Önk. Bevételek'!C72 -> 0 | D29: =+' 2. Önk. Bevételek'!D72 -> 0 | E29: =+' 2. Önk. Bevételek'!E72 -> 0 | F29: =+' 2. Önk. Bevételek'!F72 -> 0 | H29: =+' 2. Önk. Bevételek'!H72 -> 161668810 | I29: =+' 2. Önk. Bevételek'!I72 -> 161668810 | J29: =+' 2. Önk. Bevételek'!J72 -> 0 | L29: =IF(D29=0,0,H29/D29) -> 0 | M29: =IF(E29=0,0,I29/E29) -> 0 | N29: =IF(F29=0,0,J29/F29) -> 0 | P29: =+D29-C29 -> 0 | Q29: =+E29-D29 -> 0 | R29: =+F29-E29 -> 0 | S29: =+P$4*P29+Q$4*Q29*R$4*R29 -> 0 | T29: =IF(S29=0,0,S29/C29) -> 0
A30: B7 | B30: Felhalmozási célú átvett pénzeszközök | C30: =+' 2. Önk. Bevételek'!C76 -> 0 | D30: =+' 2. Önk. Bevételek'!D76 -> 0 | E30: =+' 2. Önk. Bevételek'!E76 -> 0 | F30: =+' 2. Önk. Bevételek'!F76 -> 0 | H30: =+' 2. Önk. Bevételek'!H76 -> 1704190 | I30: =+' 2. Önk. Bevételek'!I76 -> 2172463 | J30: =+' 2. Önk. Bevételek'!J76 -> 0 | L30: =IF(D30=0,0,H30/D30) -> 0 | M30: =IF(E30=0,0,I30/E30) -> 0 | N30: =IF(F30=0,0,J30/F30) -> 0 | P30: =+D30-C30 -> 0 | Q30: =+E30-D30 -> 0 | R30: =+F30-E30 -> 0 | S30: =+P$4*P30+Q$4*Q30*R$4*R30 -> 0 | T30: =IF(S30=0,0,S30/C30) -> 0
A31: B8-ból maradványértéken túli finanszírozási bevételek | C31: =+' 2. Önk. Bevételek'!C80-C32 -> 0 | D31: =+' 2. Önk. Bevételek'!D80-D32 -> 0 | E31: =+' 2. Önk. Bevételek'!E80-E32 -> 0 | F31: =+' 2. Önk. Bevételek'!F80-F32 -> 0 | H31: =+' 2. Önk. Bevételek'!H80-H32 -> 654495 | I31: =+' 2. Önk. Bevételek'!I80-I32 -> 654495 | J31: =+' 2. Önk. Bevételek'!J80-J32 -> 0 | L31: =IF(D31=0,0,H31/D31) -> 0 | M31: =IF(E31=0,0,I31/E31) -> 0 | N31: =IF(F31=0,0,J31/F31) -> 0 | P31: =+D31-C31 -> 0 | Q31: =+E31-D31 -> 0 | R31: =+F31-E31 -> 0 | S31: =+P$4*P31+Q$4*Q31*R$4*R31 -> 0 | T31: =IF(S31=0,0,S31/C31) -> 0
A32: B8-ból előző évi mardvány igénybevétele | C32: =+' 2. Önk. Bevételek'!C87 -> 141968012 | D32: =+' 2. Önk. Bevételek'!D87 -> 141968012 | E32: =+' 2. Önk. Bevételek'!E87 -> 141968012 | F32: =+' 2. Önk. Bevételek'!F87 -> 0 | H32: =+' 2. Önk. Bevételek'!H87 -> 141968016 | I32: =+' 2. Önk. Bevételek'!I87 -> 141968012 | J32: =+' 2. Önk. Bevételek'!J87 -> 0 | L32: =IF(D32=0,0,H32/D32) -> 1 | M32: =IF(E32=0,0,I32/E32) -> 1 | N32: =IF(F32=0,0,J32/F32) -> 0 | P32: =+D32-C32 -> 0 | Q32: =+E32-D32 -> 0 | R32: =+F32-E32 -> -141968012 | S32: =+P$4*P32+Q$4*Q32*R$4*R32 -> 0 | T32: =IF(S32=0,0,S32/C32) -> 0
B33: BEVÉTELEK ÖSSZESEN | C33: =SUM(C24:C32) -> 1307317299 | D33: =SUM(D24:D32) -> 1369445299 | E33: =SUM(E24:E32) -> 1401721794 | F33: =SUM(F24:F32) -> 0 | H33: =SUM(H24:H32) -> 1358645963 | I33: =SUM(I24:I32) -> 1707212719 | J33: =SUM(J24:J32) -> 0 | L33: =IF(D33=0,0,H33/D33) -> 0.99211408 | M33: =IF(E33=0,0,I33/E33) -> 1.2179398 | N33: =IF(F33=0,0,J33/F33) -> 0 | P33: =SUM(P24:P32) -> 62128000 | Q33: =SUM(Q24:Q32) -> 32276495 | R33: =SUM(R24:R32) -> -1401721794 | S33: =SUM(S24:S32) -> 62128000 | T33: =IF(S33=0,0,S33/C33) -> 0.047523275
B35: EGYENLEG | C35: =+C33-C22 -> 0 | D35: =+D33-D22 -> 0 | E35: =+E33-E22 -> 0 | F35: =+F33-F22 -> 0 | H35: =+H33-H22 -> 737177150 | I35: =+I33-I22 -> 736631919 | J35: =+J33-J22 -> 0 | L35: =IF(D35=0,0,H35/D35) -> 0 | M35: =IF(E35=0,0,I35/E35) -> 0 | N35: =IF(F35=0,0,J35/F35) -> 0 | P35: =+P33-P22 -> 0 | Q35: =+Q33-Q22 -> 0 | R35: =+R33-R22 -> -1289451794 | S35: =+S33-S22 -> 0
Q37: =+P42*P4+Q42*Q4 -> 0
A38: Dr Gáspár HSZK
A40: K1 | B40: =+B13 -> Személyi juttatások | C40: =+'8. Dr Gáspár HSZK'!C13 -> 29825000 | D40: =+'8. Dr Gáspár HSZK'!D13 -> 29825000 | E40: =+'8. Dr Gáspár HSZK'!E13 -> 29825000 | F40: =+'8. Dr Gáspár HSZK'!F13 -> 0 | H40: =+'8. Dr Gáspár HSZK'!H13 -> 14014974 | I40: =+'8. Dr Gáspár HSZK'!I13 -> 22459864 | J40: =+'8. Dr Gáspár HSZK'!J13 -> 0 | L40: =IF(D40=0,0,H40/D40) -> 0.46990692 | M40: =IF(E40=0,0,I40/E40) -> 0.75305495 | N40: =IF(F40=0,0,J40/F40) -> 0 | P40: =+D40-C40 -> 0 | Q40: =+E40-D40 -> 0 | R40: =+F40-E40 -> -29825000 | S40: =+P$4*P40+Q$4*Q40*R$4*R40 -> 0 | T40: =IF(S40=0,0,S40/C40) -> 0
A41: K2 | B41: =+B14 -> Munkaadót terhelő járulékok és szociális hozzájárulás | C41: =+'8. Dr Gáspár HSZK'!C29 -> 3900000 | D41: =+'8. Dr Gáspár HSZK'!D29 -> 3900000 | E41: =+'8. Dr Gáspár HSZK'!E29 -> 3900000 | F41: =+'8. Dr Gáspár HSZK'!F29 -> 0 | H41: =+'8. Dr Gáspár HSZK'!H29 -> 2020593 | I41: =+'8. Dr Gáspár HSZK'!I29 -> 3125665 | J41: =+'8. Dr Gáspár HSZK'!J29 -> 0 | L41: =IF(D41=0,0,H41/D41) -> 0.51810077 | M41: =IF(E41=0,0,I41/E41) -> 0.80145256 | N41: =IF(F41=0,0,J41/F41) -> 0 | P41: =+D41-C41 -> 0 | Q41: =+E41-D41 -> 0 | R41: =+F41-E41 -> -3900000 | S41: =+P$4*P41+Q$4*Q41*R$4*R41 -> 0 | T41: =IF(S41=0,0,S41/C41) -> 0
A42: K3 | B42: =+B15 -> Dologi kiadások | C42: =+'8. Dr Gáspár HSZK'!C32 -> 12060000 | D42: =+'8. Dr Gáspár HSZK'!D32 -> 12060000 | E42: =+'8. Dr Gáspár HSZK'!E32 -> 12060000 | F42: =+'8. Dr Gáspár HSZK'!F32 -> 0 | H42: =+'8. Dr Gáspár HSZK'!H32 -> 4912145 | I42: =+'8. Dr Gáspár HSZK'!I32 -> 7939130 | J42: =+'8. Dr Gáspár HSZK'!J32 -> 0 | L42: =IF(D42=0,0,H42/D42) -> 0.40730887 | M42: =IF(E42=0,0,I42/E42) -> 0.65830265 | N42: =IF(F42=0,0,J42/F42) -> 0 | P42: =+D42-C42 -> 0 | Q42: =+E42-D42 -> 0 | R42: =+F42-E42 -> -12060000 | S42: =+P$4*P42+Q$4*Q42*R$4*R42 -> 0 | T42: =IF(S42=0,0,S42/C42) -> 0
A43: K4 | B43: =+B16 -> Elláttotak pénzbeli juttatásai | L43: =IF(D43=0,0,H43/D43) -> 0 | M43: =IF(E43=0,0,I43/E43) -> 0 | N43: =IF(F43=0,0,J43/F43) -> 0 | P43: =+D43-C43 -> 0 | Q43: =+E43-D43 -> 0 | R43: =+F43-E43 -> 0 | S43: =+P$4*P43+Q$4*Q43*R$4*R43 -> 0 | T43: =IF(S43=0,0,S43/C43) -> 0
A44: K5 | B44: =+B17 -> Egyéb működési célú kiadások | L44: =IF(D44=0,0,H44/D44) -> 0 | M44: =IF(E44=0,0,I44/E44) -> 0 | N44: =IF(F44=0,0,J44/F44) -> 0 | P44: =+D44-C44 -> 0 | Q44: =+E44-D44 -> 0 | R44: =+F44-E44 -> 0 | S44: =+P$4*P44+Q$4*Q44*R$4*R44 -> 0 | T44: =IF(S44=0,0,S44/C44) -> 0
A45: K6 | B45: =+B18 -> Beruházások | C45: =+'8. Dr Gáspár HSZK'!C83 -> 4650000 | D45: =+'8. Dr Gáspár HSZK'!D83 -> 4650000 | E45: =+'8. Dr Gáspár HSZK'!E83 -> 4650000 | F45: =+'8. Dr Gáspár HSZK'!F83 -> 0 | H45: =+'8. Dr Gáspár HSZK'!H83 -> 1004214 | I45: =+'8. Dr Gáspár HSZK'!I83 -> 3704214 | J45: =+'8. Dr Gáspár HSZK'!J83 -> 0 | K45: =+'8. Dr Gáspár HSZK'!K83 -> 0 | L45: =IF(D45=0,0,H45/D45) -> 0.21596 | M45: =IF(E45=0,0,I45/E45) -> 0.79660516 | N45: =IF(F45=0,0,J45/F45) -> 0 | P45: =+D45-C45 -> 0 | Q45: =+E45-D45 -> 0 | R45: =+F45-E45 -> -4650000 | S45: =+P$4*P45+Q$4*Q45*R$4*R45 -> 0 | T45: =IF(S45=0,0,S45/C45) -> 0
A46: K7 | B46: =+B19 -> Felújítások | C46: =+'8. Dr Gáspár HSZK'!C86 -> 0 | D46: =+'8. Dr Gáspár HSZK'!D86 -> 0 | E46: =+'8. Dr Gáspár HSZK'!E86 -> 0 | F46: =+'8. Dr Gáspár HSZK'!F86 -> 0 | H46: =+'8. Dr Gáspár HSZK'!H86 -> 0 | I46: =+'8. Dr Gáspár HSZK'!I86 -> 0 | J46: =+'8. Dr Gáspár HSZK'!J86 -> 0 | K46: =+'8. Dr Gáspár HSZK'!K86 -> 0 | L46: =IF(D46=0,0,H46/D46) -> 0 | M46: =IF(E46=0,0,I46/E46) -> 0 | N46: =IF(F46=0,0,J46/F46) -> 0 | P46: =+D46-C46 -> 0 | Q46: =+E46-D46 -> 0 | R46: =+F46-E46 -> 0 | S46: =+P$4*P46+Q$4*Q46*R$4*R46 -> 0 | T46: =IF(S46=0,0,S46/C46) -> 0
A47: K8 | B47: =+B20 -> Szolgáltatások kiadásai | L47: =IF(D47=0,0,H47/D47) -> 0 | M47: =IF(E47=0,0,I47/E47) -> 0 | N47: =IF(F47=0,0,J47/F47) -> 0 | P47: =+D47-C47 -> 0 | Q47: =+E47-D47 -> 0 | R47: =+F47-E47 -> 0 | S47: =+P$4*P47+Q$4*Q47*R$4*R47 -> 0 | T47: =IF(S47=0,0,S47/C47) -> 0
A48: K9 | B48: =+B21 -> Finanszírozási kiadások | L48: =IF(D48=0,0,H48/D48) -> 0 | M48: =IF(E48=0,0,I48/E48) -> 0 | N48: =IF(F48=0,0,J48/F48) -> 0 | P48: =+D48-C48 -> 0 | Q48: =+E48-D48 -> 0 | R48: =+F48-E48 -> 0 | S48: =+P$4*P48+Q$4*Q48*R$4*R48 -> 0 | T48: =IF(S48=0,0,S48/C48) -> 0
B49: KIADÁSOK ÖSSZESEN | C49: =SUM(C40:C48) -> 50435000 | D49: =SUM(D40:D48) -> 50435000 | E49: =SUM(E40:E48) -> 50435000 | F49: =SUM(F40:F48) -> 0 | H49: =SUM(H40:H48) -> 21951926 | I49: =SUM(I40:I48) -> 37228873 | J49: =SUM(J40:J48) -> 0 | L49: =IF(D49=0,0,H49/D49) -> 0.43525183 | M49: =IF(E49=0,0,I49/E49) -> 0.73815551 | N49: =IF(F49=0,0,J49/F49) -> 0 | P49: =SUM(P40:P48) -> 0 | Q49: =SUM(Q40:Q48) -> 0 | R49: =SUM(R40:R48) -> -50435000 | S49: =SUM(S40:S48) -> 0 | T49: =IF(S49=0,0,S49/C49) -> 0
A51: =+A24 -> B1 | B51: Működési célú tám-ok államháztartáson belülről | C51: =+'8. Dr Gáspár HSZK'!C93 -> 0 | D51: =+'8. Dr Gáspár HSZK'!D93 -> 0 | E51: =+'8. Dr Gáspár HSZK'!E93 -> 0 | F51: =+'8. Dr Gáspár HSZK'!F93 -> 0 | G51: =+'8. Dr Gáspár HSZK'!G93 -> 0 | H51: =+'8. Dr Gáspár HSZK'!H93 -> 0 | I51: =+'8. Dr Gáspár HSZK'!I93 -> 0 | J51: =+'8. Dr Gáspár HSZK'!J93 -> 0 | L51: =IF(D51=0,0,H51/D51) -> 0 | M51: =IF(E51=0,0,I51/E51) -> 0 | N51: =IF(F51=0,0,J51/F51) -> 0 | P51: =+D51-C51 -> 0 | Q51: =+E51-D51 -> 0 | R51: =+F51-E51 -> 0 | S51: =+P$4*P51+Q$4*Q51*R$4*R51 -> 0 | T51: =IF(S51=0,0,S51/C51) -> 0
A52: =+A25 -> B2 | B52: Felhalmozási célú tám-ok államházt-on belülről | L52: =IF(D52=0,0,H52/D52) -> 0 | M52: =IF(E52=0,0,I52/E52) -> 0 | N52: =IF(F52=0,0,J52/F52) -> 0 | P52: =+D52-C52 -> 0 | Q52: =+E52-D52 -> 0 | R52: =+F52-E52 -> 0 | S52: =+P$4*P52+Q$4*Q52*R$4*R52 -> 0 | T52: =IF(S52=0,0,S52/C52) -> 0
A53: =+A26 -> B3 | B53: Közhatalmi bevételek | L53: =IF(D53=0,0,H53/D53) -> 0 | M53: =IF(E53=0,0,I53/E53) -> 0 | N53: =IF(F53=0,0,J53/F53) -> 0 | P53: =+D53-C53 -> 0 | Q53: =+E53-D53 -> 0 | R53: =+F53-E53 -> 0 | S53: =+P$4*P53+Q$4*Q53*R$4*R53 -> 0 | T53: =IF(S53=0,0,S53/C53) -> 0
A54: =+A27 -> B4 | B54: Működési bevételek | C54: =+'8. Dr Gáspár HSZK'!C95 -> 7605000 | D54: =+'8. Dr Gáspár HSZK'!D95 -> 7605000 | E54: =+'8. Dr Gáspár HSZK'!E95 -> 7605000 | F54: =+'8. Dr Gáspár HSZK'!F95 -> 0 | H54: =+'8. Dr Gáspár HSZK'!H95 -> 2960245 | I54: =+'8. Dr Gáspár HSZK'!I95 -> 4610080 | J54: =+'8. Dr Gáspár HSZK'!J95 -> 0 | L54: =IF(D54=0,0,H54/D54) -> 0.38924984 | M54: =IF(E54=0,0,I54/E54) -> 0.60619066 | N54: =IF(F54=0,0,J54/F54) -> 0 | P54: =+D54-C54 -> 0 | Q54: =+E54-D54 -> 0 | R54: =+F54-E54 -> -7605000 | S54: =+P$4*P54+Q$4*Q54*R$4*R54 -> 0 | T54: =IF(S54=0,0,S54/C54) -> 0
A55: =+A28 -> B5 | B55: Felhalmozási bevételek | L55: =IF(D55=0,0,H55/D55) -> 0 | M55: =IF(E55=0,0,I55/E55) -> 0 | N55: =IF(F55=0,0,J55/F55) -> 0 | P55: =+D55-C55 -> 0 | Q55: =+E55-D55 -> 0 | R55: =+F55-E55 -> 0 | S55: =+P$4*P55+Q$4*Q55*R$4*R55 -> 0 | T55: =IF(S55=0,0,S55/C55) -> 0
A56: =+A29 -> B6 | B56: Működési célú átvett pénzeszközök | L56: =IF(D56=0,0,H56/D56) -> 0 | M56: =IF(E56=0,0,I56/E56) -> 0 | N56: =IF(F56=0,0,J56/F56) -> 0 | P56: =+D56-C56 -> 0 | Q56: =+E56-D56 -> 0 | R56: =+F56-E56 -> 0 | S56: =+P$4*P56+Q$4*Q56*R$4*R56 -> 0 | T56: =IF(S56=0,0,S56/C56) -> 0
A57: =+A30 -> B7 | B57: Felhalmozási célú átvett pénzeszközök | L57: =IF(D57=0,0,H57/D57) -> 0 | M57: =IF(E57=0,0,I57/E57) -> 0 | N57: =IF(F57=0,0,J57/F57) -> 0 | P57: =+D57-C57 -> 0 | Q57: =+E57-D57 -> 0 | R57: =+F57-E57 -> 0 | S57: =+P$4*P57+Q$4*Q57*R$4*R57 -> 0 | T57: =IF(S57=0,0,S57/C57) -> 0
A58: =+A31 -> B8-ból maradványértéken túli finanszírozási bevételek | C58: =+'8. Dr Gáspár HSZK'!C99-C59 -> 40951920 | D58: =+'8. Dr Gáspár HSZK'!D99-D59 -> 40951920 | E58: =+'8. Dr Gáspár HSZK'!E99-E59 -> 40951920 | F58: =+'8. Dr Gáspár HSZK'!F99-F59 -> 0 | H58: =+'8. Dr Gáspár HSZK'!H99-H59 -> 18876114 | I58: =+'8. Dr Gáspár HSZK'!I99-I59 -> 35174227 | J58: =+'8. Dr Gáspár HSZK'!J99-J59 -> 0 | L58: =IF(D58=0,0,H58/D58) -> 0.46093355 | M58: =IF(E58=0,0,I58/E58) -> 0.85891521 | N58: =IF(F58=0,0,J58/F58) -> 0 | P58: =+D58-C58 -> 0 | Q58: =+E58-D58 -> 0 | R58: =+F58-E58 -> -40951920 | S58: =+P$4*P58+Q$4*Q58*R$4*R58 -> 0 | T58: =IF(S58=0,0,S58/C58) -> 0
A59: =+A32 -> B8-ból előző évi mardvány igénybevétele | C59: =+'8. Dr Gáspár HSZK'!C101 -> 1878080 | D59: =+'8. Dr Gáspár HSZK'!D101 -> 1878080 | E59: =+'8. Dr Gáspár HSZK'!E101 -> 1878080 | F59: =+'8. Dr Gáspár HSZK'!F101 -> 0 | H59: =+'8. Dr Gáspár HSZK'!H101 -> 1878080 | I59: =+'8. Dr Gáspár HSZK'!I101 -> 1878080 | J59: =+'8. Dr Gáspár HSZK'!J101 -> 0 | L59: =IF(D59=0,0,H59/D59) -> 1 | M59: =IF(E59=0,0,I59/E59) -> 1 | N59: =IF(F59=0,0,J59/F59) -> 0 | P59: =+D59-C59 -> 0 | Q59: =+E59-D59 -> 0 | R59: =+F59-E59 -> -1878080 | S59: =+P$4*P59+Q$4*Q59*R$4*R59 -> 0 | T59: =IF(S59=0,0,S59/C59) -> 0
B60: BEVÉTELEK ÖSSZESEN | C60: =SUM(C51:C59) -> 50435000 | D60: =SUM(D51:D59) -> 50435000 | E60: =SUM(E51:E59) -> 50435000 | F60: =SUM(F51:F59) -> 0 | H60: =SUM(H51:H59) -> 23714439 | I60: =SUM(I51:I59) -> 41662387 | J60: =SUM(J51:J59) -> 0 | L60: =IF(D60=0,0,H60/D60) -> 0.47019806 | M60: =IF(E60=0,0,I60/E60) -> 0.82606101 | N60: =IF(F60=0,0,J60/F60) -> 0 | P60: =SUM(P51:P59) -> 0 | Q60: =SUM(Q51:Q59) -> 0 | R60: =SUM(R51:R59) -> -50435000 | S60: =SUM(S51:S59) -> 0 | T60: =IF(S60=0,0,S60/C60) -> 0
B62: EGYENLEG | C62: =+C60-C49 -> 0 | D62: =+D60-D49 -> 0 | E62: =+E60-E49 -> 0 | F62: =+F60-F49 -> 0 | H62: =+H60-H49 -> 1762513 | I62: =+I60-I49 -> 4433514 | J62: =+J60-J49 -> 0 | L62: =IF(D62=0,0,H62/D62) -> 0 | M62: =IF(E62=0,0,I62/E62) -> 0 | N62: =IF(F62=0,0,J62/F62) -> 0 | P62: =+P60-P49 -> 0 | Q62: =+Q60-Q49 -> 0 | R62: =+R60-R49 -> 0 | S62: =+S60-S49 -> 0
A65: Sülysápi Csicsergő Óvoda
A67: K1 | B67: =+B40 -> Személyi juttatások | C67: =+'6. Csicsergő'!C13 -> 193790000 | D67: =+'6. Csicsergő'!D13 -> 193790000 | E67: =+'6. Csicsergő'!E13 -> 193790000 | F67: =+'6. Csicsergő'!F13 -> 0 | H67: =+'6. Csicsergő'!H13 -> 90223993 | I67: =+'6. Csicsergő'!I13 -> 137245051 | J67: =+'6. Csicsergő'!J13 -> 0 | L67: =IF(D67=0,0,H67/D67) -> 0.4655761 | M67: =IF(E67=0,0,I67/E67) -> 0.70821534 | N67: =IF(F67=0,0,J67/F67) -> 0 | P67: =+'6. Csicsergő'!P13 -> 0 | Q67: =+'6. Csicsergő'!Q13 -> 0 | R67: =+'6. Csicsergő'!R13 -> 0 | S67: =+'6. Csicsergő'!S13 -> 0 | T67: =IF(S67=0,0,S67/C67) -> 0
A68: K2 | B68: =+B41 -> Munkaadót terhelő járulékok és szociális hozzájárulás | C68: =+'6. Csicsergő'!C30 -> 25000000 | D68: =+'6. Csicsergő'!D30 -> 25000000 | E68: =+'6. Csicsergő'!E30 -> 25000000 | F68: =+'6. Csicsergő'!F30 -> 0 | H68: =+'6. Csicsergő'!H30 -> 13078152 | I68: =+'6. Csicsergő'!I30 -> 19369353 | J68: =+'6. Csicsergő'!J30 -> 0 | L68: =IF(D68=0,0,H68/D68) -> 0.52312608 | M68: =IF(E68=0,0,I68/E68) -> 0.77477412 | N68: =IF(F68=0,0,J68/F68) -> 0 | P68: =+'6. Csicsergő'!P30 -> 0 | Q68: =+'6. Csicsergő'!Q30 -> 0 | R68: =+'6. Csicsergő'!R30 -> 0 | S68: =+'6. Csicsergő'!S30 -> 0 | T68: =IF(S68=0,0,S68/C68) -> 0
A69: K3 | B69: =+B42 -> Dologi kiadások | C69: =+'6. Csicsergő'!C33 -> 11646000 | D69: =+'6. Csicsergő'!D33 -> 11646000 | E69: =+'6. Csicsergő'!E33 -> 11646000 | F69: =+'6. Csicsergő'!F33 -> 0 | H69: =+'6. Csicsergő'!H33 -> 7163057 | I69: =+'6. Csicsergő'!I33 -> 9537641 | J69: =+'6. Csicsergő'!J33 -> 0 | L69: =IF(D69=0,0,H69/D69) -> 0.61506586 | M69: =IF(E69=0,0,I69/E69) -> 0.81896282 | N69: =IF(F69=0,0,J69/F69) -> 0 | P69: =+'6. Csicsergő'!P33 -> 0 | Q69: =+'6. Csicsergő'!Q33 -> 0 | R69: =+'6. Csicsergő'!R33 -> 0 | S69: =+'6. Csicsergő'!S33 -> 0 | T69: =IF(S69=0,0,S69/C69) -> 0
A70: K4 | B70: =+B43 -> Elláttotak pénzbeli juttatásai | L70: =IF(D70=0,0,H70/D70) -> 0 | M70: =IF(E70=0,0,I70/E70) -> 0 | N70: =IF(F70=0,0,J70/F70) -> 0 | T70: =IF(S70=0,0,S70/C70) -> 0
A71: K5 | B71: =+B44 -> Egyéb működési célú kiadások | L71: =IF(D71=0,0,H71/D71) -> 0 | M71: =IF(E71=0,0,I71/E71) -> 0 | N71: =IF(F71=0,0,J71/F71) -> 0 | T71: =IF(S71=0,0,S71/C71) -> 0
A72: K6 | B72: =+B45 -> Beruházások | C72: =+'6. Csicsergő'!C84 -> 3150000 | D72: =+'6. Csicsergő'!D84 -> 3150000 | E72: =+'6. Csicsergő'!E84 -> 3150000 | F72: =+'6. Csicsergő'!F84 -> 0 | H72: =+'6. Csicsergő'!H84 -> 2648999 | I72: =+'6. Csicsergő'!I84 -> 2648999 | J72: =+'6. Csicsergő'!J84 -> 0 | L72: =IF(D72=0,0,H72/D72) -> 0.84095206 | M72: =IF(E72=0,0,I72/E72) -> 0.84095206 | N72: =IF(F72=0,0,J72/F72) -> 0 | P72: =+'6. Csicsergő'!P84 -> 0 | Q72: =+'6. Csicsergő'!Q84 -> 0 | R72: =+'6. Csicsergő'!R84 -> 0 | S72: =+'6. Csicsergő'!S84 -> 0 | T72: =IF(S72=0,0,S72/C72) -> 0
A73: K7 | B73: =+B46 -> Felújítások | C73: =+'6. Csicsergő'!C87 -> 0 | D73: =+'6. Csicsergő'!D87 -> 0 | E73: =+'6. Csicsergő'!E87 -> 0 | F73: =+'6. Csicsergő'!F87 -> 0 | H73: =+'6. Csicsergő'!H87 -> 0 | I73: =+'6. Csicsergő'!I87 -> 0 | J73: =+'6. Csicsergő'!J87 -> 0 | L73: =IF(D73=0,0,H73/D73) -> 0 | M73: =IF(E73=0,0,I73/E73) -> 0 | N73: =IF(F73=0,0,J73/F73) -> 0 | P73: =+'6. Csicsergő'!P87 -> 0 | Q73: =+'6. Csicsergő'!Q87 -> 0 | R73: =+'6. Csicsergő'!R87 -> 0 | S73: =+'6. Csicsergő'!S87 -> 0 | T73: =IF(S73=0,0,S73/C73) -> 0
A74: K8 | B74: =+B47 -> Szolgáltatások kiadásai | L74: =IF(D74=0,0,H74/D74) -> 0 | M74: =IF(E74=0,0,I74/E74) -> 0 | N74: =IF(F74=0,0,J74/F74) -> 0 | T74: =IF(S74=0,0,S74/C74) -> 0
A75: K9 | B75: =+B48 -> Finanszírozási kiadások | L75: =IF(D75=0,0,H75/D75) -> 0 | M75: =IF(E75=0,0,I75/E75) -> 0 | N75: =IF(F75=0,0,J75/F75) -> 0 | T75: =IF(S75=0,0,S75/C75) -> 0
B76: KIADÁSOK ÖSSZESEN | C76: =SUM(C67:C75) -> 233586000 | D76: =SUM(D67:D75) -> 233586000 | E76: =SUM(E67:E75) -> 233586000 | F76: =SUM(F67:F75) -> 0 | H76: =SUM(H67:H75) -> 113114201 | I76: =SUM(I67:I75) -> 168801044 | J76: =SUM(J67:J75) -> 0 | L76: =IF(D76=0,0,H76/D76) -> 0.48425077 | M76: =IF(E76=0,0,I76/E76) -> 0.72265052 | N76: =IF(F76=0,0,J76/F76) -> 0 | P76: =SUM(P67:P75) -> 0 | Q76: =SUM(Q67:Q75) -> 0 | R76: =SUM(R67:R75) -> 0 | S76: =SUM(S67:S75) -> 0 | T76: =IF(S76=0,0,S76/C76) -> 0
A78: =+A51 -> B1 | B78: =+B51 -> Működési célú tám-ok államháztartáson belülről | C78: =+'6. Csicsergő'!C93 -> 0 | D78: =+'6. Csicsergő'!D93 -> 0 | E78: =+'6. Csicsergő'!E93 -> 0 | F78: =+'6. Csicsergő'!F93 -> 0 | H78: =+'6. Csicsergő'!H93 -> 0 | I78: =+'6. Csicsergő'!I93 -> 0 | J78: =+'6. Csicsergő'!J93 -> 0 | L78: =IF(D78=0,0,H78/D78) -> 0 | M78: =IF(E78=0,0,I78/E78) -> 0 | N78: =IF(F78=0,0,J78/F78) -> 0 | P78: =+'6. Csicsergő'!P93 -> 0 | Q78: =+'6. Csicsergő'!Q93 -> 0 | R78: =+'6. Csicsergő'!R93 -> 0 | S78: =+'6. Csicsergő'!S93 -> 0 | T78: =IF(S78=0,0,S78/C78) -> 0
A79: =+A52 -> B2 | B79: =+B52 -> Felhalmozási célú tám-ok államházt-on belülről | L79: =IF(D79=0,0,H79/D79) -> 0 | M79: =IF(E79=0,0,I79/E79) -> 0 | N79: =IF(F79=0,0,J79/F79) -> 0 | T79: =IF(S79=0,0,S79/C79) -> 0
A80: =+A53 -> B3 | B80: =+B53 -> Közhatalmi bevételek | L80: =IF(D80=0,0,H80/D80) -> 0 | M80: =IF(E80=0,0,I80/E80) -> 0 | N80: =IF(F80=0,0,J80/F80) -> 0 | T80: =IF(S80=0,0,S80/C80) -> 0
A81: =+A54 -> B4 | B81: =+B54 -> Működési bevételek | C81: =+'6. Csicsergő'!C95 -> 5000 | D81: =+'6. Csicsergő'!D95 -> 5000 | E81: =+'6. Csicsergő'!E95 -> 5000 | F81: =+'6. Csicsergő'!F95 -> 0 | H81: =+'6. Csicsergő'!H95 -> 1920 | I81: =+'6. Csicsergő'!I95 -> 2397 | J81: =+'6. Csicsergő'!J95 -> 0 | L81: =IF(D81=0,0,H81/D81) -> 0.384 | M81: =IF(E81=0,0,I81/E81) -> 0.4794 | N81: =IF(F81=0,0,J81/F81) -> 0 | P81: =+'6. Csicsergő'!P95 -> 0 | Q81: =+'6. Csicsergő'!Q95 -> 0 | R81: =+'6. Csicsergő'!R95 -> 0 | S81: =+'6. Csicsergő'!S95 -> 0 | T81: =IF(S81=0,0,S81/C81) -> 0
A82: =+A55 -> B5 | B82: =+B55 -> Felhalmozási bevételek | L82: =IF(D82=0,0,H82/D82) -> 0 | M82: =IF(E82=0,0,I82/E82) -> 0 | N82: =IF(F82=0,0,J82/F82) -> 0 | T82: =IF(S82=0,0,S82/C82) -> 0
A83: =+A56 -> B6 | B83: =+B56 -> Működési célú átvett pénzeszközök | L83: =IF(D83=0,0,H83/D83) -> 0 | M83: =IF(E83=0,0,I83/E83) -> 0 | N83: =IF(F83=0,0,J83/F83) -> 0 | T83: =IF(S83=0,0,S83/C83) -> 0
A84: =+A57 -> B7 | B84: =+B57 -> Felhalmozási célú átvett pénzeszközök | L84: =IF(D84=0,0,H84/D84) -> 0 | M84: =IF(E84=0,0,I84/E84) -> 0 | N84: =IF(F84=0,0,J84/F84) -> 0 | T84: =IF(S84=0,0,S84/C84) -> 0
A85: =+A58 -> B8-ból maradványértéken túli finanszírozási bevételek | C85: =+'6. Csicsergő'!C99-C86 -> 233250594 | D85: =+'6. Csicsergő'!D99-D86 -> 233250594 | E85: =+'6. Csicsergő'!E99-E86 -> 233250594 | F85: =+'6. Csicsergő'!F99-F86 -> 0 | H85: =+'6. Csicsergő'!H99-H86 -> 116504525 | I85: =+'6. Csicsergő'!I99-I86 -> 173204799 | J85: =+'6. Csicsergő'!J99-J86 -> 0 | L85: =IF(D85=0,0,H85/D85) -> 0.49948222 | M85: =IF(E85=0,0,I85/E85) -> 0.74256959 | N85: =IF(F85=0,0,J85/F85) -> 0 | P85: =+'6. Csicsergő'!P99-P86 -> 0 | Q85: =+'6. Csicsergő'!Q99-Q86 -> 0 | R85: =+'6. Csicsergő'!R99-R86 -> 0 | S85: =+'6. Csicsergő'!S99-S86 -> 0 | T85: =IF(S85=0,0,S85/C85) -> 0
A86: =+A59 -> B8-ból előző évi mardvány igénybevétele | C86: =+'6. Csicsergő'!C101 -> 330406 | D86: =+'6. Csicsergő'!D101 -> 330406 | E86: =+'6. Csicsergő'!E101 -> 330406 | F86: =+'6. Csicsergő'!F101 -> 0 | H86: =+'6. Csicsergő'!H101 -> 330406 | I86: =+'6. Csicsergő'!I101 -> 330406 | J86: =+'6. Csicsergő'!J101 -> 0 | L86: =IF(D86=0,0,H86/D86) -> 1 | M86: =IF(E86=0,0,I86/E86) -> 1 | N86: =IF(F86=0,0,J86/F86) -> 0 | P86: =+'6. Csicsergő'!P101 -> 0 | Q86: =+'6. Csicsergő'!Q101 -> 0 | R86: =+'6. Csicsergő'!R101 -> 0 | S86: =+'6. Csicsergő'!S101 -> 0 | T86: =IF(S86=0,0,S86/C86) -> 0
B87: BEVÉTELEK ÖSSZESEN | C87: =SUM(C78:C86) -> 233586000 | D87: =SUM(D78:D86) -> 233586000 | E87: =SUM(E78:E86) -> 233586000 | F87: =SUM(F78:F86) -> 0 | H87: =SUM(H78:H86) -> 116836851 | I87: =SUM(I78:I86) -> 173537602 | J87: =SUM(J78:J86) -> 0 | L87: =IF(D87=0,0,H87/D87) -> 0.50018773 | M87: =IF(E87=0,0,I87/E87) -> 0.7429281 | N87: =IF(F87=0,0,J87/F87) -> 0 | P87: =SUM(P78:P86) -> 0 | Q87: =SUM(Q78:Q86) -> 0 | R87: =SUM(R78:R86) -> 0 | S87: =SUM(S78:S86) -> 0 | T87: =IF(S87=0,0,S87/C87) -> 0
B89: EGYENLEG | C89: =+C87-C76 -> 0 | D89: =+D87-D76 -> 0 | E89: =+E87-E76 -> 0 | F89: =+F87-F76 -> 0 | H89: =+H87-H76 -> 3722650 | I89: =+I87-I76 -> 4736558 | J89: =+J87-J76 -> 0 | L89: =IF(D89=0,0,H89/D89) -> 0 | M89: =IF(E89=0,0,I89/E89) -> 0 | N89: =IF(F89=0,0,J89/F89) -> 0 | P89: =+P87-P76 -> 0 | Q89: =+Q87-Q76 -> 0 | R89: =+R87-R76 -> 0 | S89: =+S87-S76 -> 0
A92: Gólyahír Bölcsőde
A94: K1 | B94: =+B67 -> Személyi juttatások | C94: =+'5. Gólyahír'!C13 -> 70787000 | D94: =+'5. Gólyahír'!D13 -> 70787000 | E94: =+'5. Gólyahír'!E13 -> 70787000 | F94: =+'5. Gólyahír'!F13 -> 0 | H94: =+'5. Gólyahír'!H13 -> 33440240 | I94: =+'5. Gólyahír'!I13 -> 52226930 | J94: =+'5. Gólyahír'!J13 -> 0 | L94: =IF(D94=0,0,H94/D94) -> 0.47240652 | M94: =IF(E94=0,0,I94/E94) -> 0.73780398 | N94: =IF(F94=0,0,J94/F94) -> 0 | P94: =+'5. Gólyahír'!P13 -> 0 | Q94: =+'5. Gólyahír'!Q13 -> 0 | R94: =+'5. Gólyahír'!R13 -> 0 | S94: =+'5. Gólyahír'!S13 -> 0 | T94: =IF(S94=0,0,S94/C94) -> 0
A95: K2 | B95: =+B68 -> Munkaadót terhelő járulékok és szociális hozzájárulás | C95: =+'5. Gólyahír'!C29 -> 9100000 | D95: =+'5. Gólyahír'!D29 -> 9100000 | E95: =+'5. Gólyahír'!E29 -> 9100000 | F95: =+'5. Gólyahír'!F29 -> 0 | H95: =+'5. Gólyahír'!H29 -> 4723238 | I95: =+'5. Gólyahír'!I29 -> 7206667 | J95: =+'5. Gólyahír'!J29 -> 0 | L95: =IF(D95=0,0,H95/D95) -> 0.51903714 | M95: =IF(E95=0,0,I95/E95) -> 0.79194143 | N95: =IF(F95=0,0,J95/F95) -> 0 | P95: =+'5. Gólyahír'!P29 -> 0 | Q95: =+'5. Gólyahír'!Q29 -> 0 | R95: =+'5. Gólyahír'!R29 -> 0 | S95: =+'5. Gólyahír'!S29 -> 0 | T95: =IF(S95=0,0,S95/C95) -> 0
A96: K3 | B96: =+B69 -> Dologi kiadások | C96: =+'5. Gólyahír'!C32 -> 13420000 | D96: =+'5. Gólyahír'!D32 -> 13008000 | E96: =+'5. Gólyahír'!E32 -> 15008000 | F96: =+'5. Gólyahír'!F32 -> 0 | H96: =+'5. Gólyahír'!H32 -> 6261679 | I96: =+'5. Gólyahír'!I32 -> 9741549 | J96: =+'5. Gólyahír'!J32 -> 0 | L96: =IF(D96=0,0,H96/D96) -> 0.48137139 | M96: =IF(E96=0,0,I96/E96) -> 0.64909042 | N96: =IF(F96=0,0,J96/F96) -> 0 | P96: =+'5. Gólyahír'!P32 -> -412000 | Q96: =+'5. Gólyahír'!Q32 -> 2000000 | R96: =+'5. Gólyahír'!R32 -> 0 | S96: =+'5. Gólyahír'!S32 -> 1588000 | T96: =IF(S96=0,0,S96/C96) -> 0.11833085
A97: K4 | B97: =+B70 -> Elláttotak pénzbeli juttatásai | L97: =IF(D97=0,0,H97/D97) -> 0 | M97: =IF(E97=0,0,I97/E97) -> 0 | N97: =IF(F97=0,0,J97/F97) -> 0 | T97: =IF(S97=0,0,S97/C97) -> 0
A98: K5 | B98: =+B71 -> Egyéb működési célú kiadások | L98: =IF(D98=0,0,H98/D98) -> 0 | M98: =IF(E98=0,0,I98/E98) -> 0 | N98: =IF(F98=0,0,J98/F98) -> 0 | T98: =IF(S98=0,0,S98/C98) -> 0
A99: K6 | B99: =+B72 -> Beruházások | C99: =+'5. Gólyahír'!C83 -> 650000 | D99: =+'5. Gólyahír'!D83 -> 1062000 | E99: =+'5. Gólyahír'!E83 -> 1062000 | F99: =+'5. Gólyahír'!F83 -> 0 | H99: =+'5. Gólyahír'!H83 -> 664685 | I99: =+'5. Gólyahír'!I83 -> 1060925 | J99: =+'5. Gólyahír'!J83 -> 0 | L99: =IF(D99=0,0,H99/D99) -> 0.62588041 | M99: =IF(E99=0,0,I99/E99) -> 0.99898776 | N99: =IF(F99=0,0,J99/F99) -> 0 | P99: =+'5. Gólyahír'!P83 -> 412000 | Q99: =+'5. Gólyahír'!Q83 -> 0 | R99: =+'5. Gólyahír'!R83 -> 0 | S99: =+'5. Gólyahír'!S83 -> 412000 | T99: =IF(S99=0,0,S99/C99) -> 0.63384615
A100: K7 | B100: =+B73 -> Felújítások | C100: =+'5. Gólyahír'!C86 -> 0 | D100: =+'5. Gólyahír'!D86 -> 0 | E100: =+'5. Gólyahír'!E86 -> 0 | F100: =+'5. Gólyahír'!F86 -> 0 | H100: =+'5. Gólyahír'!H86 -> 0 | I100: =+'5. Gólyahír'!I86 -> 0 | J100: =+'5. Gólyahír'!J86 -> 0 | L100: =IF(D100=0,0,H100/D100) -> 0 | M100: =IF(E100=0,0,I100/E100) -> 0 | N100: =IF(F100=0,0,J100/F100) -> 0 | P100: =+'5. Gólyahír'!P86 -> 0 | Q100: =+'5. Gólyahír'!Q86 -> 0 | R100: =+'5. Gólyahír'!R86 -> 0 | S100: =+'5. Gólyahír'!S86 -> 0 | T100: =IF(S100=0,0,S100/C100) -> 0
A101: K8 | B101: =+B74 -> Szolgáltatások kiadásai | L101: =IF(D101=0,0,H101/D101) -> 0 | M101: =IF(E101=0,0,I101/E101) -> 0 | N101: =IF(F101=0,0,J101/F101) -> 0 | T101: =IF(S101=0,0,S101/C101) -> 0
A102: K9 | B102: =+B75 -> Finanszírozási kiadások | L102: =IF(D102=0,0,H102/D102) -> 0 | M102: =IF(E102=0,0,I102/E102) -> 0 | N102: =IF(F102=0,0,J102/F102) -> 0 | T102: =IF(S102=0,0,S102/C102) -> 0
B103: KIADÁSOK ÖSSZESEN | C103: =SUM(C94:C102) -> 93957000 | D103: =SUM(D94:D102) -> 93957000 | E103: =SUM(E94:E102) -> 95957000 | F103: =SUM(F94:F102) -> 0 | H103: =SUM(H94:H102) -> 45089842 | I103: =SUM(I94:I102) -> 70236071 | J103: =SUM(J94:J102) -> 0 | L103: =IF(D103=0,0,H103/D103) -> 0.4798987 | M103: =IF(E103=0,0,I103/E103) -> 0.73195359 | N103: =IF(F103=0,0,J103/F103) -> 0 | P103: =SUM(P94:P102) -> 0 | Q103: =SUM(Q94:Q102) -> 2000000 | R103: =SUM(R94:R102) -> 0 | S103: =SUM(S94:S102) -> 2000000 | T103: =IF(S103=0,0,S103/C103) -> 0.021286333
A105: =+A78 -> B1 | B105: =+B78 -> Működési célú tám-ok államháztartáson belülről | C105: =+'5. Gólyahír'!C93 -> 0 | D105: =+'5. Gólyahír'!D93 -> 0 | E105: =+'5. Gólyahír'!E93 -> 0 | F105: =+'5. Gólyahír'!F93 -> 0 | H105: =+'5. Gólyahír'!H93 -> 0 | I105: =+'5. Gólyahír'!I93 -> 0 | J105: =+'5. Gólyahír'!J93 -> 0 | L105: =IF(D105=0,0,H105/D105) -> 0 | M105: =IF(E105=0,0,I105/E105) -> 0 | N105: =IF(F105=0,0,J105/F105) -> 0 | P105: =+'5. Gólyahír'!P93 -> 0 | Q105: =+'5. Gólyahír'!Q93 -> 0 | R105: =+'5. Gólyahír'!R93 -> 0 | S105: =+'5. Gólyahír'!S93 -> 0 | T105: =IF(S105=0,0,S105/C105) -> 0
A106: =+A79 -> B2 | B106: =+B79 -> Felhalmozási célú tám-ok államházt-on belülről | L106: =IF(D106=0,0,H106/D106) -> 0 | M106: =IF(E106=0,0,I106/E106) -> 0 | N106: =IF(F106=0,0,J106/F106) -> 0 | T106: =IF(S106=0,0,S106/C106) -> 0
A107: =+A80 -> B3 | B107: =+B80 -> Közhatalmi bevételek | L107: =IF(D107=0,0,H107/D107) -> 0 | M107: =IF(E107=0,0,I107/E107) -> 0 | N107: =IF(F107=0,0,J107/F107) -> 0 | T107: =IF(S107=0,0,S107/C107) -> 0
A108: =+A81 -> B4 | B108: =+B81 -> Működési bevételek | C108: =+'5. Gólyahír'!C95 -> 4710530 | D108: =+'5. Gólyahír'!D95 -> 4710530 | E108: =+'5. Gólyahír'!E95 -> 4710530 | F108: =+'5. Gólyahír'!F95 -> 0 | H108: =+'5. Gólyahír'!H95 -> 2751764 | I108: =+'5. Gólyahír'!I95 -> 4313029 | J108: =+'5. Gólyahír'!J95 -> 0 | L108: =IF(D108=0,0,H108/D108) -> 0.58417291 | M108: =IF(E108=0,0,I108/E108) -> 0.91561438 | N108: =IF(F108=0,0,J108/F108) -> 0 | P108: =+'5. Gólyahír'!P95 -> 0 | Q108: =+'5. Gólyahír'!Q95 -> 0 | R108: =+'5. Gólyahír'!R95 -> 0 | S108: =+'5. Gólyahír'!S95 -> 0 | T108: =IF(S108=0,0,S108/C108) -> 0
A109: =+A82 -> B5 | B109: =+B82 -> Felhalmozási bevételek | L109: =IF(D109=0,0,H109/D109) -> 0 | M109: =IF(E109=0,0,I109/E109) -> 0 | N109: =IF(F109=0,0,J109/F109) -> 0 | T109: =IF(S109=0,0,S109/C109) -> 0
A110: =+A83 -> B6 | B110: =+B83 -> Működési célú átvett pénzeszközök | L110: =IF(D110=0,0,H110/D110) -> 0 | M110: =IF(E110=0,0,I110/E110) -> 0 | N110: =IF(F110=0,0,J110/F110) -> 0 | T110: =IF(S110=0,0,S110/C110) -> 0
A111: =+A84 -> B7 | B111: =+B84 -> Felhalmozási célú átvett pénzeszközök | L111: =IF(D111=0,0,H111/D111) -> 0 | M111: =IF(E111=0,0,I111/E111) -> 0 | N111: =IF(F111=0,0,J111/F111) -> 0 | T111: =IF(S111=0,0,S111/C111) -> 0
A112: =+A85 -> B8-ból maradványértéken túli finanszírozási bevételek | C112: =+'5. Gólyahír'!C99-C113 -> 88239262 | D112: =+'5. Gólyahír'!D99-D113 -> 88239262 | E112: =+'5. Gólyahír'!E99-E113 -> 90239262 | F112: =+'5. Gólyahír'!F99-F113 -> 0 | H112: =+'5. Gólyahír'!H99-H113 -> 44690436 | I112: =+'5. Gólyahír'!I99-I113 -> 68559031 | J112: =+'5. Gólyahír'!J99-J113 -> 0 | L112: =IF(D112=0,0,H112/D112) -> 0.50646883 | M112: =IF(E112=0,0,I112/E112) -> 0.75974725 | N112: =IF(F112=0,0,J112/F112) -> 0 | P112: =+'5. Gólyahír'!P99-P113 -> 0 | Q112: =+'5. Gólyahír'!Q99-Q113 -> 2000000 | R112: =+'5. Gólyahír'!R99-R113 -> 0 | S112: =+'5. Gólyahír'!S99-S113 -> 2000000 | T112: =IF(S112=0,0,S112/C112) -> 0.022665647
A113: =+A86 -> B8-ból előző évi mardvány igénybevétele | C113: =+'5. Gólyahír'!C101 -> 1007208 | D113: =+'5. Gólyahír'!D101 -> 1007208 | E113: =+'5. Gólyahír'!E101 -> 1007208 | F113: =+'5. Gólyahír'!F101 -> 0 | H113: =+'5. Gólyahír'!H101 -> 1007208 | I113: =+'5. Gólyahír'!I101 -> 1007208 | J113: =+'5. Gólyahír'!J101 -> 0 | L113: =IF(D113=0,0,H113/D113) -> 1 | M113: =IF(E113=0,0,I113/E113) -> 1 | N113: =IF(F113=0,0,J113/F113) -> 0 | P113: =+'5. Gólyahír'!P101 -> 0 | Q113: =+'5. Gólyahír'!Q101 -> 0 | R113: =+'5. Gólyahír'!R101 -> 0 | S113: =+'5. Gólyahír'!S101 -> 0 | T113: =IF(S113=0,0,S113/C113) -> 0
B114: BEVÉTELEK ÖSSZESEN | C114: =SUM(C105:C113) -> 93957000 | D114: =SUM(D105:D113) -> 93957000 | E114: =SUM(E105:E113) -> 95957000 | F114: =SUM(F105:F113) -> 0 | H114: =SUM(H105:H113) -> 48449408 | I114: =SUM(I105:I113) -> 73879268 | J114: =SUM(J105:J113) -> 0 | L114: =IF(D114=0,0,H114/D114) -> 0.51565512 | M114: =IF(E114=0,0,I114/E114) -> 0.76992057 | N114: =IF(F114=0,0,J114/F114) -> 0 | P114: =SUM(P105:P113) -> 0 | Q114: =SUM(Q105:Q113) -> 2000000 | R114: =SUM(R105:R113) -> 0 | S114: =SUM(S105:S113) -> 2000000 | T114: =IF(S114=0,0,S114/C114) -> 0.021286333
B116: EGYENLEG | C116: =+C114-C103 -> 0 | D116: =+D114-D103 -> 0 | E116: =+E114-E103 -> 0 | F116: =+F114-F103 -> 0 | H116: =+H114-H103 -> 3359566 | I116: =+I114-I103 -> 3643197 | J116: =+J114-J103 -> 0 | L116: =IF(D116=0,0,H116/D116) -> 0 | M116: =IF(E116=0,0,I116/E116) -> 0 | N116: =IF(F116=0,0,J116/F116) -> 0 | P116: =+P114-P103 -> 0 | Q116: =+Q114-Q103 -> 0 | R116: =+R114-R103 -> 0 | S116: =+S114-S103 -> 0
A119: Polgármesteri Hivatal
A121: K1 | B121: =+B94 -> Személyi juttatások | C121: =+'4. Polg.Hiv.'!C13 -> 136770000 | D121: =+'4. Polg.Hiv.'!D13 -> 138910000 | E121: =+'4. Polg.Hiv.'!E13 -> 138910000 | F121: =+'4. Polg.Hiv.'!F13 -> 0 | H121: =+'4. Polg.Hiv.'!H13 -> 73242121 | I121: =+'4. Polg.Hiv.'!I13 -> 105852857 | J121: =+'4. Polg.Hiv.'!J13 -> 0 | L121: =IF(D121=0,0,H121/D121) -> 0.52726313 | M121: =IF(E121=0,0,I121/E121) -> 0.76202474 | N121: =IF(F121=0,0,J121/F121) -> 0 | P121: =D121-C121 -> 2140000 | Q121: =+E121-D121 -> 0 | R121: =+'4. Polg.Hiv.'!R13 -> 0 | S121: =+'4. Polg.Hiv.'!S13 -> 2140000 | T121: =IF(S121=0,0,S121/C121) -> 0.015646706
A122: K2 | B122: =+B95 -> Munkaadót terhelő járulékok és szociális hozzájárulás | C122: =+'4. Polg.Hiv.'!C29 -> 17900000 | D122: =+'4. Polg.Hiv.'!D29 -> 18200308 | E122: =+'4. Polg.Hiv.'!E29 -> 18200308 | F122: =+'4. Polg.Hiv.'!F29 -> 0 | H122: =+'4. Polg.Hiv.'!H29 -> 11393724 | I122: =+'4. Polg.Hiv.'!I29 -> 15628466 | J122: =+'4. Polg.Hiv.'!J29 -> 0 | L122: =IF(D122=0,0,H122/D122) -> 0.6260182 | M122: =IF(E122=0,0,I122/E122) -> 0.85869239 | N122: =IF(F122=0,0,J122/F122) -> 0 | P122: =+'4. Polg.Hiv.'!P29 -> 300308 | Q122: =+'4. Polg.Hiv.'!Q29 -> 0 | R122: =+'4. Polg.Hiv.'!R29 -> 0 | S122: =+'4. Polg.Hiv.'!S29 -> 300308 | T122: =IF(S122=0,0,S122/C122) -> 0.016776983
A123: K3 | B123: =+B96 -> Dologi kiadások | C123: =+'4. Polg.Hiv.'!C32 -> 10760000 | D123: =+'4. Polg.Hiv.'!D32 -> 11303965 | E123: =+'4. Polg.Hiv.'!E32 -> 11303965 | F123: =+'4. Polg.Hiv.'!F32 -> 0 | H123: =+'4. Polg.Hiv.'!H32 -> 6649553 | I123: =+'4. Polg.Hiv.'!I32 -> 9705924 | J123: =+'4. Polg.Hiv.'!J32 -> 0 | L123: =IF(D123=0,0,H123/D123) -> 0.58824961 | M123: =IF(E123=0,0,I123/E123) -> 0.85863005 | N123: =IF(F123=0,0,J123/F123) -> 0 | P123: =+'4. Polg.Hiv.'!P32 -> 543965 | Q123: =+'4. Polg.Hiv.'!Q32 -> 0 | R123: =+'4. Polg.Hiv.'!R32 -> 0 | S123: =+'4. Polg.Hiv.'!S32 -> 543965 | T123: =IF(S123=0,0,S123/C123) -> 0.050554368
A124: K4 | B124: =+B97 -> Elláttotak pénzbeli juttatásai | L124: =IF(D124=0,0,H124/D124) -> 0 | M124: =IF(E124=0,0,I124/E124) -> 0 | N124: =IF(F124=0,0,J124/F124) -> 0 | T124: =IF(S124=0,0,S124/C124) -> 0
A125: K5 | B125: =+B98 -> Egyéb működési célú kiadások | L125: =IF(D125=0,0,H125/D125) -> 0 | M125: =IF(E125=0,0,I125/E125) -> 0 | N125: =IF(F125=0,0,J125/F125) -> 0 | T125: =IF(S125=0,0,S125/C125) -> 0
...

Sheet 1. Sülysáp összesen
A1: Sülysáp Város Önkormányzata és Intézményei | J1: 2022. III. Negyedéves költségvetési beszámoló
A6: BEVÉTELEK
C7: ELŐIRÁNYZAT | H7: REALIZÁLÁS | P7: előirányzat(ok) változása | V7: kontroll
H8: Ft-ban | L8: %-ban | P8: 1 | Q8: 1 | R8: 0
A9: rovat | B9: Megnevezés | C9: Eredeti előirányzat 2022.01.01 | D9: Módosított előirányzat 2022.06.30 | E9: Módosított előirányzat 2022.09.30 | F9: Módosított előirányzat 2022.12.31 | H9: 2022.06.30-ig tényleges realizálás | I9: 2022.09.30-ig tényleges realizálás | J9: 2022.12.31-ig tényleges realizálás | L9: 2022.06.30-i realizálás eredeti előir-hoz képest | M9: 2022.09.30-i realizálás 2022.06.30-i módosított előir-hoz képest | N9: 2022.12.31-i realizálás 2022.09.30-i módosított előir-hoz képest | P9: a 2022.06.30-i az eredetihez képest | Q9: a 2022.09.30-i a 2022.06.30-ihoz képest | R9: a 2022.12.31-i a 2022.09.30-ihoz képest | S9: előirányzatok változása összesen | T9: előirányzatok változása eredetihez képest | U9: kontroll
A10: B1 | B10: Működési célú támogatások államháztartáson belülről | C10: =+'bevételi segédtábla'!C13 -> 780199287 | D10: =+'bevételi segédtábla'!D13 -> 783370506 | E10: =+'bevételi segédtábla'!E13 -> 812937448 | F10: =+'bevételi segédtábla'!F13 -> 0 | H10: =+'bevételi segédtábla'!H13 -> 426403824 | I10: =+'bevételi segédtábla'!I13 -> 615282212 | J10: =+'bevételi segédtábla'!J13 -> 0 | L10: =H10/D10 -> 0.54431948 | M10: =I10/E10 -> 0.75686292 | N10: =J10/F10 -> #DIV/0! | P10: =+'bevételi segédtábla'!P13 -> 3171219 | Q10: =+'bevételi segédtábla'!Q13 -> 29566942 | R10: =+'bevételi segédtábla'!R13 -> 0 | S10: =+'bevételi segédtábla'!S13 -> 32738161 | T10: =IF(C10=0,0,+S10/C10) -> 0.04196128 | V10: =+S10-E10+C10 -> 0
A11: B2 | B11: Felhalmozási célú támogatások államháztartáson belülről | C11: =+'bevételi segédtábla'!C14 -> 70000000 | D11: =+'bevételi segédtábla'!D14 -> 69813054 | E11: =+'bevételi segédtábla'!E14 -> 69813054 | F11: =+'bevételi segédtábla'!F14 -> 0 | H11: =+'bevételi segédtábla'!H14 -> 335582001 | I11: =+'bevételi segédtábla'!I14 -> 359844539 | J11: =+'bevételi segédtábla'!J14 -> 0 | L11: =H11/D11 -> 4.8068661 | M11: =I11/E11 -> 5.1544019 | N11: =J11/F11 -> #DIV/0! | P11: =+'bevételi segédtábla'!P14 -> -186946 | Q11: =+'bevételi segédtábla'!Q14 -> 0 | R11: =+'bevételi segédtábla'!R14 -> 0 | S11: =+'bevételi segédtábla'!S14 -> -186946 | T11: =IF(C11=0,0,+S11/C11) -> -0.0026706571 | V11: =+S11-E11+C11 -> 0
A12: B3 | B12: Közhatalmi bevételek | C12: =+'bevételi segédtábla'!C15 -> 200000000 | D12: =+'bevételi segédtábla'!D15 -> 200000000 | E12: =+'bevételi segédtábla'!E15 -> 200000000 | F12: =+'bevételi segédtábla'!F15 -> 0 | H12: =+'bevételi segédtábla'!H15 -> 122999106 | I12: =+'bevételi segédtábla'!I15 -> 223760794 | J12: =+'bevételi segédtábla'!J15 -> 0 | L12: =H12/D12 -> 0.61499553 | M12: =I12/E12 -> 1.118804 | N12: =J12/F12 -> #DIV/0! | P12: =+'bevételi segédtábla'!P15 -> 0 | Q12: =+'bevételi segédtábla'!Q15 -> 0 | R12: =+'bevételi segédtábla'!R15 -> 0 | S12: =+'bevételi segédtábla'!S15 -> 0 | T12: =IF(C12=0,0,+S12/C12) -> 0 | V12: =+S12-E12+C12 -> 0
A13: B4 | B13: Működési bevételek | C13: =+'bevételi segédtábla'!C16 -> 101501530 | D13: =+'bevételi segédtábla'!D16 -> 101501530 | E13: =+'bevételi segédtábla'!E16 -> 101501530 | F13: =+'bevételi segédtábla'!F16 -> 0 | H13: =+'bevételi segédtábla'!H16 -> 63438970 | I13: =+'bevételi segédtábla'!I16 -> 102607737 | J13: =+'bevételi segédtábla'!J16 -> 0 | L13: =H13/D13 -> 0.62500506 | M13: =I13/E13 -> 1.0108984 | N13: =J13/F13 -> #DIV/0! | P13: =+'bevételi segédtábla'!P16 -> 0 | Q13: =+'bevételi segédtábla'!Q16 -> 0 | R13: =+'bevételi segédtábla'!R16 -> 0 | S13: =+'bevételi segédtábla'!S16 -> 0 | T13: =IF(C13=0,0,+S13/C13) -> 0 | V13: =+S13-E13+C13 -> 0
A14: B5 | B14: Felhalmozási bevételek | C14: =+'bevételi segédtábla'!C17 -> 61100000 | D14: =+'bevételi segédtábla'!D17 -> 123228000 | E14: =+'bevételi segédtábla'!E17 -> 125937553 | F14: =+'bevételi segédtábla'!F17 -> 0 | H14: =+'bevételi segédtábla'!H17 -> 143069306 | I14: =+'bevételi segédtábla'!I17 -> 151653949 | J14: =+'bevételi segédtábla'!J17 -> 0 | L14: =H14/D14 -> 1.161013 | M14: =I14/E14 -> 1.2041996 | N14: =J14/F14 -> #DIV/0! | P14: =+'bevételi segédtábla'!P17 -> 62128000 | Q14: =+'bevételi segédtábla'!Q17 -> 2709553 | R14: =+'bevételi segédtábla'!R17 -> 0 | S14: =+'bevételi segédtábla'!S17 -> 64837553 | T14: =IF(C14=0,0,+S14/C14) -> 1.0611711 | V14: =+S14-E14+C14 -> 0
A15: B6 | B15: Működési célú átvett pénzeszközök | C15: =+'bevételi segédtábla'!C18 -> 0 | D15: =+'bevételi segédtábla'!D18 -> 0 | E15: =+'bevételi segédtábla'!E18 -> 0 | F15: =+'bevételi segédtábla'!F18 -> 0 | H15: =+'bevételi segédtábla'!H18 -> 161668810 | I15: =+'bevételi segédtábla'!I18 -> 161668810 | J15: =+'bevételi segédtábla'!J18 -> 0 | L15: =H15/D15 -> #DIV/0! | M15: =I15/E15 -> #DIV/0! | N15: =J15/F15 -> #DIV/0! | P15: =+'bevételi segédtábla'!P18 -> 0 | Q15: =+'bevételi segédtábla'!Q18 -> 0 | R15: =+'bevételi segédtábla'!R18 -> 0 | S15: =+'bevételi segédtábla'!S18 -> 0 | T15: =IF(C15=0,0,+S15/C15) -> 0 | V15: =+S15-E15+C15 -> 0
A16: B7 | B16: Felhalmozási célú átvett pénzeszközök | C16: =+'bevételi segédtábla'!C19 -> 0 | D16: =+'bevételi segédtábla'!D19 -> 0 | E16: =+'bevételi segédtábla'!E19 -> 0 | F16: =+'bevételi segédtábla'!F19 -> 0 | H16: =+'bevételi segédtábla'!H19 -> 1704190 | I16: =+'bevételi segédtábla'!I19 -> 2172463 | J16: =+'bevételi segédtábla'!J19 -> 0 | L16: =H16/D16 -> #DIV/0! | M16: =I16/E16 -> #DIV/0! | N16: =J16/F16 -> #DIV/0! | P16: =+'bevételi segédtábla'!P19 -> 0 | Q16: =+'bevételi segédtábla'!Q19 -> 0 | R16: =+'bevételi segédtábla'!R19 -> 0 | S16: =+'bevételi segédtábla'!S19 -> 0 | T16: =IF(C16=0,0,+S16/C16) -> 0 | V16: =+S16-E16+C16 -> 0
A17: B8 | B17: Finanszírozási bevételek | C17: =+'bevételi segédtábla'!C20 -> 808469482 | D17: =+'bevételi segédtábla'!D20 -> 808469482 | E17: =+'bevételi segédtábla'!E20 -> 814469482 | F17: =+'bevételi segédtábla'!F20 -> 0 | H17: =+'bevételi segédtábla'!H20 -> 480208383 | I17: =+'bevételi segédtábla'!I20 -> 647974529 | J17: =+'bevételi segédtábla'!J20 -> 0 | L17: =H17/D17 -> 0.59397218 | M17: =I17/E17 -> 0.79557865 | N17: =J17/F17 -> #DIV/0! | P17: =+'bevételi segédtábla'!P20 -> 0 | Q17: =+'bevételi segédtábla'!Q20 -> 6000000 | R17: =+'bevételi segédtábla'!R20 -> 0 | S17: =+'bevételi segédtábla'!S20 -> 6000000 | T17: =IF(C17=0,0,+S17/C17) -> 0.0074214304 | V17: =+S17-E17+C17 -> 0
B18: korrekció intézményeknél megjelenő finanszírozás miatt | C18: =+'bevételi segédtábla'!C21 -> -651420680 | D18: =+'bevételi segédtábla'!D21 -> -651420680 | E18: =+'bevételi segédtábla'!E21 -> -657420680 | F18: =+'bevételi segédtábla'!F21 -> 0 | H18: =+'bevételi segédtábla'!H21 -> -322505082 | I18: =+'bevételi segédtábla'!I21 -> -490271232 | J18: =+'bevételi segédtábla'!J21 -> 0 | L18: =H18/D18 -> 0.49507959 | M18: =I18/E18 -> 0.74574963 | N18: =J18/F18 -> #DIV/0! | P18: =+'bevételi segédtábla'!P21 -> 0 | Q18: =+'bevételi segédtábla'!Q21 -> -6000000 | R18: =+'bevételi segédtábla'!R21 -> 0 | S18: =+'bevételi segédtábla'!S21 -> -6000000 | V18: =+S18-E18+C18 -> 0
B19: BEVÉTELEK ÖSSZESEN | C19: =SUM(C10:C18) -> 1369849619 | D19: =SUM(D10:D18) -> 1434961892 | E19: =SUM(E10:E18) -> 1467238387 | F19: =SUM(F10:F18) -> 0 | H19: =SUM(H10:H18) -> 1412569508 | I19: =SUM(I10:I18) -> 1774693801 | J19: =SUM(J10:J18) -> 0 | L19: =H19/D19 -> 0.98439514 | M19: =I19/E19 -> 1.209547 | N19: =J19/F19 -> #DIV/0! | P19: =SUM(P10:P18) -> 65112273 | Q19: =SUM(Q10:Q18) -> 32276495 | R19: =SUM(R10:R18) -> 0 | S19: =SUM(S10:S18) -> 97388768 | T19: =IF(C19=0,0,+S19/C19) -> 0.071094496 | V19: =+S19-E19+C19 -> 0
A23: KIADÁSOK
C24: ELŐIRÁNYZAT | H24: FELHASZNÁLÁS | P24: előirányzat(ok) változása | V24: kontroll
H25: Ft-ban | L25: %-ban
A26: rovat | B26: Megnevezés | C26: Eredeti előirányzat 2022.01.01 | D26: Módosított előirányzat 2022.06.30 | E26: Módosított előirányzat 2022.09.30 | F26: Módosított előirányzat 2022.12.31 | H26: 2022.06.30-ig tényleges realizálás | I26: 2022.09.30-ig tényleges realizálás | J26: 2022.12.31-ig tényleges realizálás | L26: 2022.06.30-i realizálás eredeti előir-hoz képest | M26: 2022.09.30-i realizálás 2022.06.30-i módosított előir-hoz képest | N26: 2022.12.31-i realizálás 2022.09.30-i módosított előir-hoz képest | P26: a 2022.06.30-i az eredetihez képest | Q26: a 2022.09.30-i a 2022.06.30-ihoz képest | R26: a 2022.12.31-i a 2022.09.30-ihoz képest | S26: előirányzatok változása összesen | T26: előirányzatok változása eredetihez képest
A27: K1 | B27: Személyi juttatások | C27: =+'kiadási segédtábla'!C13 -> 590239000 | D27: =+'kiadási segédtábla'!D13 -> 604139000 | E27: =+'kiadási segédtábla'!E13 -> 604337000 | F27: =+'kiadási segédtábla'!F13 -> 0 | H27: =+'kiadási segédtábla'!H13 -> 284624783 | I27: =+'kiadási segédtábla'!I13 -> 436310302 | J27: =+'kiadási segédtábla'!J13 -> 0 | L27: =H27/C27 -> 0.48221955 | M27: =I27/E27 -> 0.72196523 | N27: =J27/F27 -> #DIV/0! | P27: =+(D27-C27)*P$8 -> 13900000 | Q27: =+(E27-D27)*Q$8 -> 198000 | R27: =+(F27-E27)*R$8 -> 0 | S27: =SUM(P27:R27) -> 14098000 | T27: =IF(C27=0,0,+S27/C27) -> 0.02388524 | V27: =+S27-E27+C27 -> 0
A28: K2 | B28: Munkaadót terhelő járulékok és szociális hozzájárulás | C28: =+'kiadási segédtábla'!C14 -> 76600000 | D28: =+'kiadási segédtábla'!D14 -> 78315308 | E28: =+'kiadási segédtábla'!E14 -> 78315308 | F28: =+'kiadási segédtábla'!F14 -> 0 | H28: =+'kiadási segédtábla'!H14 -> 40732165 | I28: =+'kiadási segédtábla'!I14 -> 60206257 | J28: =+'kiadási segédtábla'!J14 -> 0 | L28: =H28/C28 -> 0.5317515 | M28: =I28/E28 -> 0.76876742 | N28: =J28/F28 -> #DIV/0! | P28: =+(D28-C28)*P$8 -> 1715308 | Q28: =+(E28-D28)*Q$8 -> 0 | R28: =+(F28-E28)*R$8 -> 0 | S28: =SUM(P28:R28) -> 1715308 | T28: =IF(C28=0,0,+S28/C28) -> 0.022393055 | V28: =+S28-E28+C28 -> 0
A29: K3 | B29: Dologi kiadások | C29: =+'kiadási segédtábla'!C15 -> 357274000 | D29: =+'kiadási segédtábla'!D15 -> 346106825 | E29: =+'kiadási segédtábla'!E15 -> 362368286 | F29: =+'kiadási segédtábla'!F15 -> 0 | H29: =+'kiadási segédtábla'!H15 -> 160841788 | I29: =+'kiadási segédtábla'!I15 -> 234965696 | J29: =+'kiadási segédtábla'!J15 -> 0 | L29: =H29/C29 -> 0.4501917 | M29: =I29/E29 -> 0.64841683 | N29: =J29/F29 -> #DIV/0! | P29: =+(D29-C29)*P$8 -> -11167175 | Q29: =+(E29-D29)*Q$8 -> 16261461 | R29: =+(F29-E29)*R$8 -> 0 | S29: =SUM(P29:R29) -> 5094286 | T29: =IF(C29=0,0,+S29/C29) -> 0.014258765 | V29: =+S29-E29+C29 -> 0
A30: K4 | B30: Elláttotak pénzbeli juttatásai | C30: =+'kiadási segédtábla'!C16 -> 16000000 | D30: =+'kiadási segédtábla'!D16 -> 16000000 | E30: =+'kiadási segédtábla'!E16 -> 16000000 | F30: =+'kiadási segédtábla'!F16 -> 0 | H30: =+'kiadási segédtábla'!H16 -> 4998433 | I30: =+'kiadási segédtábla'!I16 -> 8147040 | J30: =+'kiadási segédtábla'!J16 -> 0 | L30: =H30/C30 -> 0.31240206 | M30: =I30/E30 -> 0.50919 | N30: =J30/F30 -> #DIV/0! | P30: =+(D30-C30)*P$8 -> 0 | Q30: =+(E30-D30)*Q$8 -> 0 | R30: =+(F30-E30)*R$8 -> 0 | S30: =SUM(P30:R30) -> 0 | T30: =IF(C30=0,0,+S30/C30) -> 0 | V30: =+S30-E30+C30 -> 0
A31: K5 | B31: Egyéb működési célú kiadások | C31: =+'kiadási segédtábla'!C17 -> 151426315 | D31: =+'kiadási segédtábla'!D17 -> 221879015 | E31: =+'kiadási segédtábla'!E17 -> 225231315 | F31: =+'kiadási segédtábla'!F17 -> 0 | H31: =+'kiadási segédtábla'!H17 -> 91594087 | I31: =+'kiadási segédtábla'!I17 -> 153439419 | J31: =+'kiadási segédtábla'!J17 -> 0 | L31: =H31/C31 -> 0.60487563 | M31: =I31/E31 -> 0.6812526 | N31: =J31/F31 -> #DIV/0! | P31: =+(D31-C31)*P$8 -> 70452700 | Q31: =+(E31-D31)*Q$8 -> 3352300 | R31: =+(F31-E31)*R$8 -> 0 | S31: =SUM(P31:R31) -> 73805000 | T31: =IF(C31=0,0,+S31/C31) -> 0.48739877 | V31: =+S31-E31+C31 -> 0
A32: K6 | B32: Beruházások | C32: =+'kiadási segédtábla'!C18 -> 70280500 | D32: =+'kiadási segédtábla'!D18 -> 59793445 | E32: =+'kiadási segédtábla'!E18 -> 72112179 | F32: =+'kiadási segédtábla'!F18 -> 0 | H32: =+'kiadási segédtábla'!H18 -> 11687839 | I32: =+'kiadási segédtábla'!I18 -> 61419713 | J32: =+'kiadási segédtábla'!J18 -> 0 | L32: =H32/C32 -> 0.16630273 | M32: =I32/E32 -> 0.85172455 | N32: =J32/F32 -> #DIV/0! | P32: =+(D32-C32)*P$8 -> -10487055 | Q32: =+(E32-D32)*Q$8 -> 12318734 | R32: =+(F32-E32)*R$8 -> 0 | S32: =SUM(P32:R32) -> 1831679 | T32: =IF(C32=0,0,+S32/C32) -> 0.026062407 | V32: =+S32-E32+C32 -> 0
A33: K7 | B33: Felújítások | C33: =+'kiadási segédtábla'!C19 -> 83452445 | D33: =+'kiadási segédtábla'!D19 -> 83452445 | E33: =+'kiadási segédtábla'!E19 -> 83452445 | F33: =+'kiadási segédtábla'!F19 -> 0 | H33: =+'kiadási segédtábla'!H19 -> 32771553 | I33: =+'kiadási segédtábla'!I19 -> 35385584 | J33: =+'kiadási segédtábla'!J19 -> 0 | L33: =H33/C33 -> 0.39269734 | M33: =I33/E33 -> 0.42402094 | N33: =J33/F33 -> #DIV/0! | P33: =+(D33-C33)*P$8 -> 0 | Q33: =+(E33-D33)*Q$8 -> 0 | R33: =+(F33-E33)*R$8 -> 0 | S33: =SUM(P33:R33) -> 0 | T33: =IF(C33=0,0,+S33/C33) -> 0 | V33: =+S33-E33+C33 -> 0
A34: K8 | B34: Egyéb felhalmozási célú kiadások | C34: =+'kiadási segédtábla'!C20 -> 0 | D34: =+'kiadási segédtábla'!D20 -> 44000 | E34: =+'kiadási segédtábla'!E20 -> 190000 | F34: =+'kiadási segédtábla'!F20 -> 0 | H34: =+'kiadási segédtábla'!H20 -> 43039 | I34: =+'kiadási segédtábla'!I20 -> 188702 | J34: =+'kiadási segédtábla'!J20 -> 0 | L34: =H34/C34 -> #DIV/0! | M34: 0 | N34: 0 | P34: =+(D34-C34)*P$8 -> 44000 | Q34: =+(E34-D34)*Q$8 -> 146000 | R34: =+(F34-E34)*R$8 -> 0 | S34: =SUM(P34:R34) -> 190000 | T34: =IF(C34=0,0,+S34/C34) -> 0 | V34: =+S34-E34+C34 -> 0
A35: K9 | B35: Finanszírozási kiadások | C35: =+'kiadási segédtábla'!C21 -> 675998039 | D35: =+'kiadási segédtábla'!D21 -> 676652534 | E35: =+'kiadási segédtábla'!E21 -> 682652534 | F35: =+'kiadási segédtábla'!F21 -> 0 | H35: =+'kiadási segédtábla'!H21 -> 347736936 | I35: =+'kiadási segédtábla'!I21 -> 515503086 | J35: =+'kiadási segédtábla'!J21 -> 0 | L35: =H35/C35 -> 0.51440524 | M35: =+I35/E35 -> 0.75514711 | N35: =+J35/F35 -> #DIV/0! | P35: =+(D35-C35)*P$8 -> 654495 | Q35: =+(E35-D35)*Q$8 -> 6000000 | R35: =+(F35-E35)*R$8 -> 0 | S35: =SUM(P35:R35) -> 6654495 | T35: =IF(C35=0,0,+S35/C35) -> 0.0098439561 | V35: =+S35-E35+C35 -> 0
B36: korrekció intézményeknél megjelenő finanszírozás miatt | C36: =+'kiadási segédtábla'!C22 -> -651420680 | D36: =+'kiadási segédtábla'!D22 -> -651420680 | E36: =+'kiadási segédtábla'!E22 -> -657420680 | F36: =-'kiadási segédtábla'!F145 -> 0 | H36: =-'kiadási segédtábla'!H145 -> -322505082 | I36: =-'kiadási segédtábla'!I145 -> -490271232 | J36: =-'kiadási segédtábla'!J145 -> 0 | L36: =H36/C36 -> 0.49507959 | M36: =+I36/E36 -> 0.74574963 | N36: =+J36/F36 -> #DIV/0! | P36: =+(D36-C36)*P$8 -> 0 | Q36: =+(E36-D36)*Q$8 -> -6000000 | R36: =+(F36-E36)*R$8 -> 0 | S36: =SUM(P36:R36) -> -6000000
B37: KIADÁSOK ÖSSZESEN | C37: =SUM(C27:C36) -> 1369849619 | D37: =SUM(D27:D36) -> 1434961892 | E37: =SUM(E27:E36) -> 1467238387 | F37: =SUM(F27:F36) -> 0 | H37: =SUM(H27:H36) -> 652525541 | I37: =SUM(I27:I36) -> 1015294567 | J37: =SUM(J27:J36) -> 0 | L37: =+H37/C37 -> 0.4763483 | M37: =+I37/E37 -> 0.69197656 | N37: =+J37/F37 -> #DIV/0! | P37: =SUM(P27:P36) -> 65112273 | Q37: =SUM(Q27:Q36) -> 32276495 | R37: =SUM(R27:R36) -> 0 | S37: =SUM(S27:S36) -> 97388768 | T37: =IF(C37=0,0,+S37/C37) -> 0.071094496 | V37: =+S37-E37+C37 -> 0
B41: kontroll | C41: =+C19-C37 -> 0 | D41: =+D19-D37 -> 0 | E41: =+E19-E37 -> 0 | F41: =+F19-F37 -> 0 | H41: =+H19-H37 -> 760043967 | I41: =+I19-I37 -> 759399234 | J41: =+J19-J37 -> 0 | L41: =+L19-L37 -> 0.50804683 | M41: =+M19-M37 -> 0.51757045 | N41: =+N19-N37 -> #DIV/0! | P41: =+P19-P37 -> 0 | Q41: =+Q19-Q37 -> 0 | R41: =+R19-R37 -> 0 | S41: =+S19-S37 -> 0 | T41: =IF(C41=0,0,+S41/C41) -> 0 | V41: =+S41-E41+C41 -> 0

Sheet  2. Önk. Bevételek
A1: Sülysáp Város Önkormányzata | J1: =+'1. Sülysáp összesen'!J1 -> 2022. III. Negyedéves költségvetési beszámoló | K1: BEVÉTELEI | L1: BEVÉTELEI
C7: ELŐIRÁNYZAT | H7: REALIZÁLÁS | P7: előirányzat(ok) változása
H8: Ft-ban | L8: %-ban | P8: =+'1. Sülysáp összesen'!P8 -> 1 | Q8: =+'1. Sülysáp összesen'!Q8 -> 1 | R8: =+'1. Sülysáp összesen'!R8 -> 0
B9: Bevételek összesen | C9: =+C96 -> 1307317299 | D9: =+D96 -> 1369445299 | E9: =+E96 -> 1401721794 | F9: =+F96 -> 0 | H9: =+H96 -> 1358645963 | I9: =+I96 -> 1707212719 | J9: =+J96 -> 0 | L9: =H9/C9 -> 1.0392626 | M9: =I9/D9 -> 1.2466454 | N9: =J9/E9 -> 0 | P9: =+P96 -> 62128000 | Q9: =+Q96 -> 32276495 | R9: =+R96 -> 0 | S9: =+S96 -> 94404495 | T9: =IF(C9=0,0,+S9/C9) -> 0.072212381 | U9: =+R9-D9+B9 -> #VALUE! | V9: =+S9-E9+C9 -> 0
A11: Rovat | B11: Megnevezés | C11: Eredeti előirányzat 2022.01.01 | D11: Módosított előirányzat 2022.06.30 | E11: Módosított előirányzat 2022.09.30 | F11: Módosított előirányzat 2022.12.31 | H11: 2022.06.30-ig tényleges felhasználás | I11: 2022.09.30-ig tényleges felhasználás | J11: 2022.12.31-ig tényleges felhasználás | L11: 2022.06.30-i felhasználás eredeti előir-hoz képest | M11: 2022.09.30-i felhasználás 2022.06.30-i módosított előir-hoz képest | N11: 2022.12.31-i felhasználás 2022.09.30-i módosított előir-hoz képest | P11: a 2022.06.30-i az eredetihez képest | Q11: a 2022.09.30-i a 2022.06.30-ihoz képest | R11: a 2022.12.31-i a 2022.09.30-ihoz képest | S11: előirányzatok változása összesen | T11: előirányzatok változása eredetihez képest | V11: kontroll
A13: B1 | B13: Működési célú támogatások államháztartáson belülről | C13: =+C14+C21+C22+C23+C24+C25 -> 780199287 | D13: =+D14+D21+D22+D23+D24+D25 -> 780386233 | E13: =+E14+E21+E22+E23+E24+E25 -> 809953175 | F13: =+F14+F21+F22+F23+F24+F25 -> 0 | H13: =+H14+H21+H22+H23+H24+H25 -> 414017409 | I13: =+I14+I21+I22+I23+I24+I25 -> 602895797 | J13: =+J14+J21+J22+J23+J24+J25 -> 0 | L13: =IF(H13>0,H13/C13,0) -> 0.53065597 | M13: =IF(I13>0,I13/D13,0) -> 0.77256078 | N13: =IF(J13>0,J13/E13,0) -> 0 | P13: =+(D13-C13)*P$8 -> 186946 | Q13: =+(E13-D13)*Q$8 -> 29566942 | R13: =+(F13-E13)*R$8 -> 0 | S13: =+P13*P$8+Q13*Q$8+Q13*G$8 -> 29753888 | T13: =IF(C13=0,0,+S13/C13) -> 0.038136267 | V13: =+S13-E13+C13 -> 0
A14: B11 | B14: Önkormányzatok működési támogatása | C14: =SUM(C15:C20) -> 734119287 | D14: =SUM(D15:D20) -> 734306233 | E14: =SUM(E15:E20) -> 751128680 | F14: =SUM(F15:F20) -> 0 | H14: =SUM(H15:H20) -> 386537637 | I14: =SUM(I15:I20) -> 554830373 | J14: =SUM(J15:J20) -> 0 | L14: =IF(H14>0,H14/C14,0) -> 0.52653246 | M14: =IF(I14>0,I14/D14,0) -> 0.75558445 | N14: =IF(J14>0,J14/E14,0) -> 0 | P14: =+(D14-C14)*P$8 -> 186946 | Q14: =+(E14-D14)*Q$8 -> 16822447 | R14: =+(F14-E14)*R$8 -> 0 | S14: =+P14*P$8+Q14*Q$8+Q14*G$8 -> 17009393 | T14: =IF(C14=0,0,+S14/C14) -> 0.023169794 | V14: =+S14-E14+C14 -> 0
A15: B111 | B15: Helyi önkormányzatok működésének általános támogatása | C15: =+'12_B11'!F7 -> 207561030 | D15: 207561030 | E15: 207561030 | H15: 107931738 | I15: 157746387 | L15: =IF(H15>0,H15/C15,0) -> 0.52000001 | M15: =IF(I15>0,I15/D15,0) -> 0.76000002 | N15: =IF(J15>0,J15/E15,0) -> 0 | P15: =+(D15-C15)*P$8 -> 0 | Q15: =+(E15-D15)*Q$8 -> 0 | R15: =+(F15-E15)*R$8 -> 0 | S15: =+P15*P$8+Q15*Q$8+Q15*G$8 -> 0 | T15: =IF(C15=0,0,+S15/C15) -> 0 | V15: =+S15-E15+C15 -> 0
A16: B112 | B16: Települési önkormányzatok egyes köznevelési feladatainak támogatása | C16: =+'12_B11'!F8 -> 259677180 | D16: 259677180 | E16: 260412030 | H16: 135032132 | I16: 197722079 | L16: =IF(H16>0,H16/C16,0) -> 0.51999999 | M16: =IF(I16>0,I16/D16,0) -> 0.76141492 | N16: =IF(J16>0,J16/E16,0) -> 0 | P16: =+(D16-C16)*P$8 -> 0 | Q16: =+(E16-D16)*Q$8 -> 734850 | R16: =+(F16-E16)*R$8 -> 0 | S16: =+P16*P$8+Q16*Q$8+Q16*G$8 -> 734850 | T16: =IF(C16=0,0,+S16/C16) -> 0.0028298598 | V16: =+S16-E16+C16 -> 0
A17: B113 | B17: Települési önkormányzatok szociális és gyermekjóléti feladatainak támogatása | C17: =+'12_B11'!F9 -> 178103772 | D17: =105667343+72436429 -> 178103772 | E17: 193943136 | H17: =61795314+36503194 -> 98298508 | I17: =93992312+53187784 -> 147180096 | L17: =IF(H17>0,H17/C17,0) -> 0.55191705 | M17: =IF(I17>0,I17/D17,0) -> 0.82637271 | N17: =IF(J17>0,J17/E17,0) -> 0 | P17: =+(D17-C17)*P$8 -> 0 | Q17: =+(E17-D17)*Q$8 -> 15839364 | R17: =+(F17-E17)*R$8 -> 0 | S17: =+P17*P$8+Q17*Q$8+Q17*G$8 -> 15839364 | T17: =IF(C17=0,0,+S17/C17) -> 0.088933344 | V17: =+S17-E17+C17 -> 0
A18: B114 | B18: Települési önkormányzatok kulturális feladatainak támogatása | C18: =+'12_B11'!F10 -> 18777305 | D18: 18777305 | E18: 28777305 | H18: 14964196 | I18: 21870748 | L18: =IF(H18>0,H18/C18,0) -> 0.79692991 | M18: =IF(I18>0,I18/D18,0) -> 1.1647437 | N18: =IF(J18>0,J18/E18,0) -> 0 | P18: =+(D18-C18)*P$8 -> 0 | Q18: =+(E18-D18)*Q$8 -> 10000000 | R18: =+(F18-E18)*R$8 -> 0 | S18: =+P18*P$8+Q18*Q$8+Q18*G$8 -> 10000000 | T18: =IF(C18=0,0,+S18/C18) -> 0.53255779 | V18: =+S18-E18+C18 -> 0
A19: B115 | B19: Működési célú központosított előirányzatok | C19: 70000000 | D19: 70000000 | E19: 60248233 | H19: 30124117 | I19: 30124117 | L19: =IF(H19>0,H19/C19,0) -> 0.43034453 | M19: =IF(I19>0,I19/D19,0) -> 0.43034453 | N19: =IF(J19>0,J19/E19,0) -> 0 | P19: =+(D19-C19)*P$8 -> 0 | Q19: =+(E19-D19)*Q$8 -> -9751767 | R19: =+(F19-E19)*R$8 -> 0 | S19: =+P19*P$8+Q19*Q$8+Q19*G$8 -> -9751767 | T19: =IF(C19=0,0,+S19/C19) -> -0.13931096 | V19: =+S19-E19+C19 -> 0
A20: B116 | B20: Helyi önkormányzatok kiegészítő támogatásai | C20: 0 | D20: 186946 | E20: 186946 | H20: 186946 | I20: 186946 | L20: =IF(H20>0,H20/C20,0) -> #DIV/0! | M20: =IF(I20>0,I20/D20,0) -> 1 | N20: =IF(J20>0,J20/E20,0) -> 0 | P20: =+(D20-C20)*P$8 -> 186946 | Q20: =+(E20-D20)*Q$8 -> 0 | R20: =+(F20-E20)*R$8 -> 0 | S20: =+P20*P$8+Q20*Q$8+Q20*G$8 -> 186946 | T20: =IF(C20=0,0,+S20/C20) -> 0 | V20: =+S20-E20+C20 -> 0
A21: B12 | B21: Elvonások és befizetések bevételei | L21: =IF(H21>0,H21/C21,0) -> 0 | M21: =IF(I21>0,I21/D21,0) -> 0 | N21: =IF(J21>0,J21/E21,0) -> 0 | P21: =+(D21-C21)*P$8 -> 0 | Q21: =+(E21-D21)*Q$8 -> 0 | R21: =+(F21-E21)*R$8 -> 0 | S21: =+P21*P$8+Q21*Q$8+Q21*G$8 -> 0 | T21: =IF(C21=0,0,+S21/C21) -> 0 | V21: =+S21-E21+C21 -> 0
A22: B13 | B22: Működési célú garancia és kezességvállalásból származó megtérülések államháztartáson belülről | L22: =IF(H22>0,H22/C22,0) -> 0 | M22: =IF(I22>0,I22/D22,0) -> 0 | N22: =IF(J22>0,J22/E22,0) -> 0 | P22: =+(D22-C22)*P$8 -> 0 | Q22: =+(E22-D22)*Q$8 -> 0 | R22: =+(F22-E22)*R$8 -> 0 | S22: =+P22*P$8+Q22*Q$8+Q22*G$8 -> 0 | T22: =IF(C22=0,0,+S22/C22) -> 0 | V22: =+S22-E22+C22 -> 0
A23: B14 | B23: Működési célú visszatérítendő támogatások, kölcsönök visszatérülése államháztartáson belűlről | L23: =IF(H23>0,H23/C23,0) -> 0 | M23: =IF(I23>0,I23/D23,0) -> 0 | N23: =IF(J23>0,J23/E23,0) -> 0 | P23: =+(D23-C23)*P$8 -> 0 | Q23: =+(E23-D23)*Q$8 -> 0 | R23: =+(F23-E23)*R$8 -> 0 | S23: =+P23*P$8+Q23*Q$8+Q23*G$8 -> 0 | T23: =IF(C23=0,0,+S23/C23) -> 0 | V23: =+S23-E23+C23 -> 0
A24: B15 | B24: Működési célú visszatérítendő támogatások igénybevétele államháztartáson belülről | L24: =IF(H24>0,H24/C24,0) -> 0 | M24: =IF(I24>0,I24/D24,0) -> 0 | N24: =IF(J24>0,J24/E24,0) -> 0 | P24: =+(D24-C24)*P$8 -> 0 | Q24: =+(E24-D24)*Q$8 -> 0 | R24: =+(F24-E24)*R$8 -> 0 | S24: =+P24*P$8+Q24*Q$8+Q24*G$8 -> 0 | T24: =IF(C24=0,0,+S24/C24) -> 0 | V24: =+S24-E24+C24 -> 0
A25: B16 | B25: Egyéb működési célú támogatások bevételei államháztartáson belülről (OEP vődőnők,közfogl., mezőőr) | C25: =SUM(C26:C29) -> 46080000 | D25: =SUM(D26:D29) -> 46080000 | E25: =SUM(E26:E29) -> 58824495 | H25: =SUM(H26:H29) -> 27479772 | I25: =SUM(I26:I29) -> 48065424 | L25: =IF(H25>0,H25/C25,0) -> 0.59634922 | M25: =IF(I25>0,I25/D25,0) -> 1.0430865 | N25: =IF(J25>0,J25/E25,0) -> 0 | P25: =+P26+P27+P28+P29 -> 0 | Q25: =+Q26+Q27+Q28+Q29 -> 12744495 | R25: =+R26+R27+R28+R29 -> 0 | S25: =+P25*P$8+Q25*Q$8+Q25*G$8 -> 12744495 | T25: =IF(C25=0,0,+S25/C25) -> 0.27657324 | V25: =+S25-E25+C25 -> 0
A26: B16-01 | B26: Egyéb működési támogatás központi költségvetési szervtől (társadaép,biztosítás pénzügyi alapjai, foglalkoztatást helyettesítő bérkompenzáció) | C26: 20000000 | D26: 20000000 | E26: =26000000+12744495 -> 38744495 | H26: 18062000 | I26: 30557400 | L26: =IF(H26>0,H26/C26,0) -> 0.9031 | M26: =IF(I26>0,I26/D26,0) -> 1.52787 | N26: =IF(J26>0,J26/E26,0) -> 0 | P26: =+(D26-C26)*P$8 -> 0 | Q26: =+(E26-D26)*Q$8 -> 18744495 | R26: =+(F26-E26)*R$8 -> 0 | S26: =+P26*P$8+Q26*Q$8+Q26*G$8 -> 18744495 | T26: =IF(C26=0,0,+S26/C26) -> 0.93722475 | V26: =+S26-E26+C26 -> 0
A27: B16-02 | B27: Egyéb műk. c. tám kozponti kezelésű ei-tól (mezőőr, Hungaricum, Diákmunka) | C27: =270000*4 -> 1080000 | D27: =270000*4 -> 1080000 | E27: =5080000 -> 5080000 | H27: 270000 | I27: 5060000 | L27: =IF(H27>0,H27/C27,0) -> 0.25 | M27: =IF(I27>0,I27/D27,0) -> 4.6851852 | N27: =IF(J27>0,J27/E27,0) -> 0 | P27: =+(D27-C27)*P$8 -> 0 | Q27: =+(E27-D27)*Q$8 -> 4000000 | R27: =+(F27-E27)*R$8 -> 0 | S27: =+P27*P$8+Q27*Q$8+Q27*G$8 -> 4000000 | T27: =IF(C27=0,0,+S27/C27) -> 3.7037037 | V27: =+S27-E27+C27 -> 0
A28: B16-03 | B28: Egyéb műk c. tám. (Társulások és költségvetési szerveik) | C28: 0 | D28: 0 | E28: 0 | H28: 0 | I28: 0 | L28: =IF(H28>0,H28/C28,0) -> 0 | M28: =IF(I28>0,I28/D28,0) -> 0 | N28: =IF(J28>0,J28/E28,0) -> 0 | P28: =+(D28-C28)*P$8 -> 0 | Q28: =+(E28-D28)*Q$8 -> 0 | R28: =+(F28-E28)*R$8 -> 0 | S28: =+P28*P$8+Q28*Q$8+Q28*G$8 -> 0 | T28: =IF(C28=0,0,+S28/C28) -> 0 | V28: =+S28-E28+C28 -> 0
A29: B16-04 | B29: Egéyb műk c. tám. Elk. Áll. Pénzalapoktól (Közfoglalkoztatottakra kapott tám.) | C29: 25000000 | D29: 25000000 | E29: =15000000 -> 15000000 | H29: 9147772 | I29: 12448024 | L29: =IF(H29>0,H29/C29,0) -> 0.36591088 | M29: =IF(I29>0,I29/D29,0) -> 0.49792096 | N29: =IF(J29>0,J29/E29,0) -> 0 | P29: =+(D29-C29)*P$8 -> 0 | Q29: =+(E29-D29)*Q$8 -> -10000000 | R29: =+(F29-E29)*R$8 -> 0 | S29: =+P29*P$8+Q29*Q$8+Q29*G$8 -> -10000000 | T29: =IF(C29=0,0,+S29/C29) -> -0.4 | V29: =+S29-E29+C29 -> 0
A30: B2 | B30: Felhalmozási célú támogatások államháztartáson belülről | C30: =SUM(C31:C35) -> 70000000 | D30: =SUM(D31:D35) -> 69813054 | E30: =SUM(E31:E35) -> 69813054 | F30: =SUM(F31:F35) -> 0 | H30: =SUM(H31:H35) -> 335582001 | I30: =SUM(I31:I35) -> 359844539 | J30: =SUM(J31:J35) -> 0 | L30: =IF(H30>0,H30/C30,0) -> 4.7940286 | M30: =IF(I30>0,I30/D30,0) -> 5.1544019 | N30: =IF(J30>0,J30/E30,0) -> 0 | P30: =SUM(P31:P35) -> -186946 | Q30: =SUM(Q31:Q35) -> 0 | R30: =SUM(R31:R35) -> 0 | S30: =+P30*P$8+Q30*Q$8+Q30*G$8 -> -186946 | T30: =IF(C30=0,0,+S30/C30) -> -0.0026706571 | V30: =+S30-E30+C30 -> 0
A31: B21 | B31: Felhalmozási célú önkormányzati támogatások | D31: 33855855 | E31: 33855855 | H31: 33855855 | I31: 33855855 | L31: =IF(H31>0,H31/C31,0) -> #DIV/0! | M31: =IF(I31>0,I31/D31,0) -> 1 | N31: =IF(J31>0,J31/E31,0) -> 0 | P31: =+(D31-C31)*P$8 -> 33855855 | Q31: =+(E31-D31)*Q$8 -> 0 | R31: =+(F31-E31)*R$8 -> 0 | S31: =+P31*P$8+Q31*Q$8+Q31*G$8 -> 33855855 | T31: =IF(C31=0,0,+S31/C31) -> 0 | V31: =+S31-E31+C31 -> 0
A32: B22 | B32: Felhalmozási célú garancia és kezességvállalásból származó minek a megtérülése államháztartáson belülről | L32: =IF(H32>0,H32/C32,0) -> 0 | M32: =IF(I32>0,I32/D32,0) -> 0 | N32: =IF(J32>0,J32/E32,0) -> 0 | P32: =+(D32-C32)*P$8 -> 0 | Q32: =+(E32-D32)*Q$8 -> 0 | R32: =+(F32-E32)*R$8 -> 0 | S32: =+P32*P$8+Q32*Q$8+Q32*G$8 -> 0 | T32: =IF(C32=0,0,+S32/C32) -> 0 | V32: =+S32-E32+C32 -> 0
A33: B23 | B33: Felhalmozási célú visszatéritendő támogatások, kölcsönök visszatérülése államháztartáson belülről | L33: =IF(H33>0,H33/C33,0) -> 0 | M33: =IF(I33>0,I33/D33,0) -> 0 | N33: =IF(J33>0,J33/E33,0) -> 0 | P33: =+(D33-C33)*P$8 -> 0 | Q33: =+(E33-D33)*Q$8 -> 0 | R33: =+(F33-E33)*R$8 -> 0 | S33: =+P33*P$8+Q33*Q$8+Q33*G$8 -> 0 | T33: =IF(C33=0,0,+S33/C33) -> 0 | V33: =+S33-E33+C33 -> 0
A34: B24 | B34: Felhalmozási célú visszatérítendő támogatások, kölcsönök igénybevétele államháztartáson belülről | L34: =IF(H34>0,H34/C34,0) -> 0 | M34: =IF(I34>0,I34/D34,0) -> 0 | N34: =IF(J34>0,J34/E34,0) -> 0 | P34: =+(D34-C34)*P$8 -> 0 | Q34: =+(E34-D34)*Q$8 -> 0 | R34: =+(F34-E34)*R$8 -> 0 | S34: =+P34*P$8+Q34*Q$8+Q34*G$8 -> 0 | T34: =IF(C34=0,0,+S34/C34) -> 0 | V34: =+S34-E34+C34 -> 0
A35: B25 | B35: Egyéb felhalmozási célú támogatások bevételei államháztartáson belülről | C35: =+'11_Önk Bev részletező'!D6 -> 70000000 | D35: 35957199 | E35: 35957199 | F35: =SUM(F36:F38) -> 0 | H35: 301726146 | I35: 325988684 | J35: =SUM(J36:J38) -> 0 | L35: =IF(H35>0,H35/C35,0) -> 4.3103735 | M35: =IF(I35>0,I35/D35,0) -> 9.06602 | N35: =IF(J35>0,J35/E35,0) -> 0 | P35: =+(D35-C35)*P$8 -> -34042801 | Q35: =+(E35-D35)*Q$8 -> 0 | R35: =+(F35-E35)*R$8 -> 0 | S35: =+P35*P$8+Q35*Q$8+Q35*G$8 -> -34042801 | T35: =IF(C35=0,0,+S35/C35) -> -0.48632573 | V35: =+S35-E35+C35 -> 0
I36: 0 | P36: =+(D36-C36)*P$8 -> 0 | Q36: =+(E36-D36)*Q$8 -> 0 | R36: =+(F36-E36)*R$8 -> 0 | S36: =+P36*P$8+Q36*Q$8+Q36*G$8 -> 0 | T36: =IF(C36=0,0,+S36/C36) -> 0 | V36: =+S36-E36+C36 -> 0
P37: =+(D37-C37)*P$8 -> 0 | Q37: =+(E37-D37)*Q$8 -> 0 | R37: =+(F37-E37)*R$8 -> 0 | S37: =+P37*P$8+Q37*Q$8+Q37*G$8 -> 0 | T37: =IF(C37=0,0,+S37/C37) -> 0 | V37: =+S37-E37+C37 -> 0
P38: =+(D38-C38)*P$8 -> 0 | Q38: =+(E38-D38)*Q$8 -> 0 | R38: =+(F38-E38)*R$8 -> 0 | S38: =+P38*P$8+Q38*Q$8+Q38*G$8 -> 0 | T38: =IF(C38=0,0,+S38/C38) -> 0 | V38: =+S38-E38+C38 -> 0
A39: B3 | B39: Közhatalmi bevételek | C39: =+C40+C42+C47 -> 200000000 | D39: =+D40+D42+D47 -> 200000000 | E39: =+E40+E42+E47 -> 200000000 | F39: =+F40+F42+F47 -> 0 | H39: =+H40+H42+H47 -> 122999106 | I39: =+I40+I42+I47 -> 223760794 | J39: =+J40+J42+J47 -> 0 | L39: =IF(H39>0,H39/C39,0) -> 0.61499553 | M39: =IF(I39>0,I39/D39,0) -> 1.118804 | N39: =IF(J39>0,J39/E39,0) -> 0 | P39: =+P40+P42+P47 -> 0 | Q39: =+Q40+Q42+Q47 -> 0 | R39: =+R40+R42+R47 -> 0 | S39: =+P39*P$8+Q39*Q$8+Q39*G$8 -> 0 | T39: =IF(C39=0,0,+S39/C39) -> 0 | V39: =+S39-E39+C39 -> 0
A40: B34 | B40: Vagyoni típusú adók | C40: =SUM(C41) -> 30000000 | D40: =SUM(D41) -> 30000000 | E40: =SUM(E41) -> 30000000 | F40: =SUM(F41) -> 0 | H40: =SUM(H41) -> 16925037 | I40: =SUM(I41) -> 25472906 | J40: =SUM(J41) -> 0 | L40: =IF(H40>0,H40/C40,0) -> 0.5641679 | M40: =IF(I40>0,I40/D40,0) -> 0.84909687 | N40: =IF(J40>0,J40/E40,0) -> 0 | P40: =SUM(P41) -> 0 | Q40: =SUM(Q41) -> 0 | R40: =SUM(R41) -> 0 | S40: =+P40*P$8+Q40*Q$8+Q40*G$8 -> 0 | T40: =IF(C40=0,0,+S40/C40) -> 0 | V40: =+S40-E40+C40 -> 0
B41: építményadó, kommunális adó | C41: =3000000+27000000 -> 30000000 | D41: 30000000 | E41: 30000000 | H41: =2022631+14762406+140000 -> 16925037 | I41: =3341715+21831191+300000 -> 25472906 | L41: =IF(H41>0,H41/C41,0) -> 0.5641679 | M41: =IF(I41>0,I41/D41,0) -> 0.84909687 | N41: =IF(J41>0,J41/E41,0) -> 0 | P41: =+(D41-C41)*P$8 -> 0 | Q41: =+(E41-D41)*Q$8 -> 0 | R41: =+(F41-E41)*R$8 -> 0 | S41: =+P41*P$8+Q41*Q$8+Q41*G$8 -> 0 | T41: =IF(C41=0,0,+S41/C41) -> 0 | V41: =+S41-E41+C41 -> 0
A42: B35 | B42: Termékek és szolgáltatások adói | C42: =SUM(C43+C46) -> 170000000 | D42: =SUM(D43+D46) -> 170000000 | E42: =SUM(E43+E46) -> 170000000 | F42: =SUM(F43+F46) -> 0 | H42: =SUM(H43+H46) -> 104147411 | I42: =SUM(I43+I46) -> 193987407 | J42: =SUM(J43+J46) -> 0 | L42: =IF(H42>0,H42/C42,0) -> 0.61263183 | M42: =IF(I42>0,I42/D42,0) -> 1.1411024 | N42: =IF(J42>0,J42/E42,0) -> 0 | P42: =SUM(P43+P46) -> 0 | Q42: =SUM(Q43+Q46) -> 0 | R42: =SUM(R43+R46) -> 0 | S42: =+P42*P$8+Q42*Q$8+Q42*G$8 -> 0 | T42: =IF(C42=0,0,+S42/C42) -> 0 | V42: =+S42-E42+C42 -> 0
A43: B351 | B43: Értékesítési és forgalmi adó | C43: =SUM(C44:C45) -> 170000000 | D43: =SUM(D44:D45) -> 170000000 | E43: =SUM(E44:E45) -> 170000000 | F43: =SUM(F44:F45) -> 0 | H43: =SUM(H44:H45) -> 104147411 | I43: =SUM(I44:I45) -> 193987407 | J43: =SUM(J44:J45) -> 0 | L43: =IF(H43>0,H43/C43,0) -> 0.61263183 | M43: =IF(I43>0,I43/D43,0) -> 1.1411024 | N43: =IF(J43>0,J43/E43,0) -> 0 | P43: =+(D43-C43)*P$8 -> 0 | Q43: =+(E43-D43)*Q$8 -> 0 | R43: =+(F43-E43)*R$8 -> 0 | S43: =+P43*P$8+Q43*Q$8+Q43*G$8 -> 0 | T43: =IF(C43=0,0,+S43/C43) -> 0 | V43: =+S43-E43+C43 -> 0
B44: általános forgalmi adó | C44: 0 | D44: 0 | E44: 0 | F44: 0 | H44: 0 | I44: 0 | L44: =IF(H44>0,H44/C44,0) -> 0 | M44: =IF(I44>0,I44/D44,0) -> 0 | N44: =IF(J44>0,J44/E44,0) -> 0 | P44: =+(D44-C44)*P$8 -> 0 | Q44: =+(E44-D44)*Q$8 -> 0 | R44: =+(F44-E44)*R$8 -> 0 | S44: =+P44*P$8+Q44*Q$8+Q44*G$8 -> 0 | T44: =IF(C44=0,0,+S44/C44) -> 0 | V44: =+S44-E44+C44 -> 0
B45: helyi iparűzési adó | C45: 170000000 | D45: 170000000 | E45: 170000000 | H45: 104147411 | I45: 193987407 | L45: =IF(H45>0,H45/C45,0) -> 0.61263183 | M45: =IF(I45>0,I45/D45,0) -> 1.1411024 | N45: =IF(J45>0,J45/E45,0) -> 0 | P45: =+(D45-C45)*P$8 -> 0 | Q45: =+(E45-D45)*Q$8 -> 0 | R45: =+(F45-E45)*R$8 -> 0 | S45: =+P45*P$8+Q45*Q$8+Q45*G$8 -> 0 | T45: =IF(C45=0,0,+S45/C45) -> 0 | V45: =+S45-E45+C45 -> 0
A46: B354 | B46: Gépjárműadók | C46: 0 | D46: 0 | E46: 0 | F46: 0 | H46: 0 | I46: 0 | L46: =IF(H46>0,H46/C46,0) -> 0 | M46: =IF(I46>0,I46/D46,0) -> 0 | N46: =IF(J46>0,J46/E46,0) -> 0 | P46: =+(D46-C46)*P$8 -> 0 | Q46: =+(E46-D46)*Q$8 -> 0 | R46: =+(F46-E46)*R$8 -> 0 | S46: =+P46*P$8+Q46*Q$8+Q46*G$8 -> 0 | T46: =IF(C46=0,0,+S46/C46) -> 0 | V46: =+S46-E46+C46 -> 0
A47: B36 | B47: Egyéb közhatalmi bevételek | C47: =SUM(C48:C49) -> 0 | D47: =SUM(D48:D49) -> 0 | E47: =SUM(E48:E49) -> 0 | F47: =SUM(F48:F49) -> 0 | H47: =SUM(H48:H49) -> 1926658 | I47: =SUM(I48:I49) -> 4300481 | J47: =SUM(J48:J49) -> 0 | L47: =IF(H47>0,H47/C47,0) -> #DIV/0! | M47: =IF(I47>0,I47/D47,0) -> #DIV/0! | N47: =IF(J47>0,J47/E47,0) -> 0 | P47: =SUM(P48:P49) -> 0 | Q47: =SUM(Q48:Q49) -> 0 | R47: =SUM(R48:R49) -> 0 | S47: =+P47*P$8+Q47*Q$8+Q47*G$8 -> 0 | T47: =IF(C47=0,0,+S47/C47) -> 0 | V47: =+S47-E47+C47 -> 0
B48: szabályszegések után az önkormányhatot megillető rész, pótlékok | C48: 0 | H48: 1926658 | I48: 4300481 | L48: =IF(H48>0,H48/C48,0) -> #DIV/0! | M48: =IF(I48>0,I48/D48,0) -> #DIV/0! | N48: =IF(J48>0,J48/E48,0) -> 0 | P48: =+(D48-C48)*P$8 -> 0 | Q48: =+(E48-D48)*Q$8 -> 0 | R48: =+(F48-E48)*R$8 -> 0 | S48: =+P48*P$8+Q48*Q$8+Q48*G$8 -> 0 | T48: =IF(C48=0,0,+S48/C48) -> 0 | V48: =+S48-E48+C48 -> 0
B49: a közhatalmi tevékenység gyakorlása során kötelező jelleggel kell megfizetni, mint pénzbüntetés, elkobzás, késedelmi és önellenőrzési pótlék | C49: 0 | D49: =+C49 -> 0 | H49: 0 | I49: 0 | L49: =IF(H49>0,H49/C49,0) -> 0 | M49: =IF(I49>0,I49/D49,0) -> 0 | N49: =IF(J49>0,J49/E49,0) -> 0 | P49: =+(D49-C49)*P$8 -> 0 | Q49: =+(E49-D49)*Q$8 -> 0 | R49: =+(F49-E49)*R$8 -> 0 | S49: =+P49*P$8+Q49*Q$8+Q49*G$8 -> 0 | T49: =IF(C49=0,0,+S49/C49) -> 0 | V49: =+S49-E49+C49 -> 0
A50: B4 | B50: Működési bevételek | C50: =SUM(C51:C66) -> 54050000 | D50: =SUM(D51:D66) -> 54050000 | E50: =SUM(E51:E66) -> 54050000 | F50: =SUM(F51:F66) -> 0 | H50: =SUM(H51:H66) -> 36982630 | I50: =SUM(I51:I66) -> 62593860 | J50: =SUM(J51:J66) -> 0 | L50: =IF(H50>0,H50/C50,0) -> 0.68422997 | M50: =IF(I50>0,I50/D50,0) -> 1.1580733 | N50: =IF(J50>0,J50/E50,0) -> 0 | P50: =SUM(P51:P66) -> -4.6566129e-10 | Q50: =SUM(Q51:Q66) -> 0 | R50: =SUM(R51:R66) -> 0 | S50: =+P50*P$8+Q50*Q$8+Q50*G$8 -> -4.6566129e-10 | T50: =IF(C50=0,0,+S50/C50) -> -8.61538e-18 | V50: =+S50-E50+C50 -> 0
A51: B401 | B51: Áru és készletértékesítés ellenértéke | C51: 0 | D51: 0 | E51: 0 | H51: 0 | I51: 0 | L51: =IF(H51>0,H51/C51,0) -> 0 | M51: =IF(I51>0,I51/D51,0) -> 0 | N51: =IF(J51>0,J51/E51,0) -> 0 | Q51: =+(E51-D51)*Q$8 -> 0 | S51: =+P51*P$8+Q51*Q$8+Q51*G$8 -> 0
A52: B402 | B52: Szolgáltatások ellenértéke | C52: =+'11_Önk Bev részletező'!D11 -> 35000000 | D52: 35000000 | E52: 35000000 | H52: 22963634 | I52: 39289102 | L52: =IF(H52>0,H52/C52,0) -> 0.65610383 | M52: =IF(I52>0,I52/D52,0) -> 1.1225458 | N52: =IF(J52>0,J52/E52,0) -> 0 | P52: =+(D52-C52)*P$8 -> 0 | Q52: =+(E52-D52)*Q$8 -> 0 | R52: =+(F52-E52)*R$8 -> 0 | S52: =+P52*P$8+Q52*Q$8+Q52*G$8 -> 0 | T52: =IF(C52=0,0,+S52/C52) -> 0 | V52: =+S52-E52+C52 -> 0
A53: B403 | B53: Közvetített szolgáltatások ellenértéke | C53: 15000000 | D53: 15000000 | E53: 15000000 | H53: 10277979 | I53: 14472072 | L53: =IF(H53>0,H53/C53,0) -> 0.6851986 | M53: =IF(I53>0,I53/D53,0) -> 0.9648048 | N53: =IF(J53>0,J53/E53,0) -> 0 | P53: =+(D53-C53)*P$8 -> 0 | Q53: =+(E53-D53)*Q$8 -> 0 | R53: =+(F53-E53)*R$8 -> 0 | S53: =+P53*P$8+Q53*Q$8+Q53*G$8 -> 0 | T53: =IF(C53=0,0,+S53/C53) -> 0 | V53: =+S53-E53+C53 -> 0
B54: elkülönítve az államháztartáson belül | L54: =IF(H54>0,H54/C54,0) -> 0 | M54: =IF(I54>0,I54/D54,0) -> 0 | N54: =IF(J54>0,J54/E54,0) -> 0 | P54: =+(D54-C54)*P$8 -> 0 | Q54: =+(E54-D54)*Q$8 -> 0 | R54: =+(F54-E54)*R$8 -> 0 | S54: =+P54*P$8+Q54*Q$8+Q54*G$8 -> 0 | T54: =IF(C54=0,0,+S54/C54) -> 0 | V54: =+S54-E54+C54 -> 0
A55: B404 | B55: Tulajdonosi bevételek | C55: 0 | D55: 0 | E55: 0 | H55: 0 | I55: 0 | L55: =IF(H55>0,H55/C55,0) -> 0 | M55: =IF(I55>0,I55/D55,0) -> 0 | N55: =IF(J55>0,J55/E55,0) -> 0 | P55: =+(D55-C55)*P$8 -> 0 | Q55: =+(E55-D55)*Q$8 -> 0 | R55: =+(F55-E55)*R$8 -> 0 | S55: =+P55*P$8+Q55*Q$8+Q55*G$8 -> 0 | T55: =IF(C55=0,0,+S55/C55) -> 0 | V55: =+S55-E55+C55 -> 0
B56: vagyonkezelésbe, haszonbérbe, használatba, üzemeltetésbe adásból származó bevételeket kell itt elszámolni | L56: =IF(H56>0,H56/C56,0) -> 0 | M56: =IF(I56>0,I56/D56,0) -> 0 | N56: =IF(J56>0,J56/E56,0) -> 0 | P56: =+(D56-C56)*P$8 -> 0 | Q56: =+(E56-D56)*Q$8 -> 0 | R56: =+(F56-E56)*R$8 -> 0 | S56: =+P56*P$8+Q56*Q$8+Q56*G$8 -> 0 | T56: =IF(C56=0,0,+S56/C56) -> 0 | V56: =+S56-E56+C56 -> 0
A57: B405 | B57: Ellátási díjak | H57: 0 | I57: 0 | L57: =IF(H57>0,H57/C57,0) -> 0 | M57: =IF(I57>0,I57/D57,0) -> 0 | N57: =IF(J57>0,J57/E57,0) -> 0 | P57: =+(D57-C57)*P$8 -> 0 | Q57: =+(E57-D57)*Q$8 -> 0 | R57: =+(F57-E57)*R$8 -> 0 | S57: =+P57*P$8+Q57*Q$8+Q57*G$8 -> 0 | T57: =IF(C57=0,0,+S57/C57) -> 0 | V57: =+S57-E57+C57 -> 0
B58: itt kell elszámolni a bölcsődei, szociális intézeti ellátás, szociális étkeztetés, gondozási dj, tanulók, hallgatók által fizetettt költségtérítéséből, díjakból származó bevételek | L58: =IF(H58>0,H58/C58,0) -> 0 | M58: =IF(I58>0,I58/D58,0) -> 0 | N58: =IF(J58>0,J58/E58,0) -> 0 | P58: =+(D58-C58)*P$8 -> 0 | Q58: =+(E58-D58)*Q$8 -> 0 | R58: =+(F58-E58)*R$8 -> 0 | S58: =+P58*P$8+Q58*Q$8+Q58*G$8 -> 0 | T58: =IF(C58=0,0,+S58/C58) -> 0 | V58: =+S58-E58+C58 -> 0
A59: B406 | B59: Kiszámlázott általános forgalmi adó | C59: =+C53*0.27 -> 4050000 | D59: 4050000 | E59: 4050000 | H59: =3227423 -> 3227423 | I59: 6822494 | L59: =IF(H59>0,H59/C59,0) -> 0.79689457 | M59: =IF(I59>0,I59/D59,0) -> 1.6845664 | N59: =IF(J59>0,J59/E59,0) -> 0 | P59: =+(D59-C59)*P$8 -> -4.6566129e-10 | Q59: =+(E59-D59)*Q$8 -> 0 | R59: =+(F59-E59)*R$8 -> 0 | S59: =+P59*P$8+Q59*Q$8+Q59*G$8 -> -4.6566129e-10 | T59: =IF(C59=0,0,+S59/C59) -> -1.149781e-16 | V59: =+S59-E59+C59 -> 0
A60: B407 | B60: Általános forgalmi adó visszatérítése | L60: =IF(H60>0,H60/C60,0) -> 0 | M60: =IF(I60>0,I60/D60,0) -> 0 | N60: =IF(J60>0,J60/E60,0) -> 0 | P60: =+(D60-C60)*P$8 -> 0 | Q60: =+(E60-D60)*Q$8 -> 0 | R60: =+(F60-E60)*R$8 -> 0 | S60: =+P60*P$8+Q60*Q$8+Q60*G$8 -> 0 | T60: =IF(C60=0,0,+S60/C60) -> 0 | V60: =+S60-E60+C60 -> 0
B61: adóhatóságtól visszakapott | L61: =IF(H61>0,H61/C61,0) -> 0 | M61: =IF(I61>0,I61/D61,0) -> 0 | N61: =IF(J61>0,J61/E61,0) -> 0 | P61: =+(D61-C61)*P$8 -> 0 | Q61: =+(E61-D61)*Q$8 -> 0 | R61: =+(F61-E61)*R$8 -> 0 | S61: =+P61*P$8+Q61*Q$8+Q61*G$8 -> 0 | T61: =IF(C61=0,0,+S61/C61) -> 0 | V61: =+S61-E61+C61 -> 0
A62: B408 | B62: Kamatbevételek | C62: 0 | D62: 0 | H62: 9740 | I62: 20678 | L62: =IF(H62>0,H62/C62,0) -> #DIV/0! | M62: =IF(I62>0,I62/D62,0) -> #DIV/0! | N62: =IF(J62>0,J62/E62,0) -> 0 | P62: =+(D62-C62)*P$8 -> 0 | Q62: =+(E62-D62)*Q$8 -> 0 | R62: =+(F62-E62)*R$8 -> 0 | S62: =+P62*P$8+Q62*Q$8+Q62*G$8 -> 0 | T62: =IF(C62=0,0,+S62/C62) -> 0 | V62: =+S62-E62+C62 -> 0
A63: B409 | B63: Egyéb pénzügyi műveletek | C63: 0 | D63: 0 | L63: =IF(H63>0,H63/C63,0) -> 0 | M63: =IF(I63>0,I63/D63,0) -> 0 | N63: =IF(J63>0,J63/E63,0) -> 0 | P63: =+(D63-C63)*P$8 -> 0 | Q63: =+(E63-D63)*Q$8 -> 0 | R63: =+(F63-E63)*R$8 -> 0 | S63: =+P63*P$8+Q63*Q$8+Q63*G$8 -> 0 | T63: =IF(C63=0,0,+S63/C63) -> 0 | V63: =+S63-E63+C63 -> 0
B64: realizált árfolyamnyereség, befektetett pénzügyi eszközök eladási árából származó többlet bevételeket | L64: =IF(H64>0,H64/C64,0) -> 0 | M64: =IF(I64>0,I64/D64,0) -> 0 | N64: =IF(J64>0,J64/E64,0) -> 0 | P64: =+(D64-C64)*P$8 -> 0 | Q64: =+(E64-D64)*Q$8 -> 0 | R64: =+(F64-E64)*R$8 -> 0 | S64: =+P64*P$8+Q64*Q$8+Q64*G$8 -> 0 | T64: =IF(C64=0,0,+S64/C64) -> 0 | V64: =+S64-E64+C64 -> 0
A65: B410, B411 | B65: Egyéb működési bevételek | C65: 0 | D65: 0 | H65: =89300+414554 -> 503854 | I65: =803856+1185658 -> 1989514 | L65: =IF(H65>0,H65/C65,0) -> #DIV/0! | M65: =IF(I65>0,I65/D65,0) -> #DIV/0! | N65: =IF(J65>0,J65/E65,0) -> 0 | P65: =+(D65-C65)*P$8 -> 0 | Q65: =+(E65-D65)*Q$8 -> 0 | R65: =+(F65-E65)*R$8 -> 0 | S65: =+P65*P$8+Q65*Q$8+Q65*G$8 -> 0 | T65: =IF(C65=0,0,+S65/C65) -> 0 | V65: =+S65-E65+C65 -> 0
B66: Ezen a rovaton kell elszámolni a más rovaton nem szerepeltethető működési jellegű bevételeket, kerekítési különbözetet, pénztártöbblet, | D66: 0 | H66: 0 | L66: =IF(H66>0,H66/C66,0) -> 0 | M66: =IF(I66>0,I66/D66,0) -> 0 | N66: =IF(J66>0,J66/E66,0) -> 0 | P66: =+(D66-C66)*P$8 -> 0 | Q66: =+(E66-D66)*Q$8 -> 0 | R66: =+(F66-E66)*R$8 -> 0 | S66: =+P66*P$8+Q66*Q$8+Q66*G$8 -> 0 | T66: =IF(C66=0,0,+S66/C66) -> 0 | V66: =+S66-E66+C66 -> 0
A67: B5 | B67: Felhalmozási bevételek | C67: =SUM(C68:C71) -> 61100000 | D67: =SUM(D68:D71) -> 123228000 | E67: =SUM(E68:E71) -> 125937553 | F67: =SUM(F68:F71) -> 0 | H67: =SUM(H68:H71) -> 143069306 | I67: =SUM(I68:I71) -> 151653949 | J67: =SUM(J68:J71) -> 0 | L67: =IF(H67>0,H67/C67,0) -> 2.3415598 | M67: =IF(I67>0,I67/D67,0) -> 1.2306777 | N67: =IF(J67>0,J67/E67,0) -> 0 | P67: =SUM(P68:P71) -> 62128000 | Q67: =SUM(Q68:Q71) -> 2709553 | R67: =SUM(R68:R71) -> 0 | S67: =+P67*P$8+Q67*Q$8+Q67*G$8 -> 64837553 | T67: =IF(C67=0,0,+S67/C67) -> 1.0611711 | V67: =+S67-E67+C67 -> 0
A68: B51 | B68: Immateriális javak értékesítése | L68: =IF(H68>0,H68/C68,0) -> 0 | M68: =IF(I68>0,I68/D68,0) -> 0 | N68: =IF(J68>0,J68/E68,0) -> 0 | P68: =+(D68-C68)*P$8 -> 0 | Q68: =+(E68-D68)*Q$8 -> 0 | R68: =+(F68-E68)*R$8 -> 0 | S68: =+P68*P$8+Q68*Q$8+Q68*G$8 -> 0 | T68: =IF(C68=0,0,+S68/C68) -> 0 | V68: =+S68-E68+C68 -> 0
A69: B52 | B69: Ingatlanok értékesítése | C69: =+'11_Önk Bev részletező'!D19 -> 61100000 | D69: 123228000 | E69: 125937553 | H69: =142982692+86614 -> 143069306 | I69: 151567335 | L69: =IF(H69>0,H69/C69,0) -> 2.3415598 | M69: =IF(I69>0,I69/D69,0) -> 1.2299748 | N69: =IF(J69>0,J69/E69,0) -> 0 | P69: =+(D69-C69)*P$8 -> 62128000 | Q69: =+(E69-D69)*Q$8 -> 2709553 | R69: =+(F69-E69)*R$8 -> 0 | S69: =+P69*P$8+Q69*Q$8+Q69*G$8 -> 64837553 | T69: =IF(C69=0,0,+S69/C69) -> 1.0611711 | V69: =+S69-E69+C69 -> 0
A70: B53 | B70: Egyéb tárgyi eszközök értékesítése | C70: 0 | D70: 0 | E70: 0 | H70: 0 | I70: 86614 | L70: =IF(H70>0,H70/C70,0) -> 0 | M70: =IF(I70>0,I70/D70,0) -> #DIV/0! | N70: =IF(J70>0,J70/E70,0) -> 0 | P70: =+(D70-C70)*P$8 -> 0 | Q70: =+(E70-D70)*Q$8 -> 0 | R70: =+(F70-E70)*R$8 -> 0 | S70: =+P70*P$8+Q70*Q$8+Q70*G$8 -> 0 | T70: =IF(C70=0,0,+S70/C70) -> 0 | V70: =+S70-E70+C70 -> 0
A71: B54 | B71: Részesedések értékesítése | L71: =IF(H71>0,H71/C71,0) -> 0 | M71: =IF(I71>0,I71/D71,0) -> 0 | N71: =IF(J71>0,J71/E71,0) -> 0 | P71: =+(D71-C71)*P$8 -> 0 | Q71: =+(E71-D71)*Q$8 -> 0 | R71: =+(F71-E71)*R$8 -> 0 | S71: =+P71*P$8+Q71*Q$8+Q71*G$8 -> 0 | T71: =IF(C71=0,0,+S71/C71) -> 0 | V71: =+S71-E71+C71 -> 0
A72: B6 | B72: Működési célú átvett pénzeszközök | C72: =SUM(C73:C75) -> 0 | D72: =SUM(D73:D75) -> 0 | E72: =SUM(E73:E75) -> 0 | F72: =SUM(F73:F75) -> 0 | H72: =SUM(H73:H75) -> 161668810 | I72: =SUM(I73:I75) -> 161668810 | J72: =SUM(J73:J75) -> 0 | L72: =IF(H72>0,H72/C72,0) -> #DIV/0! | M72: =IF(I72>0,I72/D72,0) -> #DIV/0! | N72: =IF(J72>0,J72/E72,0) -> 0 | P72: =SUM(P73:P75) -> 0 | Q72: =SUM(Q73:Q75) -> 0 | R72: =SUM(R73:R75) -> 0 | S72: =+P72*P$8+Q72*Q$8+Q72*G$8 -> 0 | T72: =IF(C72=0,0,+S72/C72) -> 0 | V72: =+S72-E72+C72 -> 0
A73: B61 | B73: Működési célú garancia és kezességvállalásból származó megtérülések államháztartáson kívülről | L73: =IF(H73>0,H73/C73,0) -> 0 | M73: =IF(I73>0,I73/D73,0) -> 0 | N73: =IF(J73>0,J73/E73,0) -> 0 | P73: =+(D73-C73)*P$8 -> 0 | Q73: =+(E73-D73)*Q$8 -> 0 | R73: =+(F73-E73)*R$8 -> 0 | S73: =+P73*P$8+Q73*Q$8+Q73*G$8 -> 0 | T73: =IF(C73=0,0,+S73/C73) -> 0 | V73: =+S73-E73+C73 -> 0
A74: B64 | B74: Működési célú visszatérítendő támogatások, kölcsönök visszatérülése államháztartáson kívülről (B64) | H74: 10320000 | I74: 10320000 | L74: =IF(H74>0,H74/C74,0) -> #DIV/0! | M74: =IF(I74>0,I74/D74,0) -> #DIV/0! | N74: =IF(J74>0,J74/E74,0) -> 0 | P74: =+(D74-C74)*P$8 -> 0 | Q74: =+(E74-D74)*Q$8 -> 0 | R74: =+(F74-E74)*R$8 -> 0 | S74: =+P74*P$8+Q74*Q$8+Q74*G$8 -> 0 | T74: =IF(C74=0,0,+S74/C74) -> 0 | V74: =+S74-E74+C74 -> 0
A75: B65 | B75: Egyéb működési célú átvett pénzeszközök | C75: 0 | H75: 151348810 | I75: 151348810 | L75: =IF(H75>0,H75/C75,0) -> #DIV/0! | M75: =IF(I75>0,I75/D75,0) -> #DIV/0! | N75: =IF(J75>0,J75/E75,0) -> 0 | P75: =+(D75-C75)*P$8 -> 0 | Q75: =+(E75-D75)*Q$8 -> 0 | R75: =+(F75-E75)*R$8 -> 0 | S75: =+P75*P$8+Q75*Q$8+Q75*G$8 -> 0 | T75: =IF(C75=0,0,+S75/C75) -> 0 | V75: =+S75-E75+C75 -> 0
A76: B7 | B76: Felhalmozási célú átvett pénzeszközök | C76: =SUM(C77:C78) -> 0 | D76: =+D77+D78+D79 -> 0 | E76: =SUM(E77:E79) -> 0 | F76: =SUM(F77:F79) -> 0 | H76: =+H77+H78+H79 -> 1704190 | I76: =SUM(I77:I79) -> 2172463 | J76: =SUM(J77:J79) -> 0 | L76: =IF(H76>0,H76/C76,0) -> #DIV/0! | M76: =IF(I76>0,I76/D76,0) -> #DIV/0! | N76: =IF(J76>0,J76/E76,0) -> 0 | P76: =+P77+P78+P79 -> 0 | Q76: =+Q77+Q78+Q79 -> 0 | R76: =+R77+R78+R79 -> 0 | S76: =+P76*P$8+Q76*Q$8+Q76*G$8 -> 0 | T76: =IF(C76=0,0,+S76/C76) -> 0 | V76: =+S76-E76+C76 -> 0
A77: B71 | B77: Felhalmozási célú garancia és kezességvállalásbóül származó megtérülések államháztartáson kívülről | C77: 0 | H77: 0 | L77: =IF(H77>0,H77/C77,0) -> 0 | M77: =IF(I77>0,I77/D77,0) -> 0 | N77: =IF(J77>0,J77/E77,0) -> 0 | P77: =+(D77-C77)*P$8 -> 0 | Q77: =+(E77-D77)*Q$8 -> 0 | R77: =+(F77-E77)*R$8 -> 0 | S77: =+P77*P$8+Q77*Q$8+Q77*G$8 -> 0 | T77: =IF(C77=0,0,+S77/C77) -> 0 | V77: =+S77-E77+C77 -> 0
A78: B74 | B78: Felhalmozási célú visszatérítendő támogatások, kölcsönök visszatérülése államháztartáson kívülről | H78: 85800 | I78: 85800 | L78: =IF(H78>0,H78/C78,0) -> #DIV/0! | M78: =IF(I78>0,I78/D78,0) -> #DIV/0! | N78: =IF(J78>0,J78/E78,0) -> 0 | P78: =+(D78-C78)*P$8 -> 0 | Q78: =+(E78-D78)*Q$8 -> 0 | R78: =+(F78-E78)*R$8 -> 0 | S78: =+P78*P$8+Q78*Q$8+Q78*G$8 -> 0 | T78: =IF(C78=0,0,+S78/C78) -> 0 | V78: =+S78-E78+C78 -> 0
A79: B75 | B79: Egyéb felhalmozási célú átvett pénzeszközök | C79: 0 | H79: 1618390 | I79: 2086663 | L79: =IF(H79>0,H79/C79,0) -> #DIV/0! | M79: =IF(I79>0,I79/D79,0) -> #DIV/0! | N79: =IF(J79>0,J79/E79,0) -> 0 | P79: =+(D79-C79)*P$8 -> 0 | Q79: =+(E79-D79)*Q$8 -> 0 | R79: =+(F79-E79)*R$8 -> 0 | S79: =+P79*P$8+Q79*Q$8+Q79*G$8 -> 0 | T79: =IF(C79=0,0,+S79/C79) -> 0 | V79: =+S79-E79+C79 -> 0
A80: B8 | B80: Finanszírozási bevételek | C80: =+C81+C95 -> 141968012 | D80: =+D81+D95 -> 141968012 | E80: =+E81+E95 -> 141968012 | F80: =SUM(F81:F95) -> 0 | H80: =+H81+H95 -> 142622511 | I80: =+I81+I95 -> 142622507 | J80: =+J81+J95 -> 0 | L80: =IF(H80>0,H80/C80,0) -> 1.0046102 | M80: =IF(I80>0,I80/D80,0) -> 1.0046102 | N80: =IF(J80>0,J80/E80,0) -> 0 | P80: =SUM(P81:P94) -> 0 | Q80: =SUM(Q81:Q94) -> 0 | R80: =SUM(R81:R94) -> 0 | S80: =+P80*P$8+Q80*Q$8+Q80*G$8 -> 0 | T80: =IF(C80=0,0,+S80/C80) -> 0 | V80: =+S80-E80+C80 -> 0
A81: B81 | B81: Belföldi finanszírozás bevételei | C81: =+C82+C87+C90+C91+C92+C94 -> 141968012 | D81: =+D82+D87+D90+D91+D92+D94 -> 141968012 | E81: =+E82+E87+E90+E91+E92+E94 -> 141968012 | H81: =+H82+H87+H90+H91+H92+H94 -> 142622511 | I81: =+I82+I87+I90+I91+I92+I94 -> 142622507 | J81: =+J82+J87+J90+J91+J92+J94 -> 0 | L81: =IF(H81>0,H81/C81,0) -> 1.0046102 | M81: =IF(I81>0,I81/D81,0) -> 1.0046102 | N81: =IF(J81>0,J81/E81,0) -> 0 | P81: =+(D81-C81)*P$8 -> 0 | Q81: =+(E81-D81)*Q$8 -> 0 | R81: =+(F81-E81)*R$8 -> 0 | S81: =+P81*P$8+Q81*Q$8+Q81*G$8 -> 0 | T81: =IF(C81=0,0,+S81/C81) -> 0 | V81: =+S81-E81+C81 -> 0
A82: B811 | B82: Hitel-,kölcsönfelvétel államháztartáson kívülről | L82: =IF(H82>0,H82/C82,0) -> 0 | M82: =IF(I82>0,I82/D82,0) -> 0 | N82: =IF(J82>0,J82/E82,0) -> 0 | P82: =+(D82-C82)*P$8 -> 0 | Q82: =+(E82-D82)*Q$8 -> 0 | R82: =+(F82-E82)*R$8 -> 0 | S82: =+P82*P$8+Q82*Q$8+Q82*G$8 -> 0 | T82: =IF(C82=0,0,+S82/C82) -> 0 | V82: =+S82-E82+C82 -> 0
A83: B8111 | B83: Hosszú lejáratú hitelek, kölcsönök felvétele | L83: =IF(H83>0,H83/C83,0) -> 0 | M83: =IF(I83>0,I83/D83,0) -> 0 | N83: =IF(J83>0,J83/E83,0) -> 0 | P83: =+(D83-C83)*P$8 -> 0 | Q83: =+(E83-D83)*Q$8 -> 0 | R83: =+(F83-E83)*R$8 -> 0 | S83: =+P83*P$8+Q83*Q$8+Q83*G$8 -> 0 | T83: =IF(C83=0,0,+S83/C83) -> 0 | V83: =+S83-E83+C83 -> 0
A84: B8112 | B84: Likviditási céllú hitelek, kölcsönök felvétele pénzügyi vállalkozástól | L84: =IF(H84>0,H84/C84,0) -> 0 | M84: =IF(I84>0,I84/D84,0) -> 0 | N84: =IF(J84>0,J84/E84,0) -> 0 | P84: =+(D84-C84)*P$8 -> 0 | Q84: =+(E84-D84)*Q$8 -> 0 | R84: =+(F84-E84)*R$8 -> 0 | S84: =+P84*P$8+Q84*Q$8+Q84*G$8 -> 0 | T84: =IF(C84=0,0,+S84/C84) -> 0 | V84: =+S84-E84+C84 -> 0
A85: B8113 | B85: Rövid lejáratú hitelek, kölcsönök felvétele | L85: =IF(H85>0,H85/C85,0) -> 0 | M85: =IF(I85>0,I85/D85,0) -> 0 | N85: =IF(J85>0,J85/E85,0) -> 0 | P85: =+(D85-C85)*P$8 -> 0 | Q85: =+(E85-D85)*Q$8 -> 0 | R85: =+(F85-E85)*R$8 -> 0 | S85: =+P85*P$8+Q85*Q$8+Q85*G$8 -> 0 | T85: =IF(C85=0,0,+S85/C85) -> 0 | V85: =+S85-E85+C85 -> 0
A86: B812 | B86: Belföldi értékpapirok bevételei | L86: =IF(H86>0,H86/C86,0) -> 0 | M86: =IF(I86>0,I86/D86,0) -> 0 | N86: =IF(J86>0,J86/E86,0) -> 0 | P86: =+(D86-C86)*P$8 -> 0 | Q86: =+(E86-D86)*Q$8 -> 0 | R86: =+(F86-E86)*R$8 -> 0 | S86: =+P86*P$8+Q86*Q$8+Q86*G$8 -> 0 | T86: =IF(C86=0,0,+S86/C86) -> 0 | V86: =+S86-E86+C86 -> 0
A87: B813 | B87: Maradvány igénybevétele | C87: =+C88+C89 -> 141968012 | D87: =+D88+D89 -> 141968012 | E87: =+E88+E89 -> 141968012 | H87: =+H88+H89 -> 141968016 | I87: =+I88+I89 -> 141968012 | J87: =+J88+J89 -> 0 | L87: =IF(H87>0,H87/C87,0) -> 1 | M87: =IF(I87>0,I87/D87,0) -> 1 | N87: =IF(J87>0,J87/E87,0) -> 0 | P87: =+(D87-C87)*P$8 -> 0 | Q87: =+(E87-D87)*Q$8 -> 0 | R87: =+(F87-E87)*R$8 -> 0 | S87: =+P87*P$8+Q87*Q$8+Q87*G$8 -> 0 | T87: =IF(C87=0,0,+S87/C87) -> 0 | V87: =+S87-E87+C87 -> 0
A88: B8131 | B88: Előző év költségvetési maradványának igénybevétele | C88: 141968012 | D88: 141968012 | E88: 141968012 | H88: 141968016 | I88: 141968012 | L88: =IF(H88>0,H88/C88,0) -> 1 | M88: =IF(I88>0,I88/D88,0) -> 1 | N88: =IF(J88>0,J88/E88,0) -> 0 | P88: =+(D88-C88)*P$8 -> 0 | Q88: =+(E88-D88)*Q$8 -> 0 | R88: =+(F88-E88)*R$8 -> 0 | S88: =+P88*P$8+Q88*Q$8+Q88*G$8 -> 0 | T88: =IF(C88=0,0,+S88/C88) -> 0 | V88: =+S88-E88+C88 -> 0
A89: B8132 | B89: Előző év vállalkozási maradványának igénybevétele | L89: =IF(H89>0,H89/C89,0) -> 0 | M89: =IF(I89>0,I89/D89,0) -> 0 | N89: =IF(J89>0,J89/E89,0) -> 0 | P89: =+(D89-C89)*P$8 -> 0 | Q89: =+(E89-D89)*Q$8 -> 0 | R89: =+(F89-E89)*R$8 -> 0 | S89: =+P89*P$8+Q89*Q$8+Q89*G$8 -> 0 | T89: =IF(C89=0,0,+S89/C89) -> 0 | V89: =+S89-E89+C89 -> 0
A90: B814 | B90: Államháztartáson belüli megelőlegezések | C90: 0 | D90: 0 | E90: 0 | H90: 654495 | I90: 654495 | L90: =IF(H90>0,H90/C90,0) -> #DIV/0! | M90: =IF(I90>0,I90/D90,0) -> #DIV/0! | N90: =IF(J90>0,J90/E90,0) -> 0 | P90: =+(D90-C90)*P$8 -> 0 | Q90: =+(E90-D90)*Q$8 -> 0 | R90: =+(F90-E90)*R$8 -> 0 | S90: =+P90*P$8+Q90*Q$8+Q90*G$8 -> 0 | T90: =IF(C90=0,0,+S90/C90) -> 0 | V90: =+S90-E90+C90 -> 0
A91: B815 | B91: Államháztartáson belüli megelőlegezések törlesztése | L91: =IF(H91>0,H91/C91,0) -> 0 | M91: =IF(I91>0,I91/D91,0) -> 0 | N91: =IF(J91>0,J91/E91,0) -> 0 | P91: =+(D91-C91)*P$8 -> 0 | Q91: =+(E91-D91)*Q$8 -> 0 | R91: =+(F91-E91)*R$8 -> 0 | S91: =+P91*P$8+Q91*Q$8+Q91*G$8 -> 0 | T91: =IF(C91=0,0,+S91/C91) -> 0 | V91: =+S91-E91+C91 -> 0
A92: B816 | B92: Központi ,irányító szervi támogatás | L92: =IF(H92>0,H92/C92,0) -> 0 | M92: =IF(I92>0,I92/D92,0) -> 0 | N92: =IF(J92>0,J92/E92,0) -> 0 | P92: =+(D92-C92)*P$8 -> 0 | Q92: =+(E92-D92)*Q$8 -> 0 | R92: =+(F92-E92)*R$8 -> 0 | S92: =+P92*P$8+Q92*Q$8+Q92*G$8 -> 0 | T92: =IF(C92=0,0,+S92/C92) -> 0 | V92: =+S92-E92+C92 -> 0
B93: itt kell az intézménynek a finanszírozási bevételét elsz. | L93: =IF(H93>0,H93/C93,0) -> 0 | M93: =IF(I93>0,I93/D93,0) -> 0 | N93: =IF(J93>0,J93/E93,0) -> 0 | P93: =+(D93-C93)*P$8 -> 0 | Q93: =+(E93-D93)*Q$8 -> 0 | R93: =+(F93-E93)*R$8 -> 0 | S93: =+P93*P$8+Q93*Q$8+Q93*G$8 -> 0 | T93: =IF(C93=0,0,+S93/C93) -> 0 | V93: =+S93-E93+C93 -> 0
A94: B817 | B94: Betétek megszüntetése | H94: 0 | L94: =IF(H94>0,H94/C94,0) -> 0 | M94: =IF(I94>0,I94/D94,0) -> 0 | N94: =IF(J94>0,J94/E94,0) -> 0 | P94: =+(D94-C94)*P$8 -> 0 | Q94: =+(E94-D94)*Q$8 -> 0 | R94: =+(F94-E94)*R$8 -> 0 | S94: =+P94*P$8+Q94*Q$8+Q94*G$8 -> 0 | T94: =IF(C94=0,0,+S94/C94) -> 0 | V94: =+S94-E94+C94 -> 0
L95: =IF(H95>0,H95/C95,0) -> 0 | M95: =IF(I95>0,I95/D95,0) -> 0 | N95: =IF(J95>0,J95/E95,0) -> 0 | P95: =+(D95-C95)*P$8 -> 0 | Q95: =+(E95-D95)*Q$8 -> 0 | R95: =+(F95-E95)*R$8 -> 0 | S95: =+P95*P$8+Q95*Q$8+Q95*G$8 -> 0 | T95: =IF(C95=0,0,+S95/C95) -> 0 | V95: =+S95-E95+C95 -> 0
B96: Bevételek összesen | C96: =C13+C30+C39+C50+C67+C72+C76+C80 -> 1307317299 | D96: =D13+D30+D39+D50+D67+D72+D76+D80 -> 1369445299 | E96: =E13+E30+E39+E50+E67+E72+E76+E80 -> 1401721794 | F96: =F13+F30+F39+F50+F67+F72+F76+F80 -> 0 | H96: =H13+H30+H39+H50+H67+H72+H76+H80 -> 1358645963 | I96: =I13+I30+I39+I50+I67+I72+I76+I80 -> 1707212719 | J96: =J13+J30+J39+J50+J67+J72+J76+J80 -> 0 | L96: =IF(H96>0,H96/C96,0) -> 1.0392626 | M96: =IF(I96>0,I96/D96,0) -> 1.2466454 | N96: =IF(J96>0,J96/E96,0) -> 0 | P96: =P13+P30+P39+P50+P67+P72+P76+P80 -> 62128000 | Q96: =Q13+Q30+Q39+Q50+Q67+Q72+Q76+Q80 -> 32276495 | R96: =R13+R30+R39+R50+R67+R72+R76+R80 -> 0 | S96: =+P96*P$8+Q96*Q$8+Q96*G$8 -> 94404495 | T96: =IF(C96=0,0,+S96/C96) -> 0.072212381 | V96: =+S96-E96+C96 -> 0
D98: =+D96-'3. Önk. Kiadások'!D168 -> 0
D99: =+D96-C96 -> 62128000 | E99: =+E96-C96 -> 94404495

Sheet 3. Önk. Kiadások
A1: Sülysáp Város Önkormányzata | J1: =+'1. Sülysáp összesen'!J1 -> 2022. III. Negyedéves költségvetési beszámoló | L1: KIADÁSAI
B7: =12744+187 -> 12931 | C7: ELŐIRÁNYZAT | H7: FELHASZNÁLÁS | P7: előirányzat(ok) változása
H8: Ft-ban | L8: %-ban | P8: =+'1. Sülysáp összesen'!P8 -> 1 | Q8: =+' 2. Önk. Bevételek'!Q8 -> 1 | R8: =+'1. Sülysáp összesen'!R8 -> 0
B9: KIADÁSOK ÖSSZESEN | C9: =+C168 -> 1307317299 | D9: =+D168 -> 1369445299 | E9: =+E168 -> 1401721794 | F9: =+F168 -> 0 | H9: =+H168 -> 621468813 | I9: =+I168 -> 970580800 | J9: =+J168 -> 0 | L9: =H9/C9 -> 0.47537718 | M9: =I9/D9 -> 0.7087401 | N9: =+J9/E9 -> 0 | P9: =IF(D9>0,+D9-C9,0) -> 62128000 | Q9: =IF(E9>0,+E9-D9,0) -> 32276495 | R9: =IF(F9>0,+F9-E9,0) -> 0 | S9: =SUM(P9:R9) -> 94404495 | T9: =+S9/C9 -> 0.072212381 | V9: =+S9-E9+C9 -> 0
A11: Rovat | B11: Megnevezés | C11: Eredeti előirányzat 2022.01.01 | D11: Módosított előirányzat 2022.06.30 | E11: Módosított előirányzat 2022.09.30 | F11: Módosított előirányzat 2022.12.31 | H11: 2022.06.30-ig tényleges felhasználás | I11: 2022.09.30-ig tényleges felhasználás | J11: 2022.12.31-ig tényleges felhasználás | L11: 2022.06.30-i felhasználás eredeti előir-hoz képest | M11: 2022.09.30-i felhasználás 2022.06.30-i módosított előir-hoz képest | N11: 2022.12.31-i felhasználás 2022.09.30-i módosított előir-hoz képest | P11: a 2022.06.30-i az eredetihez képest | Q11: a 2022.09.30-i a 2022.06.30-ihoz képest | R11: a 2022.12.31-i a 2022.09.30-ihoz képest | S11: előirányzatok változása összesen | T11: előirányzatok változása eredetihez képest | V11: kontroll
A13: K1 | B13: Személyi juttatások | C13: =SUM(C14:C28) -> 100510000 | D13: =SUM(D14:D28) -> 112270000 | E13: =SUM(E14:E28) -> 112270000 | F13: =SUM(F14:F28) -> 0 | H13: =SUM(H14:H28) -> 46032044 | I13: =SUM(I14:I28) -> 77087587 | J13: =SUM(J14:J28) -> 0 | L13: =IF(H13>0,H13/C13,0) -> 0.45798472 | M13: =IF(I13>0,I13/D13,0) -> 0.68662677 | N13: =IF(J13>0,J13/E13,0) -> 0 | P13: =IF(D13>0,+D13-C13,0) -> 11760000 | Q13: =IF(E13>0,+E13-D13,0) -> 0 | R13: =IF(F13>0,+F13-E13,0) -> 0 | S13: =+P13*P$8+Q13*Q$8+Q13*G$8 -> 11760000 | T13: =IF(C13=0,0,+S13/C13) -> 0.11700328 | V13: =+S13-E13+C13 -> 0
A14: K11 | S14: =+P14*P$8+Q14*Q$8+Q14*G$8 -> 0 | V14: =+S14-E14+C14 -> 0
A15: K1101 | B15: Törvény szerinti illetmények, munkabérek | C15: 68000000 | D15: 67021000 | E15: 64666000 | H15: 28105498 | I15: 43982198 | L15: =IF(H15>0,H15/C15,0) -> 0.41331615 | M15: =IF(I15>0,I15/D15,0) -> 0.65624503 | N15: =IF(J15>0,J15/E15,0) -> 0 | P15: =+(D15-C15)*P$8 -> -979000 | Q15: =+(E15-D15)*Q$8 -> -2355000 | R15: =+(F15-E15)*R$8 -> 0 | S15: =+P15*P$8+Q15*Q$8+Q15*G$8 -> -3334000 | T15: =IF(C15=0,0,+S15/C15) -> -0.049029412 | V15: =+S15-E15+C15 -> 0
A16: K1104 | B16: Készentléti, ügyeleti, helyettesítési díj, túlóra | C16: 300000 | D16: 2300000 | E16: =175000+4300000 -> 4475000 | H16: =174200+1079164 -> 1253364 | I16: =174200+2634964 -> 2809164 | L16: =IF(H16>0,H16/C16,0) -> 4.17788 | M16: =IF(I16>0,I16/D16,0) -> 1.2213757 | N16: =IF(J16>0,J16/E16,0) -> 0 | P16: =+(D16-C16)*P$8 -> 2000000 | Q16: =+(E16-D16)*Q$8 -> 2175000 | R16: =+(F16-E16)*R$8 -> 0 | S16: =+P16*P$8+Q16*Q$8+Q16*G$8 -> 4175000 | T16: =IF(C16=0,0,+S16/C16) -> 13.916667 | V16: =+S16-E16+C16 -> 0
A17: K1105 | B17: Végkielégítés | C17: 0 | D17: 0 | H17: 0 | I17: 0 | L17: =IF(H17>0,H17/C17,0) -> 0 | M17: =IF(I17>0,I17/D17,0) -> 0 | N17: =IF(J17>0,J17/E17,0) -> 0 | P17: =+(D17-C17)*P$8 -> 0 | Q17: =+(E17-D17)*Q$8 -> 0 | R17: =+(F17-E17)*R$8 -> 0 | S17: =+P17*P$8+Q17*Q$8+Q17*G$8 -> 0 | T17: =IF(C17=0,0,+S17/C17) -> 0 | V17: =+S17-E17+C17 -> 0
A18: K1106 | B18: Jubileumi jutalom | C18: 0 | D18: 0 | H18: 0 | I18: 0 | L18: =IF(H18>0,H18/C18,0) -> 0 | M18: =IF(I18>0,I18/D18,0) -> 0 | N18: =IF(J18>0,J18/E18,0) -> 0 | P18: =+(D18-C18)*P$8 -> 0 | Q18: =+(E18-D18)*Q$8 -> 0 | R18: =+(F18-E18)*R$8 -> 0 | S18: =+P18*P$8+Q18*Q$8+Q18*G$8 -> 0 | T18: =IF(C18=0,0,+S18/C18) -> 0 | V18: =+S18-E18+C18 -> 0
A19: K1107 | B19: Béren kívüli juttatások -cafetéria | C19: 0 | D19: 1000000 | E19: 180000 | H19: 60000 | I19: 180000 | L19: =IF(H19>0,H19/C19,0) -> #DIV/0! | M19: =IF(I19>0,I19/D19,0) -> 0.18 | N19: =IF(J19>0,J19/E19,0) -> 0 | P19: =+(D19-C19)*P$8 -> 1000000 | Q19: =+(E19-D19)*Q$8 -> -820000 | R19: =+(F19-E19)*R$8 -> 0 | S19: =+P19*P$8+Q19*Q$8+Q19*G$8 -> 180000 | T19: =IF(C19=0,0,+S19/C19) -> 0 | V19: =+S19-E19+C19 -> 0
A20: K1108 | B20: Ruházati költségtérítés | C20: 400000 | D20: 0 | E20: 0 | H20: 0 | I20: 0 | L20: =IF(H20>0,H20/C20,0) -> 0 | M20: =IF(I20>0,I20/D20,0) -> 0 | N20: =IF(J20>0,J20/E20,0) -> 0 | P20: =+(D20-C20)*P$8 -> -400000 | Q20: =+(E20-D20)*Q$8 -> 0 | R20: =+(F20-E20)*R$8 -> 0 | S20: =+P20*P$8+Q20*Q$8+Q20*G$8 -> -400000 | T20: =IF(C20=0,0,+S20/C20) -> -1 | V20: =+S20-E20+C20 -> 0
A21: K1109 | B21: Közlekedési költségtérítés | C21: 0 | D21: 139000 | E21: 139000 | H21: 0 | I21: 0 | L21: =IF(H21>0,H21/C21,0) -> 0 | M21: =IF(I21>0,I21/D21,0) -> 0 | N21: =IF(J21>0,J21/E21,0) -> 0 | P21: =+(D21-C21)*P$8 -> 139000 | Q21: =+(E21-D21)*Q$8 -> 0 | R21: =+(F21-E21)*R$8 -> 0 | S21: =+P21*P$8+Q21*Q$8+Q21*G$8 -> 139000 | T21: =IF(C21=0,0,+S21/C21) -> 0 | V21: =+S21-E21+C21 -> 0
A22: K1110 | B22: Egyéb költségtérítés | C22: 0 | D22: 0 | E22: 0 | H22: 0 | I22: 0 | L22: =IF(H22>0,H22/C22,0) -> 0 | M22: =IF(I22>0,I22/D22,0) -> 0 | N22: =IF(J22>0,J22/E22,0) -> 0 | P22: =+(D22-C22)*P$8 -> 0 | Q22: =+(E22-D22)*Q$8 -> 0 | R22: =+(F22-E22)*R$8 -> 0 | S22: =+P22*P$8+Q22*Q$8+Q22*G$8 -> 0 | T22: =IF(C22=0,0,+S22/C22) -> 0 | V22: =+S22-E22+C22 -> 0
A23: K1113 | B23: Foglalkoztatottak egyéb személyi juttatásai | C23: 1370000 | D23: 1570000 | E23: 2570000 | H23: 1472024 | I23: 2126469 | L23: =IF(H23>0,H23/C23,0) -> 1.0744701 | M23: =IF(I23>0,I23/D23,0) -> 1.3544389 | N23: =IF(J23>0,J23/E23,0) -> 0 | P23: =+(D23-C23)*P$8 -> 200000 | Q23: =+(E23-D23)*Q$8 -> 1000000 | R23: =+(F23-E23)*R$8 -> 0 | S23: =+P23*P$8+Q23*Q$8+Q23*G$8 -> 1200000 | T23: =IF(C23=0,0,+S23/C23) -> 0.87591241 | V23: =+S23-E23+C23 -> 0
A24: K12 | L24: =IF(H24>0,H24/C24,0) -> 0 | M24: =IF(I24>0,I24/D24,0) -> 0 | N24: =IF(J24>0,J24/E24,0) -> 0 | S24: =+P24*P$8+Q24*Q$8+Q24*G$8 -> 0 | V24: =+S24-E24+C24 -> 0
A25: K121 | B25: Választott tisztésviselők juttatásai | C25: 27000000 | D25: 27000000 | E25: 27000000 | H25: 13983870 | I25: 20826390 | L25: =IF(H25>0,H25/C25,0) -> 0.51792111 | M25: =IF(I25>0,I25/D25,0) -> 0.77134778 | N25: =IF(J25>0,J25/E25,0) -> 0 | P25: =+(D25-C25)*P$8 -> 0 | Q25: =+(E25-D25)*Q$8 -> 0 | R25: =+(F25-E25)*R$8 -> 0 | S25: =+P25*P$8+Q25*Q$8+Q25*G$8 -> 0 | T25: =IF(C25=0,0,+S25/C25) -> 0 | V25: =+S25-E25+C25 -> 0
A26: K122 | B26: Nem saját foglalkoztatottnak fizetett juttatások | C26: 0 | D26: 9800000 | E26: 9800000 | H26: 282600 | I26: 5923900 | L26: =IF(H26>0,H26/C26,0) -> #DIV/0! | M26: =IF(I26>0,I26/D26,0) -> 0.60447959 | N26: =IF(J26>0,J26/E26,0) -> 0 | P26: =+(D26-C26)*P$8 -> 9800000 | Q26: =+(E26-D26)*Q$8 -> 0 | R26: =+(F26-E26)*R$8 -> 0 | S26: =+P26*P$8+Q26*Q$8+Q26*G$8 -> 9800000 | T26: =IF(C26=0,0,+S26/C26) -> 0 | V26: =+S26-E26+C26 -> 0
A27: K123 | B27: Egyéb külső személyi juttatások | C27: =120000*12+2000000 -> 3440000 | D27: 3440000 | E27: 3440000 | H27: 874688 | I27: 1239466 | L27: =IF(H27>0,H27/C27,0) -> 0.25426977 | M27: =IF(I27>0,I27/D27,0) -> 0.36030988 | N27: =IF(J27>0,J27/E27,0) -> 0 | P27: =+(D27-C27)*P$8 -> 0 | Q27: =+(E27-D27)*Q$8 -> 0 | R27: =+(F27-E27)*R$8 -> 0 | S27: =+P27*P$8+Q27*Q$8+Q27*G$8 -> 0 | T27: =IF(C27=0,0,+S27/C27) -> 0 | V27: =+S27-E27+C27 -> 0
V28: =+S28-E28+C28 -> 0
A29: K2 | B29: Munkaadót terhelő járulékok és szociális hozzájárulás | C29: =SUM(C30:C31) -> 13000000 | D29: =SUM(D30:D31) -> 14415000 | E29: =SUM(E30:E31) -> 14415000 | F29: =SUM(F30:F31) -> 0 | H29: =SUM(H30:H31) -> 5715394 | I29: =SUM(I30:I31) -> 9195251 | J29: =SUM(J30:J31) -> 0 | L29: =H29/C29 -> 0.43964569 | M29: =I29/D29 -> 0.63789462 | N29: =+J29/E29 -> 0 | P29: =IF(D29>0,+D29-C29,0) -> 1415000 | Q29: =IF(E29>0,+E29-D29,0) -> 0 | R29: =IF(F29>0,+F29-E29,0) -> 0 | S29: =+P29*P$8+Q29*Q$8+Q29*G$8 -> 1415000 | T29: =IF(C29=0,0,+S29/C29) -> 0.10884615 | V29: =+S29-E29+C29 -> 0
B30: szociális hozzáj, rehab. EHO, táppénzh. Egyéb munk.terh.j. | C30: 13000000 | D30: 14415000 | E30: 14415000 | H30: 5715394 | I30: 9195251 | L30: =H30/C30 -> 0.43964569 | M30: =I30/D30 -> 0.63789462 | N30: =+J30/E30 -> 0 | P30: =+(D30-C30)*P$8 -> 1415000 | Q30: =+(E30-D30)*Q$8 -> 0 | R30: =+(F30-E30)*R$8 -> 0 | S30: =+P30*P$8+Q30*Q$8+Q30*G$8 -> 1415000 | T30: =IF(C30=0,0,+S30/C30) -> 0.10884615 | V30: =+S30-E30+C30 -> 0
V31: =+S31-E31+C31 -> 0
A32: K3 | B32: Dologi kiadások | C32: =SUM(C33:C80) -> 217700000 | D32: =SUM(D33:D80) -> 207001305 | E32: =SUM(E33:E80) -> 208680000 | F32: =SUM(F33:F80) -> 0 | H32: =SUM(H33:H80) -> 87543418 | I32: =SUM(I33:I80) -> 121417212 | J32: =SUM(J33:J80) -> 0 | L32: =IF(H32>0,H32/C32,0) -> 0.4021287 | M32: =IF(I32>0,I32/D32,0) -> 0.58655288 | N32: =IF(J32>0,J32/E32,0) -> 0 | P32: =IF(D32>0,+D32-C32,0) -> -10698695 | Q32: =IF(E32>0,+E32-D32,0) -> 1678695 | R32: =IF(F32>0,+F32-E32,0) -> 0 | S32: =+P32*P$8+Q32*Q$8+Q32*G$8 -> -9020000 | T32: =IF(C32=0,0,+S32/C32) -> -0.041433165 | V32: =+S32-E32+C32 -> 0
A33: K31 | B33: Készletbeszerzés | E33: 0 | L33: =IF(H33>0,H33/C33,0) -> 0 | M33: =IF(I33>0,I33/D33,0) -> 0 | N33: =IF(J33>0,J33/E33,0) -> 0 | P33: =+(D33-C33)*P$8 -> 0 | Q33: =+(E33-D33)*Q$8 -> 0 | R33: =+(F33-E33)*R$8 -> 0 | S33: =+P33*P$8+Q33*Q$8+Q33*G$8 -> 0 | T33: =IF(C33=0,0,+S33/C33) -> 0 | V33: =+S33-E33+C33 -> 0
A34: K311 | B34: Szakmai anyagok beszerzése | C34: 1000000 | D34: 1000000 | E34: 1000000 | H34: 494111 | I34: 580221 | L34: =IF(H34>0,H34/C34,0) -> 0.494111 | M34: =IF(I34>0,I34/D34,0) -> 0.580221 | N34: =IF(J34>0,J34/E34,0) -> 0 | P34: =+(D34-C34)*P$8 -> 0 | Q34: =+(E34-D34)*Q$8 -> 0 | R34: =+(F34-E34)*R$8 -> 0 | S34: =+P34*P$8+Q34*Q$8+Q34*G$8 -> 0 | T34: =IF(C34=0,0,+S34/C34) -> 0 | V34: =+S34-E34+C34 -> 0
B35: könyvek,folyóiratok, napilapok, inf.eszk.(CD,stb)gyógyszer | P35: =+(D35-C35)*P$8 -> 0 | Q35: =+(E35-D35)*Q$8 -> 0 | R35: =+(F35-E35)*R$8 -> 0 | S35: =+P35*P$8+Q35*Q$8+Q35*G$8 -> 0 | T35: =IF(C35=0,0,+S35/C35) -> 0 | V35: =+S35-E35+C35 -> 0
A36: K312 | B36: Üzemeltetési anyagok beszerzése | C36: 28500000 | D36: 24427198 | E36: 24428000 | H36: 10025762 | I36: 14441358 | L36: =IF(H36>0,H36/C36,0) -> 0.35178112 | M36: =IF(I36>0,I36/D36,0) -> 0.59119994 | N36: =IF(J36>0,J36/E36,0) -> 0 | P36: =+(D36-C36)*P$8 -> -4072802 | Q36: =+(E36-D36)*Q$8 -> 802 | R36: =+(F36-E36)*R$8 -> 0 | S36: =+P36*P$8+Q36*Q$8+Q36*G$8 -> -4072000 | T36: =IF(C36=0,0,+S36/C36) -> -0.14287719 | V36: =+S36-E36+C36 -> 0
B37: irodaszer nyomtatvány, festék patronok, tűzelőanyag,tisztitószer | P37: =+(D37-C37)*P$8 -> 0 | Q37: =+(E37-D37)*Q$8 -> 0 | R37: =+(F37-E37)*R$8 -> 0 | S37: =+P37*P$8+Q37*Q$8+Q37*G$8 -> 0 | T37: =IF(C37=0,0,+S37/C37) -> 0 | V37: =+S37-E37+C37 -> 0
B38: üzemanyag, élelmiszer, védő és munkaruha | P38: =+(D38-C38)*P$8 -> 0 | Q38: =+(E38-D38)*Q$8 -> 0 | R38: =+(F38-E38)*R$8 -> 0 | S38: =+P38*P$8+Q38*Q$8+Q38*G$8 -> 0 | T38: =IF(C38=0,0,+S38/C38) -> 0 | V38: =+S38-E38+C38 -> 0
A39: K32 | B39: Kommunikációs szolgáltatás | P39: =+(D39-C39)*P$8 -> 0 | Q39: =+(E39-D39)*Q$8 -> 0 | R39: =+(F39-E39)*R$8 -> 0 | S39: =+P39*P$8+Q39*Q$8+Q39*G$8 -> 0 | T39: =IF(C39=0,0,+S39/C39) -> 0 | V39: =+S39-E39+C39 -> 0
A40: K321 | B40: Informatikai szolgáltatások igénybevétele | C40: 3500000 | D40: 3500000 | E40: 3500000 | H40: 1478438 | I40: 2295278 | L40: =IF(H40>0,H40/C40,0) -> 0.42241086 | M40: =IF(I40>0,I40/D40,0) -> 0.65579371 | N40: =IF(J40>0,J40/E40,0) -> 0 | P40: =+(D40-C40)*P$8 -> 0 | Q40: =+(E40-D40)*Q$8 -> 0 | R40: =+(F40-E40)*R$8 -> 0 | S40: =+P40*P$8+Q40*Q$8+Q40*G$8 -> 0 | T40: =IF(C40=0,0,+S40/C40) -> 0 | V40: =+S40-E40+C40 -> 0
B41: inf.eszközök kiépítése, telepítése, bérletidíj, jogtiszta szoftverek | L41: =IF(H41>0,H41/C41,0) -> 0 | M41: =IF(I41>0,I41/D41,0) -> 0 | N41: =IF(J41>0,J41/E41,0) -> 0 | P41: =+(D41-C41)*P$8 -> 0 | Q41: =+(E41-D41)*Q$8 -> 0 | R41: =+(F41-E41)*R$8 -> 0 | S41: =+P41*P$8+Q41*Q$8+Q41*G$8 -> 0 | T41: =IF(C41=0,0,+S41/C41) -> 0 | V41: =+S41-E41+C41 -> 0
B42: internet előfizetés, számítógépse oktatásra irányuló szolg. | L42: =IF(H42>0,H42/C42,0) -> 0 | M42: =IF(I42>0,I42/D42,0) -> 0 | N42: =IF(J42>0,J42/E42,0) -> 0 | P42: =+(D42-C42)*P$8 -> 0 | Q42: =+(E42-D42)*Q$8 -> 0 | R42: =+(F42-E42)*R$8 -> 0 | S42: =+P42*P$8+Q42*Q$8+Q42*G$8 -> 0 | T42: =IF(C42=0,0,+S42/C42) -> 0 | V42: =+S42-E42+C42 -> 0
B43: számítástechnikai eszközök javítása, karbantartása | L43: =IF(H43>0,H43/C43,0) -> 0 | M43: =IF(I43>0,I43/D43,0) -> 0 | N43: =IF(J43>0,J43/E43,0) -> 0 | P43: =+(D43-C43)*P$8 -> 0 | Q43: =+(E43-D43)*Q$8 -> 0 | R43: =+(F43-E43)*R$8 -> 0 | S43: =+P43*P$8+Q43*Q$8+Q43*G$8 -> 0 | T43: =IF(C43=0,0,+S43/C43) -> 0 | V43: =+S43-E43+C43 -> 0
A44: K322 | B44: Egyéb kommunikációs szolgáltatások | C44: 2000000 | D44: 2000000 | E44: 2202000 | H44: 948459 | I44: 1488185 | L44: =IF(H44>0,H44/C44,0) -> 0.4742295 | M44: =IF(I44>0,I44/D44,0) -> 0.7440925 | N44: =IF(J44>0,J44/E44,0) -> 0 | P44: =+(D44-C44)*P$8 -> 0 | Q44: =+(E44-D44)*Q$8 -> 202000 | R44: =+(F44-E44)*R$8 -> 0 | S44: =+P44*P$8+Q44*Q$8+Q44*G$8 -> 202000 | T44: =IF(C44=0,0,+S44/C44) -> 0.101 | V44: =+S44-E44+C44 -> 0
B45: telefon,telefax,mobil, telefonkártya, műsorközlési jogdíj | P45: =+(D45-C45)*P$8 -> 0 | Q45: =+(E45-D45)*Q$8 -> 0 | R45: =+(F45-E45)*R$8 -> 0 | S45: =+P45*P$8+Q45*Q$8+Q45*G$8 -> 0 | T45: =IF(C45=0,0,+S45/C45) -> 0 | V45: =+S45-E45+C45 -> 0
A46: K33 | B46: Szolgáltatások kiadásai | P46: =+(D46-C46)*P$8 -> 0 | Q46: =+(E46-D46)*Q$8 -> 0 | R46: =+(F46-E46)*R$8 -> 0 | S46: =+P46*P$8+Q46*Q$8+Q46*G$8 -> 0 | T46: =IF(C46=0,0,+S46/C46) -> 0 | V46: =+S46-E46+C46 -> 0
A47: K331 | B47: Közüzemi díjak | C47: 21000000 | D47: 21000000 | E47: 21000000 | H47: 11226943 | I47: 15983376 | L47: =IF(H47>0,H47/C47,0) -> 0.53461633 | M47: =IF(I47>0,I47/D47,0) -> 0.76111314 | N47: =IF(J47>0,J47/E47,0) -> 0 | P47: =+(D47-C47)*P$8 -> 0 | Q47: =+(E47-D47)*Q$8 -> 0 | R47: =+(F47-E47)*R$8 -> 0 | S47: =+P47*P$8+Q47*Q$8+Q47*G$8 -> 0 | T47: =IF(C47=0,0,+S47/C47) -> 0 | V47: =+S47-E47+C47 -> 0
B48: villamosenergia | P48: =+(D48-C48)*P$8 -> 0 | Q48: =+(E48-D48)*Q$8 -> 0 | R48: =+(F48-E48)*R$8 -> 0 | S48: =+P48*P$8+Q48*Q$8+Q48*G$8 -> 0 | T48: =IF(C48=0,0,+S48/C48) -> 0 | V48: =+S48-E48+C48 -> 0
B49: gáz | P49: =+(D49-C49)*P$8 -> 0 | Q49: =+(E49-D49)*Q$8 -> 0 | R49: =+(F49-E49)*R$8 -> 0 | S49: =+P49*P$8+Q49*Q$8+Q49*G$8 -> 0 | T49: =IF(C49=0,0,+S49/C49) -> 0 | V49: =+S49-E49+C49 -> 0
B50: víz | P50: =+(D50-C50)*P$8 -> 0 | Q50: =+(E50-D50)*Q$8 -> 0 | R50: =+(F50-E50)*R$8 -> 0 | S50: =+P50*P$8+Q50*Q$8+Q50*G$8 -> 0 | T50: =IF(C50=0,0,+S50/C50) -> 0 | V50: =+S50-E50+C50 -> 0
A51: K332 | B51: Vásárolt élelmezés | C51: 0 | D51: 0 | E51: 0 | H51: 0 | I51: 0 | L51: =IF(H51>0,H51/C51,0) -> 0 | M51: =IF(I51>0,I51/D51,0) -> 0 | N51: =IF(J51>0,J51/E51,0) -> 0 | P51: =+(D51-C51)*P$8 -> 0 | Q51: =+(E51-D51)*Q$8 -> 0 | R51: =+(F51-E51)*R$8 -> 0 | S51: =+P51*P$8+Q51*Q$8+Q51*G$8 -> 0 | T51: =IF(C51=0,0,+S51/C51) -> 0 | V51: =+S51-E51+C51 -> 0
B52: az étkeztetésről szolgáltatás vásárlásával való gondoskodás | P52: =+(D52-C52)*P$8 -> 0 | Q52: =+(E52-D52)*Q$8 -> 0 | R52: =+(F52-E52)*R$8 -> 0 | S52: =+P52*P$8+Q52*Q$8+Q52*G$8 -> 0 | T52: =IF(C52=0,0,+S52/C52) -> 0 | V52: =+S52-E52+C52 -> 0
B53: Pl.Gondozási Központ | P53: =+(D53-C53)*P$8 -> 0 | Q53: =+(E53-D53)*Q$8 -> 0 | R53: =+(F53-E53)*R$8 -> 0 | S53: =+P53*P$8+Q53*Q$8+Q53*G$8 -> 0 | T53: =IF(C53=0,0,+S53/C53) -> 0 | V53: =+S53-E53+C53 -> 0
A54: K333 | B54: Bérleti és lízing díjak | C54: 1700000 | D54: 1764000 | E54: 1764000 | H54: 722400 | I54: 1083600 | L54: =IF(H54>0,H54/C54,0) -> 0.42494118 | M54: =IF(I54>0,I54/D54,0) -> 0.61428571 | N54: =IF(J54>0,J54/E54,0) -> 0 | P54: =+(D54-C54)*P$8 -> 64000 | Q54: =+(E54-D54)*Q$8 -> 0 | R54: =+(F54-E54)*R$8 -> 0 | S54: =+P54*P$8+Q54*Q$8+Q54*G$8 -> 64000 | T54: =IF(C54=0,0,+S54/C54) -> 0.037647059 | V54: =+S54-E54+C54 -> 0
B55: Nem itt kell elszámolni az informatikai eszközök béleti díját | P55: =+(D55-C55)*P$8 -> 0 | Q55: =+(E55-D55)*Q$8 -> 0 | R55: =+(F55-E55)*R$8 -> 0 | S55: =+P55*P$8+Q55*Q$8+Q55*G$8 -> 0 | T55: =IF(C55=0,0,+S55/C55) -> 0 | V55: =+S55-E55+C55 -> 0
A56: K334 | B56: Karbantartás, kisjavítási szolgáltatások | C56: 8000000 | D56: 18289802 | E56: 23036000 | H56: 15136525 | I56: 21844870 | L56: =IF(H56>0,H56/C56,0) -> 1.8920656 | M56: =IF(I56>0,I56/D56,0) -> 1.1943743 | N56: =IF(J56>0,J56/E56,0) -> 0 | P56: =+(D56-C56)*P$8 -> 10289802 | Q56: =+(E56-D56)*Q$8 -> 4746198 | R56: =+(F56-E56)*R$8 -> 0 | S56: =+P56*P$8+Q56*Q$8+Q56*G$8 -> 15036000 | T56: =IF(C56=0,0,+S56/C56) -> 1.8795 | V56: =+S56-E56+C56 -> 0
B57: Kivéve az informatikai eszközök | P57: =+(D57-C57)*P$8 -> 0 | Q57: =+(E57-D57)*Q$8 -> 0 | R57: =+(F57-E57)*R$8 -> 0 | S57: =+P57*P$8+Q57*Q$8+Q57*G$8 -> 0 | T57: =IF(C57=0,0,+S57/C57) -> 0 | V57: =+S57-E57+C57 -> 0
A58: K335 | B58: Közvetített szolgáltatások | C58: 20000000 | D58: 20000000 | E58: 20000000 | H58: 6446388 | I58: 8341789 | L58: =IF(H58>0,H58/C58,0) -> 0.3223194 | M58: =IF(I58>0,I58/D58,0) -> 0.41708945 | N58: =IF(J58>0,J58/E58,0) -> 0 | P58: =+(D58-C58)*P$8 -> 0 | Q58: =+(E58-D58)*Q$8 -> 0 | R58: =+(F58-E58)*R$8 -> 0 | S58: =+P58*P$8+Q58*Q$8+Q58*G$8 -> 0 | T58: =IF(C58=0,0,+S58/C58) -> 0 | V58: =+S58-E58+C58 -> 0
B59: változatlan formában továbbértékesítések beszerzési árát kell itt elszámolni Külön az államháztartáson belülre | L59: =IF(H59>0,H59/C59,0) -> 0 | M59: =IF(I59>0,I59/D59,0) -> 0 | N59: =IF(J59>0,J59/E59,0) -> 0 | P59: =+(D59-C59)*P$8 -> 0 | Q59: =+(E59-D59)*Q$8 -> 0 | R59: =+(F59-E59)*R$8 -> 0 | S59: =+P59*P$8+Q59*Q$8+Q59*G$8 -> 0 | T59: =IF(C59=0,0,+S59/C59) -> 0 | V59: =+S59-E59+C59 -> 0
A60: K336 | B60: Szakmai tevékenységet segítő szolgáltatások | C60: 1000000 | D60: 1000000 | E60: 1000000 | H60: 262700 | I60: 352400 | L60: =IF(H60>0,H60/C60,0) -> 0.2627 | M60: =IF(I60>0,I60/D60,0) -> 0.3524 | N60: =IF(J60>0,J60/E60,0) -> 0 | P60: =+(D60-C60)*P$8 -> 0 | Q60: =+(E60-D60)*Q$8 -> 0 | R60: =+(F60-E60)*R$8 -> 0 | S60: =+P60*P$8+Q60*Q$8+Q60*G$8 -> 0 | T60: =IF(C60=0,0,+S60/C60) -> 0 | V60: =+S60-E60+C60 -> 0
B61: Azoknak a szolgáltatásoknak a beszerzési költsége amit egyébként az államháztartásnak kellene ellátni, de államháztartáson kívüli szervezet, személy lát el.( Pl. szociális ellátás, útüzemeltetés, környezetvédelem, egészségügy) Itt kell elszámolni a tervez | L61: =IF(H61>0,H61/C61,0) -> 0 | M61: =IF(I61>0,I61/D61,0) -> 0 | N61: =IF(J61>0,J61/E61,0) -> 0 | P61: =+(D61-C61)*P$8 -> 0 | Q61: =+(E61-D61)*Q$8 -> 0 | R61: =+(F61-E61)*R$8 -> 0 | S61: =+P61*P$8+Q61*Q$8+Q61*G$8 -> 0 | T61: =IF(C61=0,0,+S61/C61) -> 0 | V61: =+S61-E61+C61 -> 0
A62: K337 | B62: Egyéb szolgáltatások | C62: 70000000 | D62: 55101305 | E62: 53312000 | H62: 24702303 | I62: 33644688 | L62: =IF(H62>0,H62/C62,0) -> 0.35289004 | M62: =IF(I62>0,I62/D62,0) -> 0.61059694 | N62: =IF(J62>0,J62/E62,0) -> 0 | P62: =+(D62-C62)*P$8 -> -14898695 | Q62: =+(E62-D62)*Q$8 -> -1789305 | R62: =+(F62-E62)*R$8 -> 0 | S62: =+P62*P$8+Q62*Q$8+Q62*G$8 -> -16688000 | T62: =IF(C62=0,0,+S62/C62) -> -0.2384 | V62: =+S62-E62+C62 -> 0
B63: A más rovaton nem szerepeltethető szolgáltatások, raktározás, posta és távközlési szolgáltatás, szállítás, takarítás, mosás, kéményseprés, rovarirtás, pénzügyi, befektetési, biztosítás, | L63: =IF(H63>0,H63/C63,0) -> 0 | M63: =IF(I63>0,I63/D63,0) -> 0 | N63: =IF(J63>0,J63/E63,0) -> 0 | P63: =+(D63-C63)*P$8 -> 0 | Q63: =+(E63-D63)*Q$8 -> 0 | R63: =+(F63-E63)*R$8 -> 0 | S63: =+P63*P$8+Q63*Q$8+Q63*G$8 -> 0 | T63: =IF(C63=0,0,+S63/C63) -> 0 | V63: =+S63-E63+C63 -> 0
A64: K34 | B64: Kiküldetések, reklám és propagandakiadások | L64: =IF(H64>0,H64/C64,0) -> 0 | M64: =IF(I64>0,I64/D64,0) -> 0 | N64: =IF(J64>0,J64/E64,0) -> 0 | P64: =+(D64-C64)*P$8 -> 0 | Q64: =+(E64-D64)*Q$8 -> 0 | R64: =+(F64-E64)*R$8 -> 0 | S64: =+P64*P$8+Q64*Q$8+Q64*G$8 -> 0 | T64: =IF(C64=0,0,+S64/C64) -> 0 | V64: =+S64-E64+C64 -> 0
A65: K341 | B65: Kiküldetések kiadásai | C65: 500000 | D65: 500000 | E65: 500000 | H65: 222915 | I65: 368825 | L65: =IF(H65>0,H65/C65,0) -> 0.44583 | M65: =IF(I65>0,I65/D65,0) -> 0.73765 | N65: =IF(J65>0,J65/E65,0) -> 0 | P65: =+(D65-C65)*P$8 -> 0 | Q65: =+(E65-D65)*Q$8 -> 0 | R65: =+(F65-E65)*R$8 -> 0 | S65: =+P65*P$8+Q65*Q$8+Q65*G$8 -> 0 | T65: =IF(C65=0,0,+S65/C65) -> 0 | V65: =+S65-E65+C65 -> 0
B66: A foglalkoztatottak és a választott tisztségviselők belfödli és külföldi kiküldetésével kapcsolatos valamennyi kiadás, utazási,szállás, elszámolható élelmezés, saját gk. használat. | L66: =IF(H66>0,H66/C66,0) -> 0 | M66: =IF(I66>0,I66/D66,0) -> 0 | N66: =IF(J66>0,J66/E66,0) -> 0 | P66: =+(D66-C66)*P$8 -> 0 | Q66: =+(E66-D66)*Q$8 -> 0 | R66: =+(F66-E66)*R$8 -> 0 | S66: =+P66*P$8+Q66*Q$8+Q66*G$8 -> 0 | T66: =IF(C66=0,0,+S66/C66) -> 0 | V66: =+S66-E66+C66 -> 0
A67: K342 | B67: Reklám és Préopagandakiadások | C67: 0 | D67: 0 | E67: 0 | H67: 0 | I67: 0 | L67: =IF(H67>0,H67/C67,0) -> 0 | M67: =IF(I67>0,I67/D67,0) -> 0 | N67: =IF(J67>0,J67/E67,0) -> 0 | P67: =+(D67-C67)*P$8 -> 0 | Q67: =+(E67-D67)*Q$8 -> 0 | R67: =+(F67-E67)*R$8 -> 0 | S67: =+P67*P$8+Q67*Q$8+Q67*G$8 -> 0 | T67: =IF(C67=0,0,+S67/C67) -> 0 | V67: =+S67-E67+C67 -> 0
B68: A tevékenységet bemutató, népszerűsítő, és egyéb ismeretterjesztő célokat szolgáló reklám, marketing, propaganda, hirdetés, közvélemény-kutatások kiadásai | L68: =IF(H68>0,H68/C68,0) -> 0 | M68: =IF(I68>0,I68/D68,0) -> 0 | N68: =IF(J68>0,J68/E68,0) -> 0 | P68: =+(D68-C68)*P$8 -> 0 | Q68: =+(E68-D68)*Q$8 -> 0 | R68: =+(F68-E68)*R$8 -> 0 | S68: =+P68*P$8+Q68*Q$8+Q68*G$8 -> 0 | T68: =IF(C68=0,0,+S68/C68) -> 0 | V68: =+S68-E68+C68 -> 0
A69: K35 | B69: Különféle befizetések és egyéb dologi kiadások | L69: =IF(H69>0,H69/C69,0) -> 0 | M69: =IF(I69>0,I69/D69,0) -> 0 | N69: =IF(J69>0,J69/E69,0) -> 0 | P69: =+(D69-C69)*P$8 -> 0 | Q69: =+(E69-D69)*Q$8 -> 0 | R69: =+(F69-E69)*R$8 -> 0 | S69: =+P69*P$8+Q69*Q$8+Q69*G$8 -> 0 | T69: =IF(C69=0,0,+S69/C69) -> 0 | V69: =+S69-E69+C69 -> 0
A70: K351 | B70: Működési célú előzetesen felszámított általános forgalmi adó | C70: 42000000 | D70: 39919000 | E70: 38438000 | H70: 13795054 | I70: 18439963 | L70: =IF(H70>0,H70/C70,0) -> 0.32845367 | M70: =IF(I70>0,I70/D70,0) -> 0.46193449 | N70: =IF(J70>0,J70/E70,0) -> 0 | P70: =+(D70-C70)*P$8 -> -2081000 | Q70: =+(E70-D70)*Q$8 -> -1481000 | R70: =+(F70-E70)*R$8 -> 0 | S70: =+P70*P$8+Q70*Q$8+Q70*G$8 -> -3562000 | T70: =IF(C70=0,0,+S70/C70) -> -0.084809524 | V70: =+S70-E70+C70 -> 0
B71: Beszerzések és kiadások után felszámított ÁFA | L71: =IF(H71>0,H71/C71,0) -> 0 | M71: =IF(I71>0,I71/D71,0) -> 0 | N71: =IF(J71>0,J71/E71,0) -> 0 | P71: =+(D71-C71)*P$8 -> 0 | Q71: =+(E71-D71)*Q$8 -> 0 | R71: =+(F71-E71)*R$8 -> 0 | S71: =+P71*P$8+Q71*Q$8+Q71*G$8 -> 0 | T71: =IF(C71=0,0,+S71/C71) -> 0 | V71: =+S71-E71+C71 -> 0
A72: K352 | B72: Fizetendő általános forgalmi adó | C72: 15500000 | D72: 15500000 | E72: 15500000 | H72: 1442000 | I72: 1479000 | L72: =IF(H72>0,H72/C72,0) -> 0.093032258 | M72: =IF(I72>0,I72/D72,0) -> 0.095419355 | N72: =IF(J72>0,J72/E72,0) -> 0 | P72: =+(D72-C72)*P$8 -> 0 | Q72: =+(E72-D72)*Q$8 -> 0 | R72: =+(F72-E72)*R$8 -> 0 | S72: =+P72*P$8+Q72*Q$8+Q72*G$8 -> 0 | T72: =IF(C72=0,0,+S72/C72) -> 0 | V72: =+S72-E72+C72 -> 0
B73: Itt kell elszámolni a bevételek után felszámított ÁFA-t, a fordított adózás szerint fizetendő ÁFA-t | P73: =+(D73-C73)*P$8 -> 0 | Q73: =+(E73-D73)*Q$8 -> 0 | R73: =+(F73-E73)*R$8 -> 0 | S73: =+P73*P$8+Q73*Q$8+Q73*G$8 -> 0 | T73: =IF(C73=0,0,+S73/C73) -> 0 | V73: =+S73-E73+C73 -> 0
A74: K353 | B74: Kamatkiadások | C74: 0 | D74: 0 | E74: 0 | I74: 0 | L74: =IF(H74>0,H74/C74,0) -> 0 | M74: =IF(I74>0,I74/D74,0) -> 0 | N74: =IF(J74>0,J74/E74,0) -> 0 | P74: =+(D74-C74)*P$8 -> 0 | Q74: =+(E74-D74)*Q$8 -> 0 | R74: =+(F74-E74)*R$8 -> 0 | S74: =+P74*P$8+Q74*Q$8+Q74*G$8 -> 0 | T74: =IF(C74=0,0,+S74/C74) -> 0 | V74: =+S74-E74+C74 -> 0
B75: Minden kamat kiadást itt kell elszámolni-ebből államháztartáson belülre, vagy fedezeti ügyleek kamatkiadásai | L75: =IF(H75>0,H75/C75,0) -> 0 | M75: =IF(I75>0,I75/D75,0) -> 0 | N75: =IF(J75>0,J75/E75,0) -> 0 | P75: =+(D75-C75)*P$8 -> 0 | Q75: =+(E75-D75)*Q$8 -> 0 | R75: =+(F75-E75)*R$8 -> 0 | S75: =+P75*P$8+Q75*Q$8+Q75*G$8 -> 0 | T75: =IF(C75=0,0,+S75/C75) -> 0 | V75: =+S75-E75+C75 -> 0
A76: K354 | B76: Egyéb pénzügyi műveleket kiadásai | C76: 0 | D76: 0 | E76: 0 | I76: 0 | L76: =IF(H76>0,H76/C76,0) -> 0 | M76: =IF(I76>0,I76/D76,0) -> 0 | N76: =IF(J76>0,J76/E76,0) -> 0 | P76: =+(D76-C76)*P$8 -> 0 | Q76: =+(E76-D76)*Q$8 -> 0 | R76: =+(F76-E76)*R$8 -> 0 | S76: =+P76*P$8+Q76*Q$8+Q76*G$8 -> 0 | T76: =IF(C76=0,0,+S76/C76) -> 0 | V76: =+S76-E76+C76 -> 0
B77: valuta és deviza átváltása során realizált árfolyamvezsteség, | L77: =IF(H77>0,H77/C77,0) -> 0 | M77: =IF(I77>0,I77/D77,0) -> 0 | N77: =IF(J77>0,J77/E77,0) -> 0 | P77: =+(D77-C77)*P$8 -> 0 | Q77: =+(E77-D77)*Q$8 -> 0 | R77: =+(F77-E77)*R$8 -> 0 | S77: =+P77*P$8+Q77*Q$8+Q77*G$8 -> 0 | T77: =IF(C77=0,0,+S77/C77) -> 0 | V77: =+S77-E77+C77 -> 0
A78: K355 | B78: Egyéb dologi kiadások | C78: 3000000 | D78: 3000000 | E78: 3000000 | H78: 639420 | I78: 1073659 | L78: =IF(H78>0,H78/C78,0) -> 0.21314 | M78: =IF(I78>0,I78/D78,0) -> 0.35788633 | N78: =IF(J78>0,J78/E78,0) -> 0 | P78: =+(D78-C78)*P$8 -> 0 | Q78: =+(E78-D78)*Q$8 -> 0 | R78: =+(F78-E78)*R$8 -> 0 | S78: =+P78*P$8+Q78*Q$8+Q78*G$8 -> 0 | T78: =IF(C78=0,0,+S78/C78) -> 0 | V78: =+S78-E78+C78 -> 0
B79: behajthatatlan előlegek elszámolása, 1, 2 Ft-os érmék kerekítési különbözete, adó, vám, illeték jellegű befizetések amik más rovaton nem számolhatók el, kötelező jellegű díjak, úgy mint út díj, zöldkártya, közbeszerzési díj, ajánlati biztosíték, kötbér, k | P79: =+(D79-C79)*P$8 -> 0 | Q79: =+(E79-D79)*Q$8 -> 0 | R79: =+(F79-E79)*R$8 -> 0 | S79: =+P79*P$8+Q79*Q$8+Q79*G$8 -> 0 | T79: =IF(C79=0,0,+S79/C79) -> 0 | V79: =+S79-E79+C79 -> 0
V80: =+S80-E80+C80 -> 0
A81: K4 | B81: Elláttotak pénzpeli juttatásai | C81: =SUM(C82:C105) -> 16000000 | D81: =SUM(D82:D105) -> 16000000 | E81: =SUM(E82:E105) -> 16000000 | F81: =SUM(F82:F105) -> 0 | H81: =SUM(H82:H105) -> 4998433 | I81: =SUM(I82:I105) -> 8147040 | J81: =SUM(J82:J105) -> 0 | L81: =IF(H81>0,H81/C81,0) -> 0.31240206 | M81: =IF(I81>0,I81/D81,0) -> 0.50919 | N81: =IF(J81>0,J81/E81,0) -> 0 | P81: =IF(D81>0,+D81-C81,0) -> 0 | Q81: =IF(E81>0,+E81-D81,0) -> 0 | R81: =IF(F81>0,+F81-E81,0) -> 0 | S81: =+P81*P$8+Q81*Q$8+Q81*G$8 -> 0 | T81: =IF(C81=0,0,+S81/C81) -> 0 | V81: =+S81-E81+C81 -> 0
A82: K42 | B82: Családi támogatások | L82: =IF(H82>0,H82/C82,0) -> 0 | M82: =IF(I82>0,I82/D82,0) -> 0 | N82: =IF(J82>0,J82/E82,0) -> 0 | P82: =IF(D82>0,+D82-C82,0) -> 0 | Q82: =IF(E82>0,+E82-D82,0) -> 0 | R82: =IF(F82>0,+F82-E82,0) -> 0 | S82: =+P82*P$8+Q82*Q$8+Q82*G$8 -> 0 | T82: =IF(C82=0,0,+S82/C82) -> 0 | V82: =+S82-E82+C82 -> 0
B83: pénzbeli és természetbeni gyermekvédelmi támogatások,rendszeres gyermekvédelmi kedvezményben részesülők pénzpeli támogatása (Gyvt.20/A,) kiegészítő gyermekvédelmi támogatás (Gyvt 20/B), óvodáztatási támogatás, rendkivüli gyermekvédelmi támogatás, helyi megállapítású | D83: 0 | E83: 0 | H83: 0 | I83: 0 | L83: =IF(H83>0,H83/C83,0) -> 0 | M83: =IF(I83>0,I83/D83,0) -> 0 | N83: =IF(J83>0,J83/E83,0) -> 0 | P83: =+(D83-C83)*P$8 -> 0 | Q83: =+(E83-D83)*Q$8 -> 0 | R83: =+(F83-E83)*R$8 -> 0 | S83: =+P83*P$8+Q83*Q$8+Q83*G$8 -> 0 | T83: =IF(C83=0,0,+S83/C83) -> 0 | V83: =+S83-E83+C83 -> 0
A84: K44 | B84: Betegséggel kapcsolatos (nem tb) ellátások | C84: 0 | D84: 0 | E84: =I84*1.13 -> 0 | H84: 0 | L84: =IF(H84>0,H84/C84,0) -> 0 | M84: =IF(I84>0,I84/D84,0) -> 0 | N84: =IF(J84>0,J84/E84,0) -> 0 | P84: =+(D84-C84)*P$8 -> 0 | Q84: =+(E84-D84)*Q$8 -> 0 | R84: =+(F84-E84)*R$8 -> 0 | S84: =+P84*P$8+Q84*Q$8+Q84*G$8 -> 0 | T84: =IF(C84=0,0,+S84/C84) -> 0 | V84: =+S84-E84+C84 -> 0
B85: mozgáskorlátozottak támogatása | E85: =I85*1.13 -> 0 | L85: =IF(H85>0,H85/C85,0) -> 0 | M85: =IF(I85>0,I85/D85,0) -> 0 | N85: =IF(J85>0,J85/E85,0) -> 0 | P85: =+(D85-C85)*P$8 -> 0 | Q85: =+(E85-D85)*Q$8 -> 0 | R85: =+(F85-E85)*R$8 -> 0 | S85: =+P85*P$8+Q85*Q$8+Q85*G$8 -> 0 | T85: =IF(C85=0,0,+S85/C85) -> 0 | V85: =+S85-E85+C85 -> 0
B86: helyi megállapítású ápolási díj | E86: =I86*1.13 -> 0 | H86: 0 | L86: =IF(H86>0,H86/C86,0) -> 0 | M86: =IF(I86>0,I86/D86,0) -> 0 | N86: =IF(J86>0,J86/E86,0) -> 0 | P86: =+(D86-C86)*P$8 -> 0 | Q86: =+(E86-D86)*Q$8 -> 0 | R86: =+(F86-E86)*R$8 -> 0 | S86: =+P86*P$8+Q86*Q$8+Q86*G$8 -> 0 | T86: =IF(C86=0,0,+S86/C86) -> 0 | V86: =+S86-E86+C86 -> 0
B87: helyi megállapítású közgyógyellátás | D87: 0 | E87: 0 | H87: 0 | I87: 0 | L87: =IF(H87>0,H87/C87,0) -> 0 | M87: =IF(I87>0,I87/D87,0) -> 0 | N87: =IF(J87>0,J87/E87,0) -> 0 | P87: =+(D87-C87)*P$8 -> 0 | Q87: =+(E87-D87)*Q$8 -> 0 | R87: =+(F87-E87)*R$8 -> 0 | S87: =+P87*P$8+Q87*Q$8+Q87*G$8 -> 0 | T87: =IF(C87=0,0,+S87/C87) -> 0 | V87: =+S87-E87+C87 -> 0
A88: K45 | B88: Foglalkoztatással, munanélküliséggel kapcsolatos ellátások | C88: 0 | D88: 0 | E88: 0 | H88: 0 | I88: 0 | L88: =IF(H88>0,H88/C88,0) -> 0 | M88: =IF(I88>0,I88/D88,0) -> 0 | N88: =IF(J88>0,J88/E88,0) -> 0 | P88: =+(D88-C88)*P$8 -> 0 | Q88: =+(E88-D88)*Q$8 -> 0 | R88: =+(F88-E88)*R$8 -> 0 | S88: =+P88*P$8+Q88*Q$8+Q88*G$8 -> 0 | T88: =IF(C88=0,0,+S88/C88) -> 0 | V88: =+S88-E88+C88 -> 0
B89: foglalkoztatást helyettesítő támogatás (Szoctv. 35.§-(1) | L89: =IF(H89>0,H89/C89,0) -> 0 | M89: =IF(I89>0,I89/D89,0) -> 0 | N89: =IF(J89>0,J89/E89,0) -> 0 | P89: =+(D89-C89)*P$8 -> 0 | Q89: =+(E89-D89)*Q$8 -> 0 | R89: =+(F89-E89)*R$8 -> 0 | S89: =+P89*P$8+Q89*Q$8+Q89*G$8 -> 0 | T89: =IF(C89=0,0,+S89/C89) -> 0 | V89: =+S89-E89+C89 -> 0
A90: K46 | B90: Lakhatással kapcsolatos ellátások | C90: 0 | E90: 0 | I90: 0 | L90: =IF(H90>0,H90/C90,0) -> 0 | M90: =IF(I90>0,I90/D90,0) -> 0 | N90: =IF(J90>0,J90/E90,0) -> 0 | P90: =+(D90-C90)*P$8 -> 0 | Q90: =+(E90-D90)*Q$8 -> 0 | R90: =+(F90-E90)*R$8 -> 0 | S90: =+P90*P$8+Q90*Q$8+Q90*G$8 -> 0 | T90: =IF(C90=0,0,+S90/C90) -> 0 | V90: =+S90-E90+C90 -> 0
B91: lakásfenntartási támogatás (Szoctv. 38.§(1), a,b | E91: 0 | H91: 0 | I91: 0 | L91: =IF(H91>0,H91/C91,0) -> 0 | M91: =IF(I91>0,I91/D91,0) -> 0 | N91: =IF(J91>0,J91/E91,0) -> 0 | P91: =+(D91-C91)*P$8 -> 0 | Q91: =+(E91-D91)*Q$8 -> 0 | R91: =+(F91-E91)*R$8 -> 0 | S91: =+P91*P$8+Q91*Q$8+Q91*G$8 -> 0 | T91: =IF(C91=0,0,+S91/C91) -> 0 | V91: =+S91-E91+C91 -> 0
A92: K48 | B92: Egyéb nem intézményi ellátások | C92: 16000000 | D92: 16000000 | E92: 16000000 | H92: 4998433 | I92: 8147040 | L92: =IF(H92>0,H92/C92,0) -> 0.31240206 | M92: =IF(I92>0,I92/D92,0) -> 0.50919 | N92: =IF(J92>0,J92/E92,0) -> 0 | P92: =+(D92-C92)*P$8 -> 0 | Q92: =+(E92-D92)*Q$8 -> 0 | R92: =+(F92-E92)*R$8 -> 0 | S92: =+P92*P$8+Q92*Q$8+Q92*G$8 -> 0 | T92: =IF(C92=0,0,+S92/C92) -> 0 | V92: =+S92-E92+C92 -> 0
B93: a szoc. törvény, és gyermekvédelmi törvény alapján a helyi önkormányzat által folyósított pénzbeli és természetbeni ellátások | P93: =+(D93-C93)*P$8 -> 0 | Q93: =+(E93-D93)*Q$8 -> 0 | R93: =+(F93-E93)*R$8 -> 0 | S93: =+P93*P$8+Q93*Q$8+Q93*G$8 -> 0 | T93: =IF(C93=0,0,+S93/C93) -> 0 | V93: =+S93-E93+C93 -> 0
B94: időskorúak járadéka Szoctv. 32/B (1) | P94: =+(D94-C94)*P$8 -> 0 | Q94: =+(E94-D94)*Q$8 -> 0 | R94: =+(F94-E94)*R$8 -> 0 | S94: =+P94*P$8+Q94*Q$8+Q94*G$8 -> 0 | T94: =IF(C94=0,0,+S94/C94) -> 0 | V94: =+S94-E94+C94 -> 0
B95: rendszeres szociális segély Szoctv. 37. (1) a-d p | P95: =+(D95-C95)*P$8 -> 0 | Q95: =+(E95-D95)*Q$8 -> 0 | R95: =+(F95-E95)*R$8 -> 0 | S95: =+P95*P$8+Q95*Q$8+Q95*G$8 -> 0 | T95: =IF(C95=0,0,+S95/C95) -> 0 | V95: =+S95-E95+C95 -> 0
B96: átmeneti segély (Szoctv. 45 §) | P96: =+(D96-C96)*P$8 -> 0 | Q96: =+(E96-D96)*Q$8 -> 0 | R96: =+(F96-E96)*R$8 -> 0 | S96: =+P96*P$8+Q96*Q$8+Q96*G$8 -> 0 | T96: =IF(C96=0,0,+S96/C96) -> 0 | V96: =+S96-E96+C96 -> 0
B97: temetési segély (Szoctv. 46 §) | P97: =+(D97-C97)*P$8 -> 0 | Q97: =+(E97-D97)*Q$8 -> 0 | R97: =+(F97-E97)*R$8 -> 0 | S97: =+P97*P$8+Q97*Q$8+Q97*G$8 -> 0 | T97: =IF(C97=0,0,+S97/C97) -> 0 | V97: =+S97-E97+C97 -> 0
B98: egyé önkormányzat rendeletében mállapított juttatás | P98: =+(D98-C98)*P$8 -> 0 | Q98: =+(E98-D98)*Q$8 -> 0 | R98: =+(F98-E98)*R$8 -> 0 | S98: =+P98*P$8+Q98*Q$8+Q98*G$8 -> 0 | T98: =IF(C98=0,0,+S98/C98) -> 0 | V98: =+S98-E98+C98 -> 0
B99: természetben nyújtott rendszeres szoc.s. Szoctv. 47.§(1) a | P99: =+(D99-C99)*P$8 -> 0 | Q99: =+(E99-D99)*Q$8 -> 0 | R99: =+(F99-E99)*R$8 -> 0 | S99: =+P99*P$8+Q99*Q$8+Q99*G$8 -> 0 | T99: =IF(C99=0,0,+S99/C99) -> 0 | V99: =+S99-E99+C99 -> 0
B100: átmeneti segély (Szoctv. 47. §(1) bek.c.pont) | P100: =+(D100-C100)*P$8 -> 0 | Q100: =+(E100-D100)*Q$8 -> 0 | R100: =+(F100-E100)*R$8 -> 0 | S100: =+P100*P$8+Q100*Q$8+Q100*G$8 -> 0 | T100: =IF(C100=0,0,+S100/C100) -> 0 | V100: =+S100-E100+C100 -> 0
B101: temetési segély (Szoctv. 47§(1) bek. d.pont) | P101: =+(D101-C101)*P$8 -> 0 | Q101: =+(E101-D101)*Q$8 -> 0 | R101: =+(F101-E101)*R$8 -> 0 | S101: =+P101*P$8+Q101*Q$8+Q101*G$8 -> 0 | T101: =IF(C101=0,0,+S101/C101) -> 0 | V101: =+S101-E101+C101 -> 0
B102: köztemetés ( Szoctv. 48.§) | P102: =+(D102-C102)*P$8 -> 0 | Q102: =+(E102-D102)*Q$8 -> 0 | R102: =+(F102-E102)*R$8 -> 0 | S102: =+P102*P$8+Q102*Q$8+Q102*G$8 -> 0 | T102: =IF(C102=0,0,+S102/C102) -> 0 | V102: =+S102-E102+C102 -> 0
B103: rászorultságtól függyő normatív kedvezmény (Gyvt. 151.§(5)bek. | P103: =+(D103-C103)*P$8 -> 0 | Q103: =+(E103-D103)*Q$8 -> 0 | R103: =+(F103-E103)*R$8 -> 0 | S103: =+P103*P$8+Q103*Q$8+Q103*G$8 -> 0 | T103: =IF(C103=0,0,+S103/C103) -> 0 | V103: =+S103-E103+C103 -> 0
B104: önkormányzat átal saját hatáskörben adott pénzbeli és természetbeni ellátás | P104: =+(D104-C104)*P$8 -> 0 | Q104: =+(E104-D104)*Q$8 -> 0 | R104: =+(F104-E104)*R$8 -> 0 | S104: =SUM(P104:R104) -> 0 | T104: =IF(C104=0,0,+S104/C104) -> 0 | V104: =+S104-E104+C104 -> 0
A106: K5 | B106: Egyéb működési célú kiadások | C106: =SUM(C107:C119) -> 151426315 | D106: =SUM(D107:D119) -> 221879015 | E106: =SUM(E107:E118) -> 225231315 | F106: =SUM(F107:F118) -> 0 | H106: =SUM(H107:H119) -> 91594087 | I106: =SUM(I107:I118) -> 153439419 | J106: =SUM(J107:J118) -> 0 | L106: =IF(H106>0,H106/C106,0) -> 0.60487563 | M106: =IF(I106>0,I106/D106,0) -> 0.69154543 | N106: =IF(J106>0,J106/E106,0) -> 0 | P106: =IF(D106>0,+D106-C106,0) -> 70452700 | Q106: =IF(E106>0,+E106-D106,0) -> 3352300 | R106: =IF(F106>0,+F106-E106,0) -> 0 | S106: =+P106*P$8+Q106*Q$8+Q106*G$8 -> 73805000 | T106: =IF(C106=0,0,+S106/C106) -> 0.48739877 | V106: =+S106-E106+C106 -> 0
A107: K502 | B107: Elvonások és befizetések | C107: 1450000 | D107: =1450000+2865000 -> 4315000 | E107: 2984000 | H107: 1551621 | I107: 2267754 | L107: =IF(H107>0,H107/C107,0) -> 1.0700834 | M107: =IF(I107>0,I107/D107,0) -> 0.52555133 | N107: =IF(J107>0,J107/E107,0) -> 0 | P107: =+(D107-C107)*P$8 -> 2865000 | Q107: =+(E107-D107)*Q$8 -> -1331000 | R107: =+(F107-E107)*R$8 -> 0 | S107: =+P107*P$8+Q107*Q$8+Q107*G$8 -> 1534000 | T107: =IF(C107=0,0,+S107/C107) -> 1.057931 | V107: =+S107-E107+C107 -> 0
B108: normatíva visszafizetés, eredeti előirányzat nem tervezhető | E108: 0 | I108: 0 | L108: =IF(H108>0,H108/C108,0) -> 0 | M108: =IF(I108>0,I108/D108,0) -> 0 | N108: =IF(J108>0,J108/E108,0) -> 0 | P108: =+(D108-C108)*P$8 -> 0 | Q108: =+(E108-D108)*Q$8 -> 0 | R108: =+(F108-E108)*R$8 -> 0 | S108: =+P108*P$8+Q108*Q$8+Q108*G$8 -> 0 | T108: =IF(C108=0,0,+S108/C108) -> 0 | V108: =+S108-E108+C108 -> 0
...

Sheet 4. Polg.Hiv.
A1: POLGÁRMESTERI HIVATAL | J1: =+'1. Sülysáp összesen'!J1 -> 2022. III. Negyedéves költségvetési beszámoló
B5: KIADÁSOK ÖSSZESEN | C5: =+C89 -> 167430000 | D5: =+D89 -> 170414273 | E5: =+E89 -> 170414273 | F5: =+F89 -> 0 | H5: =+H89 -> 92897253 | I5: =+I89 -> 132799102 | J5: =+J89 -> 0 | L5: =IF(H5>0,H5/C5,0) -> 0.55484234 | M5: =IF(I5>0,I5/D5,0) -> 0.77927218 | N5: =IF(J5>0,J5/E5,0) -> 0 | P5: =+P89 -> 2984273 | Q5: =+Q89 -> 0 | R5: =+R89 -> 0 | S5: =+S89 -> 2984273 | T5: =IF(C5=0,0,+S5/C5) -> 0.017824004 | V5: =+S5-E5+C5 -> 0
B6: BEVÉTELEK ÖSSZESEN | C6: =+C102 -> 167430000 | D6: =+D102 -> 170414273 | E6: =+E102 -> 170414273 | F6: =+F102 -> 0 | H6: =+H102 -> 101087865 | I6: =+I102 -> 137661385 | J6: =+J102 -> 0 | L6: =IF(H6>0,H6/C6,0) -> 0.60376196 | M6: =IF(I6>0,I6/D6,0) -> 0.80780431 | N6: =IF(J6>0,J6/E6,0) -> 0 | P6: =+P102 -> 2984273 | Q6: =+Q102 -> 0 | R6: =+R102 -> 0 | S6: =+S102 -> 2984273 | T6: =IF(C6=0,0,+S6/C6) -> 0.017824004 | V6: =+S6-E6+C6 -> 0
B7: EGYENLEGÜK | C7: =+C6-C5 -> 0 | D7: =+D6-D5 -> 0 | E7: =+E6-E5 -> 0 | F7: =+F6-F5 -> 0 | H7: =+H6-H5 -> 8190612 | I7: =+I6-I5 -> 4862283 | J7: =+J6-J5 -> 0 | P7: =+P6-P5 -> 0 | Q7: =+Q6-Q5 -> 0 | R7: =+R6-R5 -> 0 | S7: =+S6-S5 -> 0 | T7: =IF(C7=0,0,+S7/C7) -> 0 | V7: =+S7-E7+C7 -> 0
C9: ELŐIRÁNYZAT | H9: FELHASZNÁLÁS | P9: előirányzat(ok) változása
H10: Ft-ban | L10: %-ban | P10: =+' 2. Önk. Bevételek'!P8 -> 1 | Q10: =+' 2. Önk. Bevételek'!Q8 -> 1 | R10: =+' 2. Önk. Bevételek'!R8 -> 0
A11: Rovat | B11: Megnevezés | C11: Eredeti előirányzat 2022.01.01 | D11: Módosított előirányzat 2022.06.30 | E11: Módosított előirányzat 2022.09.30 | F11: Módosított előirányzat 2022.12.31 | H11: 2022.06.30-ig tényleges felhasználás | I11: 2022.09.30-ig tényleges felhasználás | J11: 2022.12.31-ig tényleges felhasználás | L11: 2022.06.30-i felhasználás eredeti előir-hoz képest | M11: 2022.09.30-i felhasználás 2022.06.30-i módosított előir-hoz képest | N11: 2022.12.31-i felhasználás 2022.09.30-i módosított előir-hoz képest | P11: a 2022.06.30-i az eredetihez képest | Q11: a 2022.09.30-i a 2022.06.30-ihoz képest | R11: a 2022.12.31-i a 2022.09.30-ihoz képest | S11: előirányzatok változása összesen | T11: előirányzatok változása eredetihez képest | V11: kontroll
A13: K1 | B13: Személyi juttatások | C13: =SUM(C14:C28) -> 136770000 | D13: =SUM(D14:D28) -> 138910000 | E13: =SUM(E14:E28) -> 138910000 | F13: =SUM(F14:F28) -> 0 | H13: =SUM(H14:H28) -> 73242121 | I13: =SUM(I14:I28) -> 105852857 | J13: =SUM(J14:J28) -> 0 | L13: =+H13/C13 -> 0.53551306 | M13: =+I13/D13 -> 0.76202474 | N13: =+J13/E13 -> 0 | P13: =+(D13-C13)*P$10 -> 2140000 | Q13: =+(E13-D13)*Q$10 -> 0 | R13: =+(F13-E13)*R$10 -> 0 | S13: =+P13*P$10+Q13*Q$10+R13*R$10 -> 2140000 | T13: =IF(C13=0,0,+S13/C13) -> 0.015646706 | V13: =+S13-E13+C13 -> 0
A14: K11 | P14: =+(D14-C14)*P$10 -> 0 | Q14: =+(E14-D14)*Q$10 -> 0 | R14: =+(F14-E14)*R$10 -> 0 | S14: =+P14*P$10+Q14*Q$10+R14*R$10 -> 0 | T14: =IF(C14=0,0,+S14/C14) -> 0 | V14: =+S14-E14+C14 -> 0
A15: K1101 | B15: Törvény szerinti illetmények, munkabérek | C15: 126600000 | D15: 123618797 | E15: 122679797 | H15: 61511472 | I15: 93214283 | L15: =IF(H15>0,H15/C15,0) -> 0.48587261 | M15: =IF(I15>0,I15/D15,0) -> 0.75404619 | N15: =IF(J15>0,J15/E15,0) -> 0 | P15: =+(D15-C15)*P$10 -> -2981203 | Q15: =+(E15-D15)*Q$10 -> -939000 | R15: =+(F15-E15)*R$10 -> 0 | S15: =+P15*P$10+Q15*Q$10+R15*R$10 -> -3920203 | T15: =IF(C15=0,0,+S15/C15) -> -0.030965269 | V15: =+S15-E15+C15 -> 0
A16: K1103, K1104 | B16: Készentléti, ügyeleti, helyettesítési díj, túlóra | C16: 520000 | D16: =1474000+345000 -> 1819000 | E16: =1818000+690000 -> 2508000 | H16: =1473458+345000 -> 1818458 | I16: =1817458+517500 -> 2334958 | L16: =IF(H16>0,H16/C16,0) -> 3.4970346 | M16: =IF(I16>0,I16/D16,0) -> 1.2836493 | N16: =IF(J16>0,J16/E16,0) -> 0 | P16: =+(D16-C16)*P$10 -> 1299000 | Q16: =+(E16-D16)*Q$10 -> 689000 | R16: =+(F16-E16)*R$10 -> 0 | S16: =+P16*P$10+Q16*Q$10+R16*R$10 -> 1988000 | T16: =IF(C16=0,0,+S16/C16) -> 3.8230769 | V16: =+S16-E16+C16 -> 0
A17: K1105 | B17: Végkielégítés | C17: 0 | D17: 0 | E17: 0 | H17: 0 | I17: 0 | L17: =IF(H17>0,H17/C17,0) -> 0 | M17: =IF(I17>0,I17/D17,0) -> 0 | N17: =IF(J17>0,J17/E17,0) -> 0 | P17: =+(D17-C17)*P$10 -> 0 | Q17: =+(E17-D17)*Q$10 -> 0 | R17: =+(F17-E17)*R$10 -> 0 | S17: =+P17*P$10+Q17*Q$10+R17*R$10 -> 0 | T17: =IF(C17=0,0,+S17/C17) -> 0 | V17: =+S17-E17+C17 -> 0
A18: K1106 | B18: Jubileumi jutalom | C18: 0 | D18: 382203 | E18: 382203 | H18: 382203 | I18: 382203 | L18: =IF(H18>0,H18/C18,0) -> #DIV/0! | M18: =IF(I18>0,I18/D18,0) -> 1 | N18: =IF(J18>0,J18/E18,0) -> 0 | P18: =+(D18-C18)*P$10 -> 382203 | Q18: =+(E18-D18)*Q$10 -> 0 | R18: =+(F18-E18)*R$10 -> 0 | S18: =+P18*P$10+Q18*Q$10+R18*R$10 -> 382203 | T18: =IF(C18=0,0,+S18/C18) -> 0 | V18: =+S18-E18+C18 -> 0
