Workbook

Sheet 1_M_Kiadások
A1: 1. MELLÉKLET | G1: Adatok Ft-ban
A2: SÜLYSÁPI ROMA NEMZETISÉGI ÖNKORMÁNYZAT 2026. ÉVI KÖLTSÉGVETÉS KIADÁSOK
A3: Sor- szám | B3: Rovat megnevezése | C3: Rovat száma | D3: Eredeti ei. | E3: Módosított ei. | F3: Teljesítés | G3: 2026.06.30-i realizálás az eredeti előir-hoz képest
D4: 46023 | E4: 46203 | F4: 46203
A5: 01 | B5: Törvény szerinti illetmények, munkabérek | C5: K1101
A6: 02 | B6: Normatív jutalmak | C6: K1102
A7: 03 | B7: Céljuttatás, projektprémium | C7: K1103
A8: 04 | B8: Készenléti, ügyeleti, helyettesítési díj, túlóra, túlszolgálat | C8: K1104
A9: 05 | B9: Végkielégítés | C9: K1105
A10: 06 | B10: Jubileumi jutalom | C10: K1106
A11: 07 | B11: Béren kívüli juttatások | C11: K1107
A12: 08 | B12: Ruházati költségtérítés | C12: K1108
A13: 09 | B13: Közlekedési költségtérítés | C13: K1109
A14: 10 | B14: Egyéb költségtérítések | C14: K1110
A15: 11 | B15: Lakhatási támogatások | C15: K1111
A16: 12 | B16: Szociális támogatások | C16: K1112
A17: 13 | B17: Foglalkoztatottak egyéb személyi juttatásai | C17: K1113
A18: 14 | B18: Foglalkoztatottak személyi juttatásai (=01+…+13) K11 | C18: K11 | D18: =SUM(D5:D17) -> 0 | E18: =SUM(E5:E17) -> 0 | F18: =SUM(F5:F17) -> 0
A19: 15 | B19: Választott tisztségviselők juttatásai | C19: K121 | E19: 0 | F19: 0
A20: 16 | B20: Munkavégzésre irányuló egyéb jogviszonyban nem saját foglalkoztatottnak fizetett juttatások | C20: K122
A21: 17 | B21: Egyéb külső személyi juttatások | C21: K123
A22: 18 | B22: Külső személyi juttatások (=15+16+17) K12 | C22: K12 | D22: =SUM(D19:D21) -> 0 | E22: =SUM(E19:E21) -> 0 | F22: =SUM(F19:F21) -> 0
A23: 19 | B23: Személyi juttatások (=14+18) | C23: K1 | D23: =SUM(D22,D18) -> 0 | E23: =SUM(E22,E18) -> 0 | F23: =SUM(F22,F18) -> 0
A24: 20 | B24: Munkaadókat terhelő járulékok és szociális hozzájárulási adó | C24: K2 | D24: =+D19*0.155 -> 0 | E24: 0 | F24: =+F19*0.155*0.9 -> 0
A25: 21 | B25: Szakmai anyagok beszerzése | C25: K311 | D25: 0
A26: 22 | B26: Üzemeltetési anyagok beszerzése | C26: K312 | D26: 0 | E26: 350000 | F26: 242270
A27: 23 | B27: Árubeszerzés | C27: K313
A28: 24 | B28: Készletbeszerzés (=21+22+23) K31 | C28: K31 | D28: =SUM(D25:D27) -> 0 | E28: =SUM(E25:E27) -> 350000 | F28: =SUM(F25:F27) -> 242270
A29: 25 | B29: Informatikai szolgáltatások igénybevétele | C29: K321
A30: 26 | B30: Egyéb kommunikációs szolgáltatások | C30: K322
A31: 27 | B31: Kommunikációs szolgáltatások (=25+26) K32 | C31: K32 | D31: =SUM(D29:D30) -> 0 | E31: =SUM(E29:E30) -> 0 | F31: =SUM(F29:F30) -> 0
A32: 28 | B32: Közüzemi díjak | C32: K331
A33: 29 | B33: Vásárolt élelmezés | C33: K332
A34: 30 | B34: Bérleti és lízing díjak | C34: K333
A35: 31 | B35: Karbantartási, kisjavítási szolgáltatások | C35: K334 | D35: 0
A36: 32 | B36: Közvetített szolgáltatások | C36: K335
A37: 33 | B37: Szakmai tevékenységet segítő szolgáltatások | C37: K336 | D37: 0
A38: 34 | B38: Egyéb szolgáltatások | C38: K337 | D38: 1112000 | E38: 717000 | F38: 53765 | G38: =+F38/D38 -> 0.04834982
A39: 35 | B39: Szolgáltatási kiadások (=28+…+34) K33 | C39: K33 | D39: =SUM(D32:D38) -> 1112000 | E39: =SUM(E32:E38) -> 717000 | F39: =SUM(F32:F38) -> 53765 | G39: =+F39/D39 -> 0.04834982
A40: 36 | B40: Kiküldetések kiadásai | C40: K341 | D40: 0
...

Sheet 2_M_Bevételek
A1: 2. MELLÉKLET | G1: Adatok Ft-ban
A2: SÜLYSÁPI ROMA NEMZETISÉGI ÖNKORMÁNYZAT 2026. ÉVI KÖLTSÉGVETÉS KIADÁSOK
A3: Sor- szám | B3: Rovat megnevezése | C3: Rovat száma | D3: Eredeti ei. | E3: Módosított ei. | F3: Teljesítés | G3: 2026.06.30-i realizálás az eredeti előir-hoz képest
D4: 46023 | E4: 46203 | F4: 46203
A5: 01 | B5: Helyi önkormányzatok működésének általános támogatása | C5: B111
A6: 02 | B6: Települési önkormányzatok egyes köznevelési feladatainak támogatása | C6: B112
A7: 03 | B7: Települési önkormányzatok szociális gyermekjóléti és gyermekétkeztetési feladatainak támogatása | C7: B113
A8: 04 | B8: Települési önkormányzatok kulturális feladatainak támogatása | C8: B114
A9: 05 | B9: Működési célú költségvetési támogatások és kiegészítő támogatások | C9: B115
A10: 06 | B10: Elszámolásból származó bevételek | C10: B116
A11: 07 | B11: Önkormányzatok működési támogatásai (=01+…+06) | C11: B11 | D11: =SUM(D5:D10) -> 0
A12: 08 | B12: Elvonások és befizetések bevételei | C12: B12
A13: 09 | B13: Működési célú garancia- és kezességvállalásból származó megtérülések államháztartáson belülről | C13: B13
A14: 10 | B14: Működési célú visszatérítendő támogatások, kölcsönök visszatérülése államháztartáson belülről | C14: B14
A15: 11 | B15: Működési célú visszatérítendő támogatások, kölcsönök igénybevétele államháztartáson belülről | C15: B15
A16: 12 | B16: Egyéb működési célú támogatások bevételei államháztartáson belülről (központi ezelésű előirányzatok) | C16: B16 | D16: =676000*2 -> 1352000 | E16: 1352000 | F16: 1615520 | G16: =+F16/D16 -> 1.1949112
A17: 13 | B17: Működési célú támogatások államháztartáson belülről (=07+…+12) | C17: B1 | D17: =SUM(D11:D16) -> 1352000 | E17: =SUM(E11:E16) -> 1352000 | F17: =SUM(F11:F16) -> 1615520 | G17: =+F17/E17 -> 1.1949112
A18: 14 | B18: Felhalmozási célú önkormányzati támogatások | C18: B21
A19: 15 | B19: Felhalmozási célú garancia- és kezességvállalásból származó megtérülések államháztartáson belülről | C19: B22
A20: 16 | B20: Felhalmozási célú visszatérítendő támogatások, kölcsönök visszatérülése államháztartáson belülről | C20: B23
A21: 17 | B21: Felhalmozási célú visszatérítendő támogatások, kölcsönök igénybevétele államháztartáson belülről | C21: B24
A22: 18 | B22: Egyéb felhalmozási célú támogatások bevételei államháztartáson belülről | C22: B25
A23: 19 | B23: Felhalmozási célú támogatások államháztartáson belülről (=14+…+18) | C23: B2 | D23: =SUM(D18:D22) -> 0
A24: 20 | B24: Magánszemélyek jövedelemadói | C24: B311
A25: 21 | B25: Társaságok jövedelemadói | C25: B312
A26: 22 | B26: Jövedelemadók (=20+21) | C26: B31 | D26: =SUM(D24:D25) -> 0
A27: 23 | B27: Szociális hozzájárulási adó és járulékok | C27: B32
A28: 24 | B28: Bérhez és foglalkoztatáshoz kapcsolódó adók | C28: B33
A29: 25 | B29: Vagyoni tipusú adók | C29: B34
A30: 26 | B30: Értékesítési és forgalmi adók | C30: B351
A31: 27 | B31: Fogyasztási adók | C31: B352
A32: 28 | B32: Pénzügyi monopóliumok nyereségét terhelő adók | C32: B353
A33: 29 | B33: Gépjárműadók | C33: B354
A34: 30 | B34: Egyéb áruhasználati és szolgáltatási adók | C34: B355
A35: 31 | B35: Termékek és szolgáltatások adói (=26+…+30) | C35: B35 | D35: =SUM(D30:D34) -> 0
A36: 32 | B36: Egyéb közhatalmi bevételek | C36: B36
A37: 33 | B37: Közhatalmi bevételek (=22+...+25+31+32) | C37: B3 | D37: =SUM(D26:D29,D35,D36) -> 0
A38: 34 | B38: Készletértékesítés ellenértéke | C38: B401
A39: 35 | B39: Szolgáltatások ellenértéke | C39: B402
A40: 36 | B40: Közvetített szolgáltatások ellenértéke | C40: B403
...

Sheet 3_M_Költségvetési mérleg
A1: 3. melléklet
A2: Sülysápi Roma Nemzetiségi Önkormányzat
A3: 2026. évi költségvetési mérlege
I4: adatok Ft-ban
A5: BEVÉTELEK | F5: KIADÁSOK
A6: Megnevezés | B6: 2026. évi eredeti ei. | C6: 2026. évi módosított ei. | D6: 2026. 06.30. tényleges | F6: Megnevezés | G6: 2026. évi eredeti ei. | H6: 2026. évi módosított ei. | I6: 2026. 06.30. tényleges
A8: 1. | B8: 2. | C8: 3 | D8: 4. | F8: 5. | G8: 6. | H8: 7. | I8: 8.
A9: Működési bevétel | B9: =SUM(B10:B19) -> 1352000 | C9: =SUM(C10:C19) -> 1352000 | D9: =SUM(D10:D19) -> 1615520 | F9: Működési kiadás | G9: =SUM(G10:G19) -> 1368768 | H9: =SUM(H10:H19) -> 1323768 | I9: =SUM(I10:I19) -> 358765
A10: Önkormányzatok működési támogatásai | B10: 0 | C10: 0 | D10: 0 | F10: Személyi juttatások | G10: =+'[1]1_M_Kiadások'!D23 -> 0 | H10: =+'[1]1_M_Kiadások'!E23 -> 0 | I10: =+'[1]1_M_Kiadások'!F23 -> 0
A11: Elvonások és befizetések bevételei | B11: 0 | C11: 0 | D11: 0 | F11: Munkáltatót terh.jár. és szoc.hozzáj. adó | G11: =+'[1]1_M_Kiadások'!D24 -> 0 | H11: =+'[1]1_M_Kiadások'!E24 -> 0 | I11: =+'[1]1_M_Kiadások'!F24 -> 0
A12: Egyéb műk.c.tám.bev. áh.n belülről | B12: =+'2_M_Bevételek'!D16 -> 1352000 | C12: =+'2_M_Bevételek'!E16 -> 1352000 | D12: =+'2_M_Bevételek'!F16 -> 1615520 | F12: Dologi kiadás | G12: =+'1_M_Kiadások'!D49 -> 1368768 | H12: =+'1_M_Kiadások'!E49 -> 1323768 | I12: =+'1_M_Kiadások'!F49 -> 358765
A13: Közhatalmi bevételek | B13: 0 | C13: 0 | D13: 0 | F13: Ellátottak pénzbeli juttatásai | G13: 0 | H13: 0 | I13: 0
A14: Működési bevételek | B14: 0 | C14: 0 | D14: 0 | F14: Elvonások és befizetések | G14: 0 | H14: 0 | I14: 0
A15: Műk.c.visszat.tám.,kölcs.visszat.áh.n kívülről | B15: 0 | C15: 0 | D15: 0 | F15: Egyéb műk.c.támog.áh.n belülre | G15: 0 | H15: 0 | I15: 0
A16: Egyéb működési célú átvett pénzeszk. | B16: 0 | C16: 0 | D16: 0 | F16: Műk.c.visszat.támog., kölcs.nyújt.áh.n kívülre | G16: 0 | H16: 0 | I16: 0
A17: Műk.bev.felh.célra | B17: 0 | C17: 0 | D17: 0 | F17: Egyéb műk.c.támog.áh.n kívülre | G17: 0 | H17: 0 | I17: 0
F18: Működési tartalék: - általános | G18: 0 | H18: 0 | I18: 0
F19: - cél | G19: 0 | H19: 0 | I19: 0
A20: Felhalmozási célú bev. | B20: =SUM(B21:B27) -> 0 | C20: =SUM(C21:C27) -> 0 | D20: =SUM(D21:D27) -> 0 | F20: Felhalmozási célú kiadás | G20: =SUM(G21:G27) -> 0 | H20: =SUM(H21:H27) -> 45000 | I20: =+'1_M_Kiadások'!F83 -> 45000
A21: Felhalmozási célú önkorm.i támogatások | B21: 0 | C21: 0 | D21: 0 | F21: Beruházások | G21: =+'1_M_Kiadások'!D83 -> 0 | H21: =+'1_M_Kiadások'!E83 -> 45000 | I21: =+'1_M_Kiadások'!F83 -> 45000
A22: Egyéb felhalm.c.tám.bev. áh.n belülről | B22: 0 | C22: 0 | D22: 0 | F22: Felújítások | G22: 0 | H22: 0 | I22: 0
A23: Immat. jav.,ingatlanok., egyéb tárgyi e.érték. | B23: 0 | C23: 0 | D23: 0 | F23: Egyéb felhalm.c.támog.áh.n belülre | G23: 0 | H23: 0 | I23: 0
A24: Felhalm.c.visszat.tám.,kölcs.visszat.áh.n kívülről | B24: 0 | C24: 0 | D24: 0 | F24: Felhalm.c.visszat.támog.kölcs.,nyújt.áh.n kívülre | G24: 0 | H24: 0 | I24: 0
A25: Egyéb felhalmozási célú átvett pénzeszk. | B25: 0 | C25: 0 | D25: 0 | F25: Egyéb felhalm.c.támog.áh.n kívülre | G25: 0 | H25: 0 | I25: 0
A26: Műk.bev.felhalm.célra | B26: 0 | C26: 0 | D26: 0 | F26: Felhalmozási tartalék: - általános | G26: 0 | H26: 0 | I26: 0
F27: - cél | G27: 0 | H27: 0 | I27: 0
A28: Költségvetési bev-ek | B28: =B20+B9 -> 1352000 | C28: =C20+C9 -> 1352000 | D28: =D20+D9 -> 1615520 | F28: Költségvetési kiadások | G28: =G9+G20 -> 1368768 | H28: =H9+H20 -> 1368768 | I28: =I9+I20 -> 403765
A29: Maradvány igénybevétele felj.célra | B29: 0 | C29: 0 | D29: 0 | F29: Hosszú lej.hitelek, kölcsönök törlesztése
A30: Maradvány igénybevétele műk.célra | B30: =+'2_M_Bevételek'!D73 -> 16768 | C30: =+'2_M_Bevételek'!E73 -> 16768 | D30: =+'2_M_Bevételek'!F73 -> 16768 | F30: Áh.n. belüli megelőlegezés visszafizetése | G30: 0 | H30: 0 | I30: 0
A31: Maradvány igénybevétele finanszírozási célra | B31: 0 | C31: 0 | D31: 0 | F31: Pénzeszközök lekötött bankbetétként elhelyezése | G31: 0 | H31: 0 | I31: 0
A32: Áh.n belüli megelőlegezés | F32: Belföldi értékpapírok kiadásai | G32: 0 | H32: 0 | I32: 0
A33: Lekötött bankbetétek megszüntetése
A34: Belföldi értékpapírok bevételei | B34: 0 | C34: 0 | D34: 0
A35: Finanszírozási bevételek | B35: =SUM(B29:B34) -> 16768 | C35: =SUM(C29:C34) -> 16768 | D35: =SUM(D29:D34) -> 16768 | F35: Finanszírozási kiadások | G35: =SUM(G29:G33) -> 0 | H35: =SUM(H29:H33) -> 0 | I35: =SUM(I29:I33) -> 0
A37: Nyitó | F37: Záró
A38: Bevételek összesen: | B38: =B36+B28+B37+B35 -> 1368768 | C38: =C36+C28+C37+C35 -> 1368768 | D38: =D36+D28+D37+D35 -> 1632288 | F38: Kiadás összesen: | G38: =G28+G36+G37+G35 -> 1368768 | H38: =H28+H36+H37+H35 -> 1368768 | I38: =I28+I36+I37+I35 -> 403765
F40: Költségvetési mérleg egyenlege: | G40: =+B38-G38 -> 0 | H40: =+C38-H38 -> 0 | I40: =+D38-I38 -> 1228523

Sheet 4_M_Működési mérleg
A1: 4. melléklet
A2: Sülysápi Roma Nemzetiségi Önkormányzat
A3: I. Működési célú (folyó) bevételek, működési célú (folyó) kiadások mérlege 2026. év
F6: adatk Ft-ban
A7: BEVÉTELEK | F7: KIADÁSOK
A8: Megnevezés | B8: 2026. évi eredeti ei. | C8: 2026.06.30. módosított ei. | D8: 2026.06.30. Teljesítés | F8: Megnevezés | G8: 2026. évi eredeti ei. | H8: 2026.06.30. módosított ei. | I8: 2026.06.30. Teljesítés
A11: Önkorm. működési támogatásai | B11: =+'2_M_Bevételek'!D17 -> 1352000 | C11: =+'2_M_Bevételek'!E17 -> 1352000 | D11: =+'2_M_Bevételek'!F17 -> 1615520 | F11: Személyi juttatások | G11: =+'[1]1_M_Kiadások'!D23 -> 0 | H11: =+'[1]1_M_Kiadások'!E23 -> 0 | I11: =+'[1]1_M_Kiadások'!F23 -> 0
A12: Egyéb műk.c.tám.bev. áh.n belülről | B12: 0 | C12: 0 | D12: 0 | F12: Munkaadót terh.jár.és szoc.hozzáj.adó | G12: =+'[1]1_M_Kiadások'!D24 -> 0 | H12: =+'[1]1_M_Kiadások'!E24 -> 0 | I12: =+'[1]1_M_Kiadások'!F24 -> 0
A13: Közhatalmi bevételek | B13: 0 | C13: 0 | D13: 0 | F13: Dologi kiadások | G13: =+'1_M_Kiadások'!D49 -> 1368768 | H13: =+'1_M_Kiadások'!E49 -> 1323768 | I13: =+'1_M_Kiadások'!F49 -> 358765
A14: Működési bevételek | B14: 0 | C14: 0 | D14: 0 | F14: Ellátottak pénzbeli juttatásai | G14: 0 | H14: 0 | I14: 0
A15: Egyéb működéi célú átvett pénzeszk. | B15: 0 | C15: 0 | D15: 0 | F15: Elvonások, befizetések | G15: 0 | H15: 0 | I15: 0
A16: Maradvány igénybevétele műk.célra | B16: =+'2_M_Bevételek'!D74 -> 16768 | C16: =+'2_M_Bevételek'!E74 -> 16768 | D16: =+'2_M_Bevételek'!F74 -> 16768 | F16: Egyéb műk.c.támog.áh.n belülre | G16: 0 | H16: 0 | I16: 0
F17: Műk.c.visszat.támog., kölcs.nyújt.áh.n kívülre | G17: 0 | H17: 0 | I17: 0
F18: Egyéb műk.c.támog.áh.n kívülre | G18: 0 | H18: 0 | I18: 0
F19: Tartalékok | G19: 0 | H19: 0 | I19: 0
F20: Egyéb (Előző évi megelőlegezés) | G20: 0 | H20: 0 | I20: 0
F21: Többlet
A22: Működési bevétel összesen: | B22: =SUM(B11:B21) -> 1368768 | C22: =SUM(C11:C21) -> 1368768 | D22: =SUM(D11:D21) -> 1632288 | F22: Működési kiadás összesen: | G22: =SUM(G11:G21) -> 1368768 | H22: =SUM(H11:H21) -> 1323768 | I22: =SUM(I11:I21) -> 358765
A23: Működési mérleg többlet: | B23: =+B22-G22 -> 0 | C23: =+C22-H22 -> 45000 | D23: =+D22-I22 -> 1273523 | F23: Működési mérleg többlet: | G23: 0 | H23: 0 | I23: 0

Sheet 5_M_Felhalm.mérleg
A1: 5. melléklet
A2: Sülysápi Roma Nemzetiségi Önkormányzat
A3: II. Felhalmozási célú bevételek és kiadások mérlege 2026. év
A6: adatk Ft-ban
A7: BEVÉTELEK | F7: KIADÁSOK
A8: Megnevezés | B8: 2026. évi eredeti ei. | C8: 2026.06.30. módosított ei. | D8: 2026.06.30. Teljesítés | F8: Megnevezés | G8: 2026. évi eredeti ei. | H8: 2026.06.30. módosított ei. | I8: 2026.06.30. Teljesítés
A10: Felhalmozási célú önkorm.i támogatások | B10: 0 | C10: 0 | D10: 0 | F10: Beruházások | G10: =+'1_M_Kiadások'!D83 -> 0 | H10: =+'1_M_Kiadások'!E83 -> 45000 | I10: =+'1_M_Kiadások'!F83 -> 45000
A11: Egyéb felhalm.c.tám.bev. áh.n belülről | B11: 0 | C11: 0 | D11: 0 | F11: Felújítások | G11: 0 | H11: 0 | I11: 0
A12: Immat. jav.,ingatlanok., egyéb tárgyi e.érték. | B12: 0 | C12: 0 | D12: 0 | F12: Egyéb felhalm.c.támog.áh.n belülre | G12: 0 | H12: 0 | I12: 0
A13: Felhalm.c.visszat.tám.,kölcs.visszat.áh.n kívülről | B13: 0 | C13: 0 | D13: 0 | F13: Felhalm.c.visszat.támog.kölcs.,nyújt.áh.n kívülre | G13: 0 | H13: 0 | I13: 0
A14: Egyéb felhalmozási célú átvett pénzeszk. | B14: 0 | C14: 0 | D14: 0 | F14: Egyéb felhalm.c.támog.áh.n kívülre | G14: 0 | H14: 0 | I14: 0
A15: Maradvány igénybevétele felj.célra | B15: 0 | C15: 0 | D15: 0 | F15: Felhalmozási célú tartalék | G15: 0 | H15: 0 | I15: 0
A19: Felhalmozási bevételek összesen: | B19: =SUM(B10:B18) -> 0 | C19: =SUM(C10:C18) -> 0 | D19: =SUM(D10:D18) -> 0 | F19: Felhalmozási kiadások összesen: | G19: =SUM(G10:G18) -> 0 | H19: =SUM(H10:H18) -> 45000 | I19: =SUM(I10:I18) -> 45000
A20: Felhalmozási mérleg hiány: | B20: 0 | C20: 0 | D20: 0 | F20: Felhalmozási mérleg többlet: | G20: =+G19-B19 -> 0 | H20: =+H19-C19 -> 45000 | I20: =+I19-D19 -> 45000
A22: Működési és felhalmozási bevételek | B22: =+'4_M_Működési mérleg'!B22+'5_M_Felhalm.mérleg'!B19 -> 1368768 | C22: =+'4_M_Működési mérleg'!C22+'5_M_Felhalm.mérleg'!C19 -> 1368768 | D22: =+'4_M_Működési mérleg'!D22+'5_M_Felhalm.mérleg'!D19 -> 1632288 | F22: Működési és felhalmozási bevételek | G22: =+'4_M_Működési mérleg'!G22+'5_M_Felhalm.mérleg'!G19 -> 1368768 | H22: =+'4_M_Működési mérleg'!H22+'5_M_Felhalm.mérleg'!H19 -> 1368768 | I22: =+'4_M_Működési mérleg'!I22+'5_M_Felhalm.mérleg'!I19 -> 403765
A23: Költségvetés főösszege: | B23: =+'1_M_Kiadások'!D99 -> 1368768 | C23: =+'1_M_Kiadások'!E99 -> 1368768 | D23: =+'1_M_Kiadások'!F99 -> 403765 | F23: Költségvetés főösszege: | G23: =+B23 -> 1368768 | H23: =+C23 -> 1368768 | I23: =+D23 -> 403765
A24: Ell. | B24: =+B22-B23 -> 0 | C24: =+C22-C23 -> 0 | D24: =+D22-D23 -> 1228523 | F24: Ell. | G24: =+G23-G22 -> 0 | H24: =+H23-H22 -> 0 | I24: =+I23-I22 -> 0

Sheet 6_M_Adós
A1: 6. melléklet
A2: Sülysápi Roma Nemzetiségi Önkormányzat
A3: 2026. évi Adósságot keletkeztető ügyletek.
A6: Sülysápi Roma Nemzetiségi Önkorányzatnak nincsenek adósságot keletkeztető ügyletei, önkormányzati garanciái és önkormányzati kezességvállalásai.
A7: Sülysápi Roma Nemzetiségi Önkormányzatnak nincs költségvetési hiánya, nem szükséges arra szolgáló finanszírozási bevételi előirányzatot létrehozni.
A9: Sülysápi Roma Nemzetiségi Önkorányzatnak nincsenek olyan fejlesztési céljai, amelyek megvalósításához adósságot keletkeztető ügylet megkötése válik vagy válhat szükségessé.

Sheet 7_M_Finansz mérleg
A1: 7. melléklet
A2: Sülysápi Roma Nemzetiségi Önkormányzat
A3: Finanszírozási mérleg 2026. év
I5: adatok Ft-ban
A6: BEVÉTELEK | F6: KIADÁSOK
A7: Megnevezés | B7: 2026. évi eredeti ei. | C7: 2026.06.30. módosított ei. | D7: 2026.06.30. Teljesítés | F7: Megnevezés | G7: 2026. évi eredeti ei. | H7: 2026.06.30. módosított ei. | I7: 2026.06.30. Teljesítés
A9: előző évi maradvány igénybevétele működési célra (finanszírozási c. bev.) | B9: =+'2_M_Bevételek'!D74-B10 -> 16768 | C9: =+'2_M_Bevételek'!E74-C10 -> 16768 | D9: =+'2_M_Bevételek'!F74-D10 -> 16768 | F9: Pénzeszközök lekötött bankbetétként elhelyezése | G9: 0 | H9: 0 | I9: 0
A10: előző évi maradvány igénybevétele felhalmozási célra (finanszírozási c. bev.) | B10: =+'1_M_Kiadások'!D83 -> 0 | C10: 0 | D10: 0 | F10: ÁH-n belüli megelőlegezés visszafizetés | G10: 0 | H10: 0 | I10: 0
A11: ÁH-n belüli megelőlegezések | B11: 0 | C11: 0 | D11: 0 | F11: -
A12: Betétek megszüntetése | B12: 0 | C12: 0 | D12: 0 | F12: -
A13: Belföldi értékpapírok bevételei | B13: 0 | C13: 0 | D13: 0 | F13: -
A14: Összes finanszírozási bevétel | B14: =SUM(B9:B10) -> 16768 | C14: =SUM(C9:C10) -> 16768 | D14: =SUM(D9:D10) -> 16768 | F14: Összes finanszírozási kiadás | G14: =SUM(G9:G10) -> 0 | H14: =SUM(H9:H10) -> 0 | I14: =SUM(I9:I10) -> 0

Sheet 8_M_3 év
A1: 8. melléklet
A2: Sülysápi Roma Nemzetiségi Önkormányzat
A3: 2026. Költségvetési évet követő három év tervezett előirányzata
A4: adatok Ft-ban
A5: Bevétel megnevezése | B5: 2026. tárgyévi tervezett előirányzat | C5: 2027. évi tervezett előirányzat | D5: 2028. évi tervezett előirányzat | E5: 2029. évi tervezett előirányzat
A6: Önkormányzatok működési támogatásai | B6: =+'2_M_Bevételek'!D17 -> 1352000 | C6: =+B6 -> 1352000 | D6: =+B6 -> 1352000 | E6: =+B6 -> 1352000
A7: Elvonások és befizetések bevételei | B7: 0 | C7: 0 | D7: 0 | E7: 0
A8: Egyéb műk.c.tám.bev. áh.n belülről | B8: 0 | C8: 0 | D8: 0 | E8: 0
A9: Közhatalmi bevételek | B9: 0 | C9: 0 | D9: 0 | E9: 0
A10: Működési bevételek | B10: 0 | C10: 0 | D10: 0 | E10: 0
A11: Műk.c.visszat.tám.,kölcs.visszat.áh.n kívülről | B11: 0 | C11: 0 | D11: 0 | E11: 0
A12: Egyéb működési célú átvett pénzeszk. | B12: 0 | C12: 0 | D12: 0 | E12: 0
A13: Felhalmozási célú önkorm.i támogatások | B13: 0 | C13: 0 | D13: 0 | E13: 0
A14: Egyéb felhalm.c.tám.bev. áh.n belülről | B14: 0 | C14: 0 | D14: 0 | E14: 0
A15: Immat. jav.,ingatlanok., egyéb tárgyi e.érték. | B15: 0 | C15: 0 | D15: 0 | E15: 0
A16: Felhalm.c.visszat.tám.,kölcs.visszat.áh.n kívülről | B16: 0 | C16: 0 | D16: 0 | E16: 0
A17: Egyéb felhalmozási célú átvett pénzeszk. | B17: 0 | C17: 0 | D17: 0 | E17: 0
A18: Maradvány igénybevétele felj.célra | B18: 0 | C18: 0 | D18: 0 | E18: 0
A19: Maradvány igénybevétele műk.célra | B19: =+'2_M_Bevételek'!D74 -> 16768 | C19: 6000 | D19: 6000 | E19: 6000
A20: Maradvány igénybevétel finanszírozási célra | B20: 0 | C20: 0 | D20: 0 | E20: 0
A21: Belföldi értékpapírok bevételei | B21: 0 | C21: 0 | D21: 0 | E21: 0
A22: Egyéb finanszírozási bevételek | B22: 0 | C22: 0 | D22: 0 | E22: 0
A23: Bevételek összesen: | B23: =SUM(B6:B22) -> 1368768 | C23: =SUM(C6:C22) -> 1358000 | D23: =SUM(D6:D22) -> 1358000 | E23: =SUM(E6:E22) -> 1358000
A25: Kiadás megnevezése | B25: 2026. tárgyévi tervezett előirányzat | C25: 2027. évi tervezett előirányzat | D25: 2028. évi tervezett előirányzat | E25: 2029. évi tervezett előirányzat
A26: Személyi juttatások | B26: =+'1_M_Kiadások'!D23 -> 0 | C26: 0 | D26: 0 | E26: 0
A27: Munkáltatót terh.jár. és szoc.hozzáj. adó | B27: =+'1_M_Kiadások'!D24 -> 0 | C27: 0 | D27: 0 | E27: 0
A28: Dologi kiadás | B28: =+'1_M_Kiadások'!D49 -> 1368768 | C28: =+C6+C19 -> 1358000 | D28: =+D6+D19 -> 1358000 | E28: =+E6+E19 -> 1358000
A29: Ellátottak pénzbeli juttatásai | B29: 0 | C29: 0 | D29: 0 | E29: 0
A30: Egyéb műk.c.támog.áh.n belülre | B30: 0 | C30: 0 | D30: 0 | E30: 0
A31: Műk.c.visszat.támog., kölcs.nyújt.áh.n kívülre | B31: 0 | C31: 0 | D31: 0 | E31: 0
A32: Egyéb műk.c.támog.áh.n kívülre | B32: 0 | C32: 0 | D32: 0 | E32: 0
A33: Elvonások, befizetések | B33: 0 | C33: 0 | D33: 0 | E33: 0
A34: Műk.célú tartalék | B34: 0 | C34: 0 | D34: 0 | E34: 0
A35: Beruházások | B35: =+'1_M_Kiadások'!D83 -> 0 | C35: 0 | D35: 0 | E35: 0
A36: Felújítások | B36: 0 | C36: 0 | D36: 0 | E36: 0
A37: Egyéb felhalm.c.támog.áh.n belülre | B37: 0 | C37: 0 | D37: 0 | E37: 0
A38: Felhalm.c.visszat.támog.kölcs.,nyújt.áh.n kívülre | B38: 0 | C38: 0 | D38: 0 | E38: 0
A39: Egyéb felhalm.c.támog.áh.n kívülre | B39: 0 | C39: 0 | D39: 0 | E39: 0
A40: Felh.célú tartalék | B40: 0 | C40: 0 | D40: 0 | E40: 0
A41: Hosszú lej.hitelek, kölcsönök törlesztése | B41: 0 | C41: 0 | D41: 0 | E41: 0
...

Sheet 9_M_Kötelező fel.
A1: 9. melléklet
A2: Sülysápi Roma Nemzetiségi Önkormányzat
A3: Költségvetés bevételeinek és kiadásainak megbontása - kötelező, önként vállalt, államigazgatási feladatok szerint 2026. év
A5: adatok Ft-ban
A6: MEGNEVEZÉS | B6: KÖTELEZŐ FELADAT | C6: ÖNKÉNT VÁLLALT FELADAT | D6: ÁLLAMIGAZ-GATÁSI FELADATOK | E6: ÖSSZESEN
A7: Személyi juttatások | B7: =+'1_M_Kiadások'!D23 -> 0 | C7: 0 | D7: 0 | E7: =+B7+C7+D7 -> 0
A8: Munkaadót terh.jár.és szoc.hozzáj.adó | B8: =+'1_M_Kiadások'!D24 -> 0 | C8: 0 | D8: 0 | E8: =+B8+C8+D8 -> 0
A9: Dologi kiadások | B9: 0 | C9: =+'1_M_Kiadások'!D49 -> 1368768 | D9: 0 | E9: =+B9+C9+D9 -> 1368768
A10: Ellátottak pénzbeli juttatásai | B10: 0 | C10: 0 | D10: 0 | E10: =+B10+C10+D10 -> 0
A11: Elvonások, befizetések | B11: 0 | C11: 0 | D11: 0 | E11: =+B11+C11+D11 -> 0
A12: Egyéb műk.c.támog.áh.n belülre | B12: 0 | C12: 0 | D12: 0 | E12: =+B12+C12+D12 -> 0
A13: Műk.c.visszat.támog., kölcs.nyújt.áh.n kívülre | B13: 0 | C13: 0 | D13: 0 | E13: =+B13+C13+D13 -> 0
A14: Egyéb műk.c.támog.áh.n kívülre | B14: 0 | C14: 0 | D14: 0 | E14: =+B14+C14+D14 -> 0
A15: Tartalékok | B15: 0 | C15: 0 | D15: 0 | E15: =+B15+C15+D15 -> 0
A16: Egyéb | B16: 0 | C16: 0 | D16: 0 | E16: =+B16+C16+D16 -> 0
A17: Többlet | B17: 0 | C17: 0 | D17: 0 | E17: =+B17+C17+D17 -> 0
A18: Működési kiadás összesen: | B18: =SUM(B7:B17) -> 0 | C18: =SUM(C7:C17) -> 1368768 | D18: =SUM(D16:D17) -> 0 | E18: =SUM(E7:E17) -> 1368768
A19: beruházások
A20: - Önkormányzat | B20: 0 | C20: =+'1_M_Kiadások'!D83 -> 0 | D20: 0 | E20: =SUM(B20:D20) -> 0
A21: - Beruházások intézmények | B21: 0 | C21: 0 | D21: 0 | E21: =SUM(B21:D21) -> 0
A22: beruházások összesen | B22: =SUM(B20:B21) -> 0 | C22: =SUM(C20:C21) -> 0 | D22: =SUM(D20:D21) -> 0 | E22: =SUM(E20:E21) -> 0
A23: felújítások
A24: - Önkormányzat | B24: 0 | C24: 0 | D24: 0 | E24: =SUM(B24:D24) -> 0
A25: felújítások összesen | B25: =SUM(B24:B24) -> 0 | C25: =SUM(C24:C24) -> 0 | D25: =SUM(D24:D24) -> 0 | E25: =SUM(E24:E24) -> 0
A26: egyéb felhalmozási kiadások
A27: · - egyéb felhalmozási célú támogatások áh-n belülre | B27: 0 | C27: 0 | D27: 0 | E27: =SUM(B27:D27) -> 0
A28: · - felhalmozási célú visszat. támogatások, kölcsönök nyújtása áh-n kívülre | B28: 0 | C28: 0 | D28: 0 | E28: =SUM(B28:D28) -> 0
A29: · - egyéb felhalmozási célú támogatások áh-n kívülre | B29: 0 | C29: 0 | D29: 0 | E29: =SUM(B29:D29) -> 0
A30: egyéb felhalmozási kiadások összesen | B30: =SUM(B27:B29) -> 0 | C30: =SUM(C27:C29) -> 0 | D30: =SUM(D27:D29) -> 0 | E30: =SUM(E27:E29) -> 0
A31: FELHALMOZÁSI KIADÁS ÖSSZESEN | B31: =SUM(B22,B25,B30) -> 0 | C31: =SUM(C22,C25,C30) -> 0 | D31: =SUM(D22,D25,D30) -> 0 | E31: =SUM(E22,E25,E30) -> 0
A32: Hosszú lejáratú hitelek, kölcsönök törlesztése | B32: 0 | C32: 0 | D32: 0 | E32: =SUM(B32:D32) -> 0
A33: Belföldi értékpapírok kiadásai | B33: 0 | C33: 0 | D33: 0 | E33: =SUM(B33:D33) -> 0
A34: Államháztartáson belüli megelőlegezés visszafizetés | B34: 0 | C34: 0 | D34: 0 | E34: =SUM(B34:D34) -> 0
A35: Pénzeszköz betét elhelyezés | B35: 0 | C35: 0 | D35: 0
A36: Finanszírozási kiadások összesen | B36: =SUM(B32:B35) -> 0 | C36: =SUM(C32:C35) -> 0 | D36: =SUM(D32:D35) -> 0 | E36: =SUM(E32:E35) -> 0
A37: KIADÁSOK MINDÖSSZESEN | B37: =+B18+B31+B36 -> 0 | C37: =+C18+C31+C36 -> 1368768 | D37: =+D18+D31+D36 -> 0 | E37: =+E18+E31+E36 -> 1368768
A40: MEGNEVEZÉS | B40: KÖTELEZŐ FELADAT | C40: ÖNKÉNT VÁLLALT FELADAT | D40: ÁLLAMIGAZ-GATÁSI FELADATOK | E40: ÖSSZESEN
A41: Önkormányzatok működési támogatásai | B41: 0 | C41: =+'2_M_Bevételek'!D17 -> 1352000 | D41: 0 | E41: =+B41+C41+D41 -> 1352000
A42: Elvonások és befizetések bevételei | B42: 0 | C42: 0 | D42: 0 | E42: =+B42+C42+D42 -> 0
A43: Egyéb műk.c.tám.bev. áh.n belülről | B43: 0 | C43: 0 | D43: 0 | E43: =+B43+C43+D43 -> 0
...

Sheet 10_M_Több éves kihatással járó 
A1: 10. melléklet
A3: Sülysápi Roma Nemzetiségi Önkormányzat
A4: Több éves kihatással járó döntések alakulása 2026. év
A8: 2026-ban nincs több éves kihatással járó kiadási döntés.
