Workbook

Sheet 1_M_Kiadások
A1: 1. MELLÉKLET | G1: Adatok Ft-ban
A2: SÜLYSÁPI ROMA NEMZETISÉGI ÖNKORMÁNYZAT 2026. ÉVI KÖLTSÉGVETÉS KIADÁSOK
A3: Sor- szám | B3: Rovat megnevezése | C3: Rovat száma | D3: Eredeti ei. | E3: Módosított ei. | F3: Teljesítés | G3: 2026.06.30-i realizálás az eredeti előir-hoz képest
D4: 46023 | E4: 46203 | F4: 46203
A5: 01 | B5: Törvény szerinti illetmények, munkabérek | C5: K1101
A6: 02 | B6: Normatív jutalmak | C6: K1102
A7: 03 | B7: Céljuttatás, projektprémium | C7: K1103
A8: 04 | B8: Készenléti, ügyeleti, helyettesítési díj, túlóra, túlszolgálat | C8: K1104
A9: 05 | B9: Végkielégítés | C9: K1105
A10: 06 | B10: Jubileumi jutalom | C10: K1106
A11: 07 | B11: Béren kívüli juttatások | C11: K1107
A12: 08 | B12: Ruházati költségtérítés | C12: K1108
A13: 09 | B13: Közlekedési költségtérítés | C13: K1109
A14: 10 | B14: Egyéb költségtérítések | C14: K1110
A15: 11 | B15: Lakhatási támogatások | C15: K1111
A16: 12 | B16: Szociális támogatások | C16: K1112
A17: 13 | B17: Foglalkoztatottak egyéb személyi juttatásai | C17: K1113
A18: 14 | B18: Foglalkoztatottak személyi juttatásai (=01+…+13) K11 | C18: K11 | D18: =SUM(D5:D17) -> 0 | E18: =SUM(E5:E17) -> 0 | F18: =SUM(F5:F17) -> 0
A19: 15 | B19: Választott tisztségviselők juttatásai | C19: K121 | E19: 0 | F19: 0
A20: 16 | B20: Munkavégzésre irányuló egyéb jogviszonyban nem saját foglalkoztatottnak fizetett juttatások | C20: K122
A21: 17 | B21: Egyéb külső személyi juttatások | C21: K123
A22: 18 | B22: Külső személyi juttatások (=15+16+17) K12 | C22: K12 | D22: =SUM(D19:D21) -> 0 | E22: =SUM(E19:E21) -> 0 | F22: =SUM(F19:F21) -> 0
A23: 19 | B23: Személyi juttatások (=14+18) | C23: K1 | D23: =SUM(D22,D18) -> 0 | E23: =SUM(E22,E18) -> 0 | F23: =SUM(F22,F18) -> 0
A24: 20 | B24: Munkaadókat terhelő járulékok és szociális hozzájárulási adó | C24: K2 | D24: =+D19*0.155 -> 0 | E24: 0 | F24: =+F19*0.155*0.9 -> 0
A25: 21 | B25: Szakmai anyagok beszerzése | C25: K311 | D25: 0
A26: 22 | B26: Üzemeltetési anyagok beszerzése | C26: K312 | D26: 0 | E26: 350000 | F26: 242270
A27: 23 | B27: Árubeszerzés | C27: K313
A28: 24 | B28: Készletbeszerzés (=21+22+23) K31 | C28: K31 | D28: =SUM(D25:D27) -> 0 | E28: =SUM(E25:E27) -> 350000 | F28: =SUM(F25:F27) -> 242270
A29: 25 | B29: Informatikai szolgáltatások igénybevétele | C29: K321
A30: 26 | B30: Egyéb kommunikációs szolgáltatások | C30: K322
A31: 27 | B31: Kommunikációs szolgáltatások (=25+26) K32 | C31: K32 | D31: =SUM(D29:D30) -> 0 | E31: =SUM(E29:E30) -> 0 | F31: =SUM(F29:F30) -> 0
A32: 28 | B32: Közüzemi díjak | C32: K331
A33: 29 | B33: Vásárolt élelmezés | C33: K332
A34: 30 | B34: Bérleti és lízing díjak | C34: K333
A35: 31 | B35: Karbantartási, kisjavítási szolgáltatások | C35: K334 | D35: 0
A36: 32 | B36: Közvetített szolgáltatások | C36: K335
A37: 33 | B37: Szakmai tevékenységet segítő szolgáltatások | C37: K336 | D37: 0
A38: 34 | B38: Egyéb szolgáltatások | C38: K337 | D38: 1112000 | E38: 717000 | F38: 53765 | G38: =+F38/D38 -> 0.04834982
A39: 35 | B39: Szolgáltatási kiadások (=28+…+34) K33 | C39: K33 | D39: =SUM(D32:D38) -> 1112000 | E39: =SUM(E32:E38) -> 717000 | F39: =SUM(F32:F38) -> 53765 | G39: =+F39/D39 -> 0.04834982
A40: 36 | B40: Kiküldetések kiadásai | C40: K341 | D40: 0
A41: 37 | B41: Reklám- és propagandakiadások | C41: K342
A42: 38 | B42: Kiküldetések, reklám- és propagandakiadások (=36+37) | C42: K34 | D42: =SUM(D40:D41) -> 0 | E42: =SUM(E40:E41) -> 0 | F42: =SUM(F40:F41) -> 0
A43: 39 | B43: Működési célú előzetesen felszámított általános forgalmi adó | C43: K351 | D43: 236000 | E43: 236000 | F43: 57780 | G43: =+F43/D43 -> 0.24483051
A44: 40 | B44: Fizetendő általános forgalmi adó | C44: K352
A45: 41 | B45: Kamatkiadások | C45: K353
A46: 42 | B46: Egyéb pénzügyi műveletek kiadásai | C46: K354
A47: 43 | B47: Egyéb dologi kiadások | C47: K355 | D47: =20768 -> 20768 | E47: 20768 | F47: 4950 | G47: =+F47/D47 -> 0.23834746
A48: 44 | B48: Különféle befizetések és egyéb dologi kiadások (=39+…+43) | C48: K35 | D48: =SUM(D43:D47) -> 256768 | E48: =SUM(E43:E47) -> 256768 | F48: =SUM(F43:F47) -> 62730 | G48: =+F48/D48 -> 0.24430614
A49: 45 | B49: Dologi kiadások (=24+27+35+38+44) | C49: K3 | D49: =SUM(D48,D42,D39,D31,D28) -> 1368768 | E49: =SUM(E48,E42,E39,E31,E28) -> 1323768 | F49: =SUM(F48,F42,F39,F31,F28) -> 358765 | G49: =+F49/D49 -> 0.26210797
A50: 46 | B50: Társadalombiztosítási ellátások | C50: K41
A51: 47 | B51: Családi támogatások | C51: K42
A52: 48 | B52: Pénzbeli kárpótlások, kártérítések | C52: K43
A53: 49 | B53: Betegséggel kapcsolatos (nem társadalombiztosítási) ellátások | C53: K44
A54: 50 | B54: Foglalkoztatással, munkanélküliséggel kapcsolatos ellátások | C54: K45
A55: 51 | B55: Lakhatással kapcsolatos ellátások | C55: K46
A56: 52 | B56: Intézményi ellátottak pénzbeli juttatásai | C56: K47
A57: 53 | B57: Egyéb nem intézményi ellátások | C57: K48
A58: 54 | B58: Ellátottak pénzbeli juttatásai (=46+...+53) | C58: K4 | D58: =SUM(D50:D57) -> 0 | E58: =SUM(E50:E57) -> 0 | F58: =SUM(F50:F57) -> 0
A59: 55 | B59: Nemzetközi kötelezettségek | C59: K501
A60: 56 | B60: A helyi önkormányzatok előző évi elszámolásából származó kiadások | C60: K5021
A61: 57 | B61: A helyi önkormányzatok törvényi előíráson alapuló befizetései | C61: K5022
A62: 58 | B62: Egyéb elvonások, befizetések | C62: K5023
A63: 59 | B63: Elvonások és befizetések (=56+57+58) | C63: K502 | D63: =SUM(D59:D62) -> 0 | E63: =SUM(E59:E62) -> 0 | F63: =SUM(F59:F62) -> 0
A64: 60 | B64: Működési célú garancia- és kezességvállalásból származó kifizetés államháztartáson belülre | C64: K503
A65: 61 | B65: Működési célú visszatérítendő támogatások, kölcsönök nyújtása államháztartáson belülre | C65: K504
A66: 62 | B66: Működési célú visszatérítendő támogatások, kölcsönök törlesztése államháztartáson belülre | C66: K505
A67: 63 | B67: Egyéb működési célú támogatások államháztartáson belülre | C67: K506
A68: 64 | B68: Működési célú garancia- és kezességvállalásból származó kifizetés államháztartáson kívülre | C68: K507
A69: 65 | B69: Működési célú visszatérítendő támogatások, kölcsönök nyújtása államháztartáson kívülre | C69: K508
A70: 66 | B70: Árkiegészítések, ártámogatások | C70: K509
A71: 67 | B71: Kamattámogatások | C71: K510
A72: 68 | B72: Működési célú támogatások az Európai Uniónak | C72: K511
A73: 69 | B73: Egyéb működési célú támogatások államháztartáson kívülre | C73: K512
A74: 70 | B74: Tartalékok | C74: K513 | D74: 0
A75: 71 | B75: Egyéb működési célú kiadások (=55+59+…+70) | C75: K5 | D75: =SUM(D64:D74) -> 0 | E75: =SUM(E64:E74) -> 0 | F75: =SUM(F64:F74) -> 0
A76: 72 | B76: Immateriális javak beszerzése, létesítése | C76: K61
A77: 73 | B77: Ingatlanok beszerzése, létesítése | C77: K62
A78: 74 | B78: Informatikai eszközök beszerzése, létesítése | C78: K63
A79: 75 | B79: Egyéb tárgyi eszközök beszerzése, létesítése | C79: K64 | E79: 45000 | F79: 45000
A80: 76 | B80: Részesedések beszerzése | C80: K65
A81: 77 | B81: Meglévő részesedések növeléséhez kapcsolódó kiadások | C81: K66
A82: 78 | B82: Beruházási célú előzetesen felszámított általános forgalmi adó | C82: K67
A83: 79 | B83: Beruházások (=72+…+78) | C83: K6 | D83: =SUM(D76:D82) -> 0 | E83: =SUM(E76:E82) -> 45000 | F83: =SUM(F76:F82) -> 45000
A84: 80 | B84: Ingatlanok felújítása | C84: K71
A85: 81 | B85: Informatikai eszközök felújítása | C85: K72
A86: 82 | B86: Egyéb tárgyi eszközök felújítása | C86: K73
A87: 83 | B87: Felújítási célú előzetesen felszámított általános forgalmi adó | C87: K74
A88: 84 | B88: Felújítások (=80+...+83) | C88: K7 | D88: =SUM(D84:D87) -> 0 | E88: =SUM(E84:E87) -> 0 | F88: =SUM(F84:F87) -> 0
A89: 85 | B89: Felhalmozási célú garancia- és kezességvállalásból származó kifizetés államháztartáson belülre | C89: K81
A90: 86 | B90: Felhalmozási célú visszatérítendő támogatások, kölcsönök nyújtása államháztartáson belülre | C90: K82
A91: 87 | B91: Felhalmozási célú visszatérítendő támogatások, kölcsönök törlesztése államháztartáson belülre | C91: K83
A92: 88 | B92: Egyéb felhalmozási célú támogatások államháztartáson belülre | C92: K84
A93: 89 | B93: Felhalmozási célú garancia- és kezességvállalásból származó kifizetés államháztartáson kívülre | C93: K85
A94: 90 | B94: Felhalmozási célú visszatérítendő támogatások, kölcsönök nyújtása államháztartáson kívülre | C94: K86
A95: 91 | B95: Lakástámogatás | C95: K87
A96: 92 | B96: Felhalmozási célú támogatások az Európai Uniónak | C96: K88
A97: 93 | B97: Egyéb felhalmozási célú támogatások államháztartáson kívülre | C97: K89
A98: 94 | B98: Egyéb felhalmozási célú kiadások (=85+…+93) | C98: K8 | D98: =SUM(D89:D97) -> 0 | E98: =SUM(E89:E97) -> 0 | F98: =SUM(F89:F97) -> 0
A99: 95 | B99: Költségvetési kiadások (=19+20+45+54+71+79+84+94) | C99: K1-K8 | D99: =SUM(D98,D88,D83,D75,D58,D49,D24,D23) -> 1368768 | E99: =SUM(E98,E88,E83,E75,E58,E49,E24,E23) -> 1368768 | F99: =SUM(F98,F88,F83,F75,F58,F49,F24,F23) -> 403765 | G99: =+F99/D99 -> 0.29498425
E100: =+E99-D99 -> 0
...

Sheet 2_M_Bevételek
A1: 2. MELLÉKLET | G1: Adatok Ft-ban
A2: SÜLYSÁPI ROMA NEMZETISÉGI ÖNKORMÁNYZAT 2026. ÉVI KÖLTSÉGVETÉS KIADÁSOK
A3: Sor- szám | B3: Rovat megnevezése | C3: Rovat száma | D3: Eredeti ei. | E3: Módosított ei. | F3: Teljesítés | G3: 2026.06.30-i realizálás az eredeti előir-hoz képest
D4: 46023 | E4: 46203 | F4: 46203
A5: 01 | B5: Helyi önkormányzatok működésének általános támogatása | C5: B111
A6: 02 | B6: Települési önkormányzatok egyes köznevelési feladatainak támogatása | C6: B112
A7: 03 | B7: Települési önkormányzatok szociális gyermekjóléti és gyermekétkeztetési feladatainak támogatása | C7: B113
A8: 04 | B8: Települési önkormányzatok kulturális feladatainak támogatása | C8: B114
A9: 05 | B9: Működési célú költségvetési támogatások és kiegészítő támogatások | C9: B115
A10: 06 | B10: Elszámolásból származó bevételek | C10: B116
A11: 07 | B11: Önkormányzatok működési támogatásai (=01+…+06) | C11: B11 | D11: =SUM(D5:D10) -> 0
A12: 08 | B12: Elvonások és befizetések bevételei | C12: B12
A13: 09 | B13: Működési célú garancia- és kezességvállalásból származó megtérülések államháztartáson belülről | C13: B13
A14: 10 | B14: Működési célú visszatérítendő támogatások, kölcsönök visszatérülése államháztartáson belülről | C14: B14
A15: 11 | B15: Működési célú visszatérítendő támogatások, kölcsönök igénybevétele államháztartáson belülről | C15: B15
A16: 12 | B16: Egyéb működési célú támogatások bevételei államháztartáson belülről (központi ezelésű előirányzatok) | C16: B16 | D16: =676000*2 -> 1352000 | E16: 1352000 | F16: 1615520 | G16: =+F16/D16 -> 1.1949112
A17: 13 | B17: Működési célú támogatások államháztartáson belülről (=07+…+12) | C17: B1 | D17: =SUM(D11:D16) -> 1352000 | E17: =SUM(E11:E16) -> 1352000 | F17: =SUM(F11:F16) -> 1615520 | G17: =+F17/E17 -> 1.1949112
A18: 14 | B18: Felhalmozási célú önkormányzati támogatások | C18: B21
A19: 15 | B19: Felhalmozási célú garancia- és kezességvállalásból származó megtérülések államháztartáson belülről | C19: B22
A20: 16 | B20: Felhalmozási célú visszatérítendő támogatások, kölcsönök visszatérülése államháztartáson belülről | C20: B23
A21: 17 | B21: Felhalmozási célú visszatérítendő támogatások, kölcsönök igénybevétele államháztartáson belülről | C21: B24
A22: 18 | B22: Egyéb felhalmozási célú támogatások bevételei államháztartáson belülről | C22: B25
A23: 19 | B23: Felhalmozási célú támogatások államháztartáson belülről (=14+…+18) | C23: B2 | D23: =SUM(D18:D22) -> 0
A24: 20 | B24: Magánszemélyek jövedelemadói | C24: B311
A25: 21 | B25: Társaságok jövedelemadói | C25: B312
A26: 22 | B26: Jövedelemadók (=20+21) | C26: B31 | D26: =SUM(D24:D25) -> 0
A27: 23 | B27: Szociális hozzájárulási adó és járulékok | C27: B32
A28: 24 | B28: Bérhez és foglalkoztatáshoz kapcsolódó adók | C28: B33
A29: 25 | B29: Vagyoni tipusú adók | C29: B34
A30: 26 | B30: Értékesítési és forgalmi adók | C30: B351
A31: 27 | B31: Fogyasztási adók | C31: B352
A32: 28 | B32: Pénzügyi monopóliumok nyereségét terhelő adók | C32: B353
A33: 29 | B33: Gépjárműadók | C33: B354
A34: 30 | B34: Egyéb áruhasználati és szolgáltatási adók | C34: B355
A35: 31 | B35: Termékek és szolgáltatások adói (=26+…+30) | C35: B35 | D35: =SUM(D30:D34) -> 0
A36: 32 | B36: Egyéb közhatalmi bevételek | C36: B36
A37: 33 | B37: Közhatalmi bevételek (=22+...+25+31+32) | C37: B3 | D37: =SUM(D26:D29,D35,D36) -> 0
A38: 34 | B38: Készletértékesítés ellenértéke | C38: B401
A39: 35 | B39: Szolgáltatások ellenértéke | C39: B402
A40: 36 | B40: Közvetített szolgáltatások ellenértéke | C40: B403
A41: 37 | B41: Tulajdonosi bevételek | C41: B404
A42: 38 | B42: Ellátási díjak | C42: B405
A43: 39 | B43: Kiszámlázott általános forgalmi adó | C43: B406
A44: 40 | B44: Általános forgalmi adó visszatérítése | C44: B407
A45: 41 | B45: Befektetett pénzügyi eszközökből származó bevételek | C45: B4081
A46: 42 | B46: Egyéb kapott (járó) kamatok és kamatjellegű bevételek | C46: B4082 | D46: 0 | E46: 0 | F46: 0
A47: 43 | B47: Kamatbevételek és más nyereségjellegű bevételek (=41+42) | C47: B408 | D47: =SUM(D45:D46) -> 0 | E47: =SUM(E45:E46) -> 0 | F47: =SUM(F45:F46) -> 0 | G47: =SUM(G45:G46) -> 0
A48: 44 | B48: Részesedésekből származó pénzügyi műveletek bevételei | C48: B4091
A49: 45 | B49: Más egyéb pénzügyi műveletek bevételei | C49: B4092
A50: 46 | B50: Egyéb pénzügyi műveletek bevételei (=44+45) | C50: B409 | D50: =SUM(D48:D49) -> 0
A51: 47 | B51: Biztosító által fizetett kártérítés | C51: B410
A52: 48 | B52: Egyéb működési bevételek | C52: B411
A53: 49 | B53: Működési bevételek (=34+…+40+43+46+...+48) | C53: B4 | D53: =SUM(D38:D44,D47,D50,D51,D52) -> 0 | E53: =SUM(E38:E44,E47,E50,E51,E52) -> 0 | F53: =SUM(F38:F44,F47,F50,F51,F52) -> 0
A54: 50 | B54: Immateriális javak értékesítése | C54: B51
A55: 51 | B55: Ingatlanok értékesítése | C55: B52
A56: 52 | B56: Egyéb tárgyi eszközök értékesítése | C56: B53
A57: 53 | B57: Részesedések értékesítése | C57: B54
A58: 54 | B58: Részesedések megszűnéséhez kapcsolódó bevételek | C58: B55
A59: 55 | B59: Felhalmozási bevételek (=50+…+54) | C59: B5 | D59: =SUM(D54:D58) -> 0 | E59: =SUM(E54:E58) -> 0 | F59: =SUM(F54:F58) -> 0
A60: 56 | B60: Működési célú garancia- és kezességvállalásból származó megtérülések államháztartáson kívülről | C60: B61
A61: 57 | B61: Működési célú visszatérítendő támogatások, kölcsönök visszatérülése az Európai Uniótól | C61: B62
A62: 58 | B62: Működési célú visszatérítendő támogatások, kölcsönök visszatérülése kormányoktól és más nemzetközi szervezetektől | C62: B63
A63: 59 | B63: Működési célú visszatérítendő támogatások, kölcsönök visszatérülése államháztartáson kívülről | C63: B64
A64: 60 | B64: Egyéb működési célú átvett pénzeszközök | C64: B65
A65: 61 | B65: Működési célú átvett pénzeszközök (=56+…+60) | C65: B6 | D65: =SUM(D60:D64) -> 0 | E65: =SUM(E60:E64) -> 0 | F65: =SUM(F60:F64) -> 0
A66: 62 | B66: Felhalmozási célú garancia- és kezességvállalásból származó megtérülések államháztartáson kívülről | C66: B71
A67: 63 | B67: Felhalmozási célú visszatérítendő támogatások, kölcsönök visszatérülése az Európai Uniótól | C67: B72
A68: 64 | B68: Felhalmozási célú visszatérítendő támogatások, kölcsönök visszatérülése kormányoktól és más nemzetközi szervezetektől | C68: B73
A69: 65 | B69: Felhalmozási célú visszatérítendő támogatások, kölcsönök visszatérülése államháztartáson kívülről | C69: B74
A70: 66 | B70: Egyéb felhalmozási célú átvett pénzeszközök | C70: B75
A71: 67 | B71: Felhalmozási célú átvett pénzeszközök (=62+…+66) | C71: B7 | D71: =SUM(D66:D70) -> 0 | E71: =SUM(E66:E70) -> 0 | F71: =SUM(F66:F70) -> 0
A72: 68 | B72: Költségvetési bevételek (=13+19+33+49+55+61+67) | C72: B1-B7 | D72: =SUM(D17,D23,D37,D53,D59,D65,D71) -> 1352000 | E72: =SUM(E17,E23,E37,E53,E59,E65,E71) -> 1352000 | F72: =SUM(F17,F23,F37,F53,F59,F65,F71) -> 1615520 | G72: =+F72/D72 -> 1.1949112
A73: 69 | B73: Előző évi költségvetési maradvány igénybevétele | C73: B8131 | D73: 16768 | E73: 16768 | F73: 16768 | G73: =+F73/D73 -> 1
A74: 70 | B74: Finanszírozási bevételek | C74: B8 | D74: =+D73 -> 16768 | E74: =+E73 -> 16768 | F74: =+F73 -> 16768 | G74: =+F74/D74 -> 1
A75: 71 | B75: Összes bevétel | C75: B | D75: =+D72+D74 -> 1368768 | E75: =+E72+E74 -> 1368768 | F75: =+F72+F74 -> 1632288 | G75: =+F75/D75 -> 1.1925235
D76: =+D75-'1_M_Kiadások'!D99 -> 0

Sheet 3_M_Költségvetési mérleg
A1: 3. melléklet
A2: Sülysápi Roma Nemzetiségi Önkormányzat
A3: 2026. évi költségvetési mérlege
I4: adatok Ft-ban
A5: BEVÉTELEK | F5: KIADÁSOK
A6: Megnevezés | B6: 2026. évi eredeti ei. | C6: 2026. évi módosított ei. | D6: 2026. 06.30. tényleges | F6: Megnevezés | G6: 2026. évi eredeti ei. | H6: 2026. évi módosított ei. | I6: 2026. 06.30. tényleges
A8: 1. | B8: 2. | C8: 3 | D8: 4. | F8: 5. | G8: 6. | H8: 7. | I8: 8.
A9: Működési bevétel | B9: =SUM(B10:B19) -> 1352000 | C9: =SUM(C10:C19) -> 1352000 | D9: =SUM(D10:D19) -> 1615520 | F9: Működési kiadás | G9: =SUM(G10:G19) -> 1368768 | H9: =SUM(H10:H19) -> 1323768 | I9: =SUM(I10:I19) -> 358765
A10: Önkormányzatok működési támogatásai | B10: 0 | C10: 0 | D10: 0 | F10: Személyi juttatások | G10: =+'[1]1_M_Kiadások'!D23 -> 0 | H10: =+'[1]1_M_Kiadások'!E23 -> 0 | I10: =+'[1]1_M_Kiadások'!F23 -> 0
A11: Elvonások és befizetések bevételei | B11: 0 | C11: 0 | D11: 0 | F11: Munkáltatót terh.jár. és szoc.hozzáj. adó | G11: =+'[1]1_M_Kiadások'!D24 -> 0 | H11: =+'[1]1_M_Kiadások'!E24 -> 0 | I11: =+'[1]1_M_Kiadások'!F24 -> 0
A12: Egyéb műk.c.tám.bev. áh.n belülről | B12: =+'2_M_Bevételek'!D16 -> 1352000 | C12: =+'2_M_Bevételek'!E16 -> 1352000 | D12: =+'2_M_Bevételek'!F16 -> 1615520 | F12: Dologi kiadás | G12: =+'1_M_Kiadások'!D49 -> 1368768 | H12: =+'1_M_Kiadások'!E49 -> 1323768 | I12: =+'1_M_Kiadások'!F49 -> 358765
A13: Közhatalmi bevételek | B13: 0 | C13: 0 | D13: 0 | F13: Ellátottak pénzbeli juttatásai | G13: 0 | H13: 0 | I13: 0
A14: Működési bevételek | B14: 0 | C14: 0 | D14: 0 | F14: Elvonások és befizetések | G14: 0 | H14: 0 | I14: 0
A15: Műk.c.visszat.tám.,kölcs.visszat.áh.n kívülről | B15: 0 | C15: 0 | D15: 0 | F15: Egyéb műk.c.támog.áh.n belülre | G15: 0 | H15: 0 | I15: 0
A16: Egyéb működési célú átvett pénzeszk. | B16: 0 | C16: 0 | D16: 0 | F16: Műk.c.visszat.támog., kölcs.nyújt.áh.n kívülre | G16: 0 | H16: 0 | I16: 0
A17: Műk.bev.felh.célra | B17: 0 | C17: 0 | D17: 0 | F17: Egyéb műk.c.támog.áh.n kívülre | G17: 0 | H17: 0 | I17: 0
F18: Működési tartalék: - általános | G18: 0 | H18: 0 | I18: 0
F19: - cél | G19: 0 | H19: 0 | I19: 0
A20: Felhalmozási célú bev. | B20: =SUM(B21:B27) -> 0 | C20: =SUM(C21:C27) -> 0 | D20: =SUM(D21:D27) -> 0 | F20: Felhalmozási célú kiadás | G20: =SUM(G21:G27) -> 0 | H20: =SUM(H21:H27) -> 45000 | I20: =+'1_M_Kiadások'!F83 -> 45000
A21: Felhalmozási célú önkorm.i támogatások | B21: 0 | C21: 0 | D21: 0 | F21: Beruházások | G21: =+'1_M_Kiadások'!D83 -> 0 | H21: =+'1_M_Kiadások'!E83 -> 45000 | I21: =+'1_M_Kiadások'!F83 -> 45000
A22: Egyéb felhalm.c.tám.bev. áh.n belülről | B22: 0 | C22: 0 | D22: 0 | F22: Felújítások | G22: 0 | H22: 0 | I22: 0
A23: Immat. jav.,ingatlanok., egyéb tárgyi e.érték. | B23: 0 | C23: 0 | D23: 0 | F23: Egyéb felhalm.c.támog.áh.n belülre | G23: 0 | H23: 0 | I23: 0
A24: Felhalm.c.visszat.tám.,kölcs.visszat.áh.n kívülről | B24: 0 | C24: 0 | D24: 0 | F24: Felhalm.c.visszat.támog.kölcs.,nyújt.áh.n kívülre | G24: 0 | H24: 0 | I24: 0
A25: Egyéb felhalmozási célú átvett pénzeszk. | B25: 0 | C25: 0 | D25: 0 | F25: Egyéb felhalm.c.támog.áh.n kívülre | G25: 0 | H25: 0 | I25: 0
A26: Műk.bev.felhalm.célra | B26: 0 | C26: 0 | D26: 0 | F26: Felhalmozási tartalék: - általános | G26: 0 | H26: 0 | I26: 0
F27: - cél | G27: 0 | H27: 0 | I27: 0
A28: Költségvetési bev-ek | B28: =B20+B9 -> 1352000 | C28: =C20+C9 -> 1352000 | D28: =D20+D9 -> 1615520 | F28: Költségvetési kiadások | G28: =G9+G20 -> 1368768 | H28: =H9+H20 -> 1368768 | I28: =I9+I20 -> 403765
A29: Maradvány igénybevétele felj.célra | B29: 0 | C29: 0 | D29: 0 | F29: Hosszú lej.hitelek, kölcsönök törlesztése
A30: Maradvány igénybevétele műk.célra | B30: =+'2_M_Bevételek'!D73 -> 16768 | C30: =+'2_M_Bevételek'!E73 -> 16768 | D30: =+'2_M_Bevételek'!F73 -> 16768 | F30: Áh.n. belüli megelőlegezés visszafizetése | G30: 0 | H30: 0 | I30: 0
A31: Maradvány igénybevétele finanszírozási célra | B31: 0 | C31: 0 | D31: 0 | F31: Pénzeszközök lekötött bankbetétként elhelyezése | G31: 0 | H31: 0 | I31: 0
A32: Áh.n belüli megelőlegezés | F32: Belföldi értékpapírok kiadásai | G32: 0 | H32: 0 | I32: 0
A33: Lekötött bankbetétek megszüntetése
A34: Belföldi értékpapírok bevételei | B34: 0 | C34: 0 | D34: 0
A35: Finanszírozási bevételek | B35: =SUM(B29:B34) -> 16768 | C35: =SUM(C29:C34) -> 16768 | D35: =SUM(D29:D34) -> 16768 | F35: Finanszírozási kiadások | G35: =SUM(G29:G33) -> 0 | H35: =SUM(H29:H33) -> 0 | I35: =SUM(I29:I33) -> 0
A37: Nyitó | F37: Záró
A38: Bevételek összesen: | B38: =B36+B28+B37+B35 -> 1368768 | C38: =C36+C28+C37+C35 -> 1368768 | D38: =D36+D28+D37+D35 -> 1632288 | F38: Kiadás összesen: | G38: =G28+G36+G37+G35 -> 1368768 | H38: =H28+H36+H37+H35 -> 1368768 | I38: =I28+I36+I37+I35 -> 403765
F40: Költségvetési mérleg egyenlege: | G40: =+B38-G38 -> 0 | H40: =+C38-H38 -> 0 | I40: =+D38-I38 -> 1228523

Sheet 4_M_Működési mérleg
A1: 4. melléklet
A2: Sülysápi Roma Nemzetiségi Önkormányzat
A3: I. Működési célú (folyó) bevételek, működési célú (folyó) kiadások mérlege 2026. év
F6: adatk Ft-ban
A7: BEVÉTELEK | F7: KIADÁSOK
A8: Megnevezés | B8: 2026. évi eredeti ei. | C8: 2026.06.30. módosított ei. | D8: 2026.06.30. Teljesítés | F8: Megnevezés | G8: 2026. évi eredeti ei. | H8: 2026.06.30. módosított ei. | I8: 2026.06.30. Teljesítés
A11: Önkorm. működési támogatásai | B11: =+'2_M_Bevételek'!D17 -> 1352000 | C11: =+'2_M_Bevételek'!E17 -> 1352000 | D11: =+'2_M_Bevételek'!F17 -> 1615520 | F11: Személyi juttatások | G11: =+'[1]1_M_Kiadások'!D23 -> 0 | H11: =+'[1]1_M_Kiadások'!E23 -> 0 | I11: =+'[1]1_M_Kiadások'!F23 -> 0
A12: Egyéb műk.c.tám.bev. áh.n belülről | B12: 0 | C12: 0 | D12: 0 | F12: Munkaadót terh.jár.és szoc.hozzáj.adó | G12: =+'[1]1_M_Kiadások'!D24 -> 0 | H12: =+'[1]1_M_Kiadások'!E24 -> 0 | I12: =+'[1]1_M_Kiadások'!F24 -> 0
A13: Közhatalmi bevételek | B13: 0 | C13: 0 | D13: 0 | F13: Dologi kiadások | G13: =+'1_M_Kiadások'!D49 -> 1368768 | H13: =+'1_M_Kiadások'!E49 -> 1323768 | I13: =+'1_M_Kiadások'!F49 -> 358765
A14: Működési bevételek | B14: 0 | C14: 0 | D14: 0 | F14: Ellátottak pénzbeli juttatásai | G14: 0 | H14: 0 | I14: 0
A15: Egyéb működéi célú átvett pénzeszk. | B15: 0 | C15: 0 | D15: 0 | F15: Elvonások, befizetések | G15: 0 | H15: 0 | I15: 0
A16: Maradvány igénybevétele műk.célra | B16: =+'2_M_Bevételek'!D74 -> 16768 | C16: =+'2_M_Bevételek'!E74 -> 16768 | D16: =+'2_M_Bevételek'!F74 -> 16768 | F16: Egyéb műk.c.támog.áh.n belülre | G16: 0 | H16: 0 | I16: 0
F17: Műk.c.visszat.támog., kölcs.nyújt.áh.n kívülre | G17: 0 | H17: 0 | I17: 0
F18: Egyéb műk.c.támog.áh.n kívülre | G18: 0 | H18: 0 | I18: 0
F19: Tartalékok | G19: 0 | H19: 0 | I19: 0
F20: Egyéb (Előző évi megelőlegezés) | G20: 0 | H20: 0 | I20: 0
F21: Többlet
A22: Működési bevétel összesen: | B22: =SUM(B11:B21) -> 1368768 | C22: =SUM(C11:C21) -> 1368768 | D22: =SUM(D11:D21) -> 1632288 | F22: Működési kiadás összesen: | G22: =SUM(G11:G21) -> 1368768 | H22: =SUM(H11:H21) -> 1323768 | I22: =SUM(I11:I21) -> 358765
A23: Működési mérleg többlet: | B23: =+B22-G22 -> 0 | C23: =+C22-H22 -> 45000 | D23: =+D22-I22 -> 1273523 | F23: Működési mérleg többlet: | G23: 0 | H23: 0 | I23: 0

Sheet 5_M_Felhalm.mérleg
A1: 5. melléklet
A2: Sülysápi Roma Nemzetiségi Önkormányzat
A3: II. Felhalmozási célú bevételek és kiadások mérlege 2026. év
A6: adatk Ft-ban
A7: BEVÉTELEK | F7: KIADÁSOK
A8: Megnevezés | B8: 2026. évi eredeti ei. | C8: 2026.06.30. módosított ei. | D8: 2026.06.30. Teljesítés | F8: Megnevezés | G8: 2026. évi eredeti ei. | H8: 2026.06.30. módosított ei. | I8: 2026.06.30. Teljesítés
A10: Felhalmozási célú önkorm.i támogatások | B10: 0 | C10: 0 | D10: 0 | F10: Beruházások | G10: =+'1_M_Kiadások'!D83 -> 0 | H10: =+'1_M_Kiadások'!E83 -> 45000 | I10: =+'1_M_Kiadások'!F83 -> 45000
A11: Egyéb felhalm.c.tám.bev. áh.n belülről | B11: 0 | C11: 0 | D11: 0 | F11: Felújítások | G11: 0 | H11: 0 | I11: 0
A12: Immat. jav.,ingatlanok., egyéb tárgyi e.érték. | B12: 0 | C12: 0 | D12: 0 | F12: Egyéb felhalm.c.támog.áh.n belülre | G12: 0 | H12: 0 | I12: 0
A13: Felhalm.c.visszat.tám.,kölcs.visszat.áh.n kívülről | B13: 0 | C13: 0 | D13: 0 | F13: Felhalm.c.visszat.támog.kölcs.,nyújt.áh.n kívülre | G13: 0 | H13: 0 | I13: 0
A14: Egyéb felhalmozási célú átvett pénzeszk. | B14: 0 | C14: 0 | D14: 0 | F14: Egyéb felhalm.c.támog.áh.n kívülre | G14: 0 | H14: 0 | I14: 0
A15: Maradvány igénybevétele felj.célra | B15: 0 | C15: 0 | D15: 0 | F15: Felhalmozási célú tartalék | G15: 0 | H15: 0 | I15: 0
A19: Felhalmozási bevételek összesen: | B19: =SUM(B10:B18) -> 0 | C19: =SUM(C10:C18) -> 0 | D19: =SUM(D10:D18) -> 0 | F19: Felhalmozási kiadások összesen: | G19: =SUM(G10:G18) -> 0 | H19: =SUM(H10:H18) -> 45000 | I19: =SUM(I10:I18) -> 45000
A20: Felhalmozási mérleg hiány: | B20: 0 | C20: 0 | D20: 0 | F20: Felhalmozási mérleg többlet: | G20: =+G19-B19 -> 0 | H20: =+H19-C19 -> 45000 | I20: =+I19-D19 -> 45000
A22: Működési és felhalmozási bevételek | B22: =+'4_M_Működési mérleg'!B22+'5_M_Felhalm.mérleg'!B19 -> 1368768 | C22: =+'4_M_Működési mérleg'!C22+'5_M_Felhalm.mérleg'!C19 -> 1368768 | D22: =+'4_M_Működési mérleg'!D22+'5_M_Felhalm.mérleg'!D19 -> 1632288 | F22: Működési és felhalmozási bevételek | G22: =+'4_M_Működési mérleg'!G22+'5_M_Felhalm.mérleg'!G19 -> 1368768 | H22: =+'4_M_Működési mérleg'!H22+'5_M_Felhalm.mérleg'!H19 -> 1368768 | I22: =+'4_M_Működési mérleg'!I22+'5_M_Felhalm.mérleg'!I19 -> 403765
A23: Költségvetés főösszege: | B23: =+'1_M_Kiadások'!D99 -> 1368768 | C23: =+'1_M_Kiadások'!E99 -> 1368768 | D23: =+'1_M_Kiadások'!F99 -> 403765 | F23: Költségvetés főösszege: | G23: =+B23 -> 1368768 | H23: =+C23 -> 1368768 | I23: =+D23 -> 403765
A24: Ell. | B24: =+B22-B23 -> 0 | C24: =+C22-C23 -> 0 | D24: =+D22-D23 -> 1228523 | F24: Ell. | G24: =+G23-G22 -> 0 | H24: =+H23-H22 -> 0 | I24: =+I23-I22 -> 0

Sheet 6_M_Adós
A1: 6. melléklet
A2: Sülysápi Roma Nemzetiségi Önkormányzat
A3: 2026. évi Adósságot keletkeztető ügyletek.
A6: Sülysápi Roma Nemzetiségi Önkorányzatnak nincsenek adósságot keletkeztető ügyletei, önkormányzati garanciái és önkormányzati kezességvállalásai.
A7: Sülysápi Roma Nemzetiségi Önkormányzatnak nincs költségvetési hiánya, nem szükséges arra szolgáló finanszírozási bevételi előirányzatot létrehozni.
A9: Sülysápi Roma Nemzetiségi Önkorányzatnak nincsenek olyan fejlesztési céljai, amelyek megvalósításához adósságot keletkeztető ügylet megkötése válik vagy válhat szükségessé.

Sheet 7_M_Finansz mérleg
A1: 7. melléklet
A2: Sülysápi Roma Nemzetiségi Önkormányzat
A3: Finanszírozási mérleg 2026. év
I5: adatok Ft-ban
A6: BEVÉTELEK | F6: KIADÁSOK
A7: Megnevezés | B7: 2026. évi eredeti ei. | C7: 2026.06.30. módosított ei. | D7: 2026.06.30. Teljesítés | F7: Megnevezés | G7: 2026. évi eredeti ei. | H7: 2026.06.30. módosított ei. | I7: 2026.06.30. Teljesítés
A9: előző évi maradvány igénybevétele működési célra (finanszírozási c. bev.) | B9: =+'2_M_Bevételek'!D74-B10 -> 16768 | C9: =+'2_M_Bevételek'!E74-C10 -> 16768 | D9: =+'2_M_Bevételek'!F74-D10 -> 16768 | F9: Pénzeszközök lekötött bankbetétként elhelyezése | G9: 0 | H9: 0 | I9: 0
A10: előző évi maradvány igénybevétele felhalmozási célra (finanszírozási c. bev.) | B10: =+'1_M_Kiadások'!D83 -> 0 | C10: 0 | D10: 0 | F10: ÁH-n belüli megelőlegezés visszafizetés | G10: 0 | H10: 0 | I10: 0
A11: ÁH-n belüli megelőlegezések | B11: 0 | C11: 0 | D11: 0 | F11: -
A12: Betétek megszüntetése | B12: 0 | C12: 0 | D12: 0 | F12: -
A13: Belföldi értékpapírok bevételei | B13: 0 | C13: 0 | D13: 0 | F13: -
A14: Összes finanszírozási bevétel | B14: =SUM(B9:B10) -> 16768 | C14: =SUM(C9:C10) -> 16768 | D14: =SUM(D9:D10) -> 16768 | F14: Összes finanszírozási kiadás | G14: =SUM(G9:G10) -> 0 | H14: =SUM(H9:H10) -> 0 | I14: =SUM(I9:I10) -> 0

Sheet 8_M_3 év
A1: 8. melléklet
A2: Sülysápi Roma Nemzetiségi Önkormányzat
A3: 2026. Költségvetési évet követő három év tervezett előirányzata
A4: adatok Ft-ban
A5: Bevétel megnevezése | B5: 2026. tárgyévi tervezett előirányzat | C5: 2027. évi tervezett előirányzat | D5: 2028. évi tervezett előirányzat | E5: 2029. évi tervezett előirányzat
A6: Önkormányzatok működési támogatásai | B6: =+'2_M_Bevételek'!D17 -> 1352000 | C6: =+B6 -> 1352000 | D6: =+B6 -> 1352000 | E6: =+B6 -> 1352000
A7: Elvonások és befizetések bevételei | B7: 0 | C7: 0 | D7: 0 | E7: 0
A8: Egyéb műk.c.tám.bev. áh.n belülről | B8: 0 | C8: 0 | D8: 0 | E8: 0
A9: Közhatalmi bevételek | B9: 0 | C9: 0 | D9: 0 | E9: 0
A10: Működési bevételek | B10: 0 | C10: 0 | D10: 0 | E10: 0
A11: Műk.c.visszat.tám.,kölcs.visszat.áh.n kívülről | B11: 0 | C11: 0 | D11: 0 | E11: 0
A12: Egyéb működési célú átvett pénzeszk. | B12: 0 | C12: 0 | D12: 0 | E12: 0
A13: Felhalmozási célú önkorm.i támogatások | B13: 0 | C13: 0 | D13: 0 | E13: 0
A14: Egyéb felhalm.c.tám.bev. áh.n belülről | B14: 0 | C14: 0 | D14: 0 | E14: 0
A15: Immat. jav.,ingatlanok., egyéb tárgyi e.érték. | B15: 0 | C15: 0 | D15: 0 | E15: 0
A16: Felhalm.c.visszat.tám.,kölcs.visszat.áh.n kívülről | B16: 0 | C16: 0 | D16: 0 | E16: 0
A17: Egyéb felhalmozási célú átvett pénzeszk. | B17: 0 | C17: 0 | D17: 0 | E17: 0
A18: Maradvány igénybevétele felj.célra | B18: 0 | C18: 0 | D18: 0 | E18: 0
A19: Maradvány igénybevétele műk.célra | B19: =+'2_M_Bevételek'!D74 -> 16768 | C19: 6000 | D19: 6000 | E19: 6000
A20: Maradvány igénybevétel finanszírozási célra | B20: 0 | C20: 0 | D20: 0 | E20: 0
A21: Belföldi értékpapírok bevételei | B21: 0 | C21: 0 | D21: 0 | E21: 0
A22: Egyéb finanszírozási bevételek | B22: 0 | C22: 0 | D22: 0 | E22: 0
A23: Bevételek összesen: | B23: =SUM(B6:B22) -> 1368768 | C23: =SUM(C6:C22) -> 1358000 | D23: =SUM(D6:D22) -> 1358000 | E23: =SUM(E6:E22) -> 1358000
A25: Kiadás megnevezése | B25: 2026. tárgyévi tervezett előirányzat | C25: 2027. évi tervezett előirányzat | D25: 2028. évi tervezett előirányzat | E25: 2029. évi tervezett előirányzat
A26: Személyi juttatások | B26: =+'1_M_Kiadások'!D23 -> 0 | C26: 0 | D26: 0 | E26: 0
A27: Munkáltatót terh.jár. és szoc.hozzáj. adó | B27: =+'1_M_Kiadások'!D24 -> 0 | C27: 0 | D27: 0 | E27: 0
A28: Dologi kiadás | B28: =+'1_M_Kiadások'!D49 -> 1368768 | C28: =+C6+C19 -> 1358000 | D28: =+D6+D19 -> 1358000 | E28: =+E6+E19 -> 1358000
A29: Ellátottak pénzbeli juttatásai | B29: 0 | C29: 0 | D29: 0 | E29: 0
A30: Egyéb műk.c.támog.áh.n belülre | B30: 0 | C30: 0 | D30: 0 | E30: 0
A31: Műk.c.visszat.támog., kölcs.nyújt.áh.n kívülre | B31: 0 | C31: 0 | D31: 0 | E31: 0
A32: Egyéb műk.c.támog.áh.n kívülre | B32: 0 | C32: 0 | D32: 0 | E32: 0
A33: Elvonások, befizetések | B33: 0 | C33: 0 | D33: 0 | E33: 0
A34: Műk.célú tartalék | B34: 0 | C34: 0 | D34: 0 | E34: 0
A35: Beruházások | B35: =+'1_M_Kiadások'!D83 -> 0 | C35: 0 | D35: 0 | E35: 0
A36: Felújítások | B36: 0 | C36: 0 | D36: 0 | E36: 0
A37: Egyéb felhalm.c.támog.áh.n belülre | B37: 0 | C37: 0 | D37: 0 | E37: 0
A38: Felhalm.c.visszat.támog.kölcs.,nyújt.áh.n kívülre | B38: 0 | C38: 0 | D38: 0 | E38: 0
A39: Egyéb felhalm.c.támog.áh.n kívülre | B39: 0 | C39: 0 | D39: 0 | E39: 0
A40: Felh.célú tartalék | B40: 0 | C40: 0 | D40: 0 | E40: 0
A41: Hosszú lej.hitelek, kölcsönök törlesztése | B41: 0 | C41: 0 | D41: 0 | E41: 0
A42: Belföldi értékpapírok kiadásai | B42: 0 | C42: 0 | D42: 0 | E42: 0
A43: Államháztartáson belüli megelőlegezés | B43: 0 | C43: 0 | D43: 0 | E43: 0
A44: Kiadások összesen: | B44: =SUM(B26:B43) -> 1368768 | C44: =SUM(C26:C43) -> 1358000 | D44: =SUM(D26:D43) -> 1358000 | E44: =SUM(E26:E43) -> 1358000
B46: =+B23-B44 -> 0 | C46: =+C23-C44 -> 0 | D46: =+D23-D44 -> 0 | E46: =+E23-E44 -> 0

Sheet 9_M_Kötelező fel.
A1: 9. melléklet
A2: Sülysápi Roma Nemzetiségi Önkormányzat
A3: Költségvetés bevételeinek és kiadásainak megbontása - kötelező, önként vállalt, államigazgatási feladatok szerint 2026. év
A5: adatok Ft-ban
A6: MEGNEVEZÉS | B6: KÖTELEZŐ FELADAT | C6: ÖNKÉNT VÁLLALT FELADAT | D6: ÁLLAMIGAZ-GATÁSI FELADATOK | E6: ÖSSZESEN
A7: Személyi juttatások | B7: =+'1_M_Kiadások'!D23 -> 0 | C7: 0 | D7: 0 | E7: =+B7+C7+D7 -> 0
A8: Munkaadót terh.jár.és szoc.hozzáj.adó | B8: =+'1_M_Kiadások'!D24 -> 0 | C8: 0 | D8: 0 | E8: =+B8+C8+D8 -> 0
A9: Dologi kiadások | B9: 0 | C9: =+'1_M_Kiadások'!D49 -> 1368768 | D9: 0 | E9: =+B9+C9+D9 -> 1368768
A10: Ellátottak pénzbeli juttatásai | B10: 0 | C10: 0 | D10: 0 | E10: =+B10+C10+D10 -> 0
A11: Elvonások, befizetések | B11: 0 | C11: 0 | D11: 0 | E11: =+B11+C11+D11 -> 0
A12: Egyéb műk.c.támog.áh.n belülre | B12: 0 | C12: 0 | D12: 0 | E12: =+B12+C12+D12 -> 0
A13: Műk.c.visszat.támog., kölcs.nyújt.áh.n kívülre | B13: 0 | C13: 0 | D13: 0 | E13: =+B13+C13+D13 -> 0
A14: Egyéb műk.c.támog.áh.n kívülre | B14: 0 | C14: 0 | D14: 0 | E14: =+B14+C14+D14 -> 0
A15: Tartalékok | B15: 0 | C15: 0 | D15: 0 | E15: =+B15+C15+D15 -> 0
A16: Egyéb | B16: 0 | C16: 0 | D16: 0 | E16: =+B16+C16+D16 -> 0
A17: Többlet | B17: 0 | C17: 0 | D17: 0 | E17: =+B17+C17+D17 -> 0
A18: Működési kiadás összesen: | B18: =SUM(B7:B17) -> 0 | C18: =SUM(C7:C17) -> 1368768 | D18: =SUM(D16:D17) -> 0 | E18: =SUM(E7:E17) -> 1368768
A19: beruházások
A20: - Önkormányzat | B20: 0 | C20: =+'1_M_Kiadások'!D83 -> 0 | D20: 0 | E20: =SUM(B20:D20) -> 0
A21: - Beruházások intézmények | B21: 0 | C21: 0 | D21: 0 | E21: =SUM(B21:D21) -> 0
A22: beruházások összesen | B22: =SUM(B20:B21) -> 0 | C22: =SUM(C20:C21) -> 0 | D22: =SUM(D20:D21) -> 0 | E22: =SUM(E20:E21) -> 0
A23: felújítások
A24: - Önkormányzat | B24: 0 | C24: 0 | D24: 0 | E24: =SUM(B24:D24) -> 0
A25: felújítások összesen | B25: =SUM(B24:B24) -> 0 | C25: =SUM(C24:C24) -> 0 | D25: =SUM(D24:D24) -> 0 | E25: =SUM(E24:E24) -> 0
A26: egyéb felhalmozási kiadások
A27: · - egyéb felhalmozási célú támogatások áh-n belülre | B27: 0 | C27: 0 | D27: 0 | E27: =SUM(B27:D27) -> 0
A28: · - felhalmozási célú visszat. támogatások, kölcsönök nyújtása áh-n kívülre | B28: 0 | C28: 0 | D28: 0 | E28: =SUM(B28:D28) -> 0
A29: · - egyéb felhalmozási célú támogatások áh-n kívülre | B29: 0 | C29: 0 | D29: 0 | E29: =SUM(B29:D29) -> 0
A30: egyéb felhalmozási kiadások összesen | B30: =SUM(B27:B29) -> 0 | C30: =SUM(C27:C29) -> 0 | D30: =SUM(D27:D29) -> 0 | E30: =SUM(E27:E29) -> 0
A31: FELHALMOZÁSI KIADÁS ÖSSZESEN | B31: =SUM(B22,B25,B30) -> 0 | C31: =SUM(C22,C25,C30) -> 0 | D31: =SUM(D22,D25,D30) -> 0 | E31: =SUM(E22,E25,E30) -> 0
A32: Hosszú lejáratú hitelek, kölcsönök törlesztése | B32: 0 | C32: 0 | D32: 0 | E32: =SUM(B32:D32) -> 0
A33: Belföldi értékpapírok kiadásai | B33: 0 | C33: 0 | D33: 0 | E33: =SUM(B33:D33) -> 0
A34: Államháztartáson belüli megelőlegezés visszafizetés | B34: 0 | C34: 0 | D34: 0 | E34: =SUM(B34:D34) -> 0
A35: Pénzeszköz betét elhelyezés | B35: 0 | C35: 0 | D35: 0
A36: Finanszírozási kiadások összesen | B36: =SUM(B32:B35) -> 0 | C36: =SUM(C32:C35) -> 0 | D36: =SUM(D32:D35) -> 0 | E36: =SUM(E32:E35) -> 0
A37: KIADÁSOK MINDÖSSZESEN | B37: =+B18+B31+B36 -> 0 | C37: =+C18+C31+C36 -> 1368768 | D37: =+D18+D31+D36 -> 0 | E37: =+E18+E31+E36 -> 1368768
A40: MEGNEVEZÉS | B40: KÖTELEZŐ FELADAT | C40: ÖNKÉNT VÁLLALT FELADAT | D40: ÁLLAMIGAZ-GATÁSI FELADATOK | E40: ÖSSZESEN
A41: Önkormányzatok működési támogatásai | B41: 0 | C41: =+'2_M_Bevételek'!D17 -> 1352000 | D41: 0 | E41: =+B41+C41+D41 -> 1352000
A42: Elvonások és befizetések bevételei | B42: 0 | C42: 0 | D42: 0 | E42: =+B42+C42+D42 -> 0
A43: Egyéb műk.c.tám.bev. áh.n belülről | B43: 0 | C43: 0 | D43: 0 | E43: =+B43+C43+D43 -> 0
A44: Közhatalmi bevételek | B44: 0 | C44: 0 | D44: 0 | E44: =+B44+C44+D44 -> 0
A45: Működési bevételek | B45: 0 | C45: 0 | D45: 0 | E45: =+B45+C45+D45 -> 0
A46: Műk.c.visszat.tám.,kölcs.visszat.áh.n kívülről | B46: 0 | C46: 0 | D46: 0 | E46: =+B46+C46+D46 -> 0
A47: Egyéb működési célú átvett pénzeszk. | B47: 0 | C47: 0 | D47: 0 | E47: =+B47+C47+D47 -> 0
A48: Műk.bev.felh.célra | B48: 0 | C48: 0 | D48: 0 | E48: =+B48+C48+D48 -> 0
A49: Működésicélú bevételek összesen | B49: =SUM(B41:B48) -> 0 | C49: =SUM(C41:C48) -> 1352000 | D49: =SUM(D41:D48) -> 0 | E49: =SUM(E41:E48) -> 1352000
A50: Felhalmozási célú önkorm.i támogatások | B50: 0 | C50: 0 | D50: 0 | E50: =+B50+C50+D50 -> 0
A51: Egyéb felhalm.c.tám.bev. áh.n belülről | B51: 0 | C51: 0 | D51: 0 | E51: =+B51+C51+D51 -> 0
A52: Immat. jav.,ingatlanok., egyéb tárgyi e.érték. | B52: 0 | C52: 0 | D52: 0 | E52: =+B52+C52+D52 -> 0
A53: Felhalm.c.visszat.tám.,kölcs.visszat.áh.n kívülről | B53: 0 | C53: 0 | D53: 0 | E53: =+B53+C53+D53 -> 0
A54: Egyéb felhalmozási célú átvett pénzeszk. | B54: 0 | C54: 0 | D54: 0 | E54: =+B54+C54+D54 -> 0
A55: Műk.bev.felhalm.célra | B55: 0 | C55: 0 | D55: 0 | E55: =+B55+C55+D55 -> 0
A56: Felhalmozási célú költségvetési bevételek összesen | B56: =SUM(B50:B55) -> 0 | C56: =SUM(C50:C55) -> 0 | D56: =SUM(D50:D55) -> 0 | E56: =SUM(E50:E55) -> 0
A57: Maradvány igénybevétele felj.célra | B57: 0 | C57: =+'1_M_Kiadások'!D83 -> 0 | D57: 0 | E57: =+B57+C57+D57 -> 0
A58: Maradvány igénybevétele műk.célra | B58: 0 | C58: =+'2_M_Bevételek'!D74-C57 -> 16768 | D58: =SUM(D43,D47,D52,D56,D57,) -> 0 | E58: =+B58+C58+D58 -> 16768
A59: Maradvány igénybevétele finanszírozási célra | B59: 0 | C59: 0 | D59: 0 | E59: =+B59+C59+D59 -> 0
A60: Áh.n belüli megelőlegezés | B60: 0 | C60: 0 | D60: 0 | E60: =+B60+C60+D60 -> 0
A61: Lekötött bankbetétek megszüntetése | B61: 0 | C61: 0 | D61: 0 | E61: =+B61+C61+D61 -> 0
A62: Belföldi értékpapírok bevételei | B62: 0 | C62: 0 | D62: 0 | E62: =+B62+C62+D62 -> 0
A63: Költségvetési bevételek összesen | B63: =SUM(B57:B62) -> 0 | C63: =SUM(C57:C62) -> 16768 | D63: =SUM(D57:D62) -> 0 | E63: =SUM(B63:D63) -> 16768
A64: Előző évi pénzmaradvány igénybevétele működési célra (finanszírozási c. bev.) | B64: 0 | C64: 0 | D64: 0 | E64: =+B64+C64+D64 -> 0
A65: Előző évi pénzmaradvány igénybevétele felhalmozási célra (finanszírozási c. bev.) | B65: 0 | C65: 0 | D65: 0 | E65: =+B65+C65+D65 -> 0
A66: ÁH-n belüli megelőlegezések | B66: 0 | C66: 0 | D66: 0 | E66: =+B66+C66+D66 -> 0
A67: Betétek megszüntetése | B67: 0 | C67: 0 | D67: 0 | E67: =+B67+C67+D67 -> 0
A68: Belföldi értékpapírok bevételei | B68: 0 | C68: 0 | D68: 0 | E68: =+B68+C68+D68 -> 0
A69: Finanszírozási bevételek összesen | B69: =SUM(B64:B68) -> 0 | C69: =SUM(C64:C68) -> 0 | D69: =SUM(D64:D68) -> 0 | E69: =SUM(E64:E68) -> 0
A70: BEVÉTELEK MINDÖSSZESEN | B70: =+B49+B56+B63+B69 -> 0 | C70: =+C49+C56+C63+C69 -> 1368768 | D70: =+D49+D56+D63+D69 -> 0 | E70: =+E49+E56+E63+E69 -> 1368768

Sheet 10_M_Több éves kihatással járó 
A1: 10. melléklet
A3: Sülysápi Roma Nemzetiségi Önkormányzat
A4: Több éves kihatással járó döntések alakulása 2026. év
A8: 2026-ban nincs több éves kihatással járó kiadási döntés.
