Workbook

Sheet Kiadás
A2: SÜLYSÁPI ROMA NEMZETISÉGI ÖNKORMÁNYZAT 2023.III. NEGYEDÉV KÖLTSÉGVETÉSI KIADÁSOK
A3: Rovat megnevezése | B3: Rovat száma | C3: Eredeti ei. | D3: Módosított ei. | E3: Módosított ei. | F3: Módosított ei. | G3: Teljesítés | H3: Teljesítés | I3: Teljesítés | J3: 2023.06.30-i realizálás az eredeti előir-hoz képest | K3: 2023.09.30-i realizálás a féléves előir-hoz képest | L3: 2023.10.31-i realizálás a III. negyedéves előir-hoz képest
C4: 44927 | D4: 45107 | E4: 45199 | F4: 45230 | G4: 45107 | H4: 45199 | I4: 45230
A5: Törvény szerinti illetmények, munkabérek | B5: K1101
A6: Normatív jutalmak | B6: K1102
A7: Céljuttatás, projektprémium | B7: K1103
A8: Készenléti, ügyeleti, helyettesítési díj, túlóra, túlszolgálat | B8: K1104
A9: Végkielégítés | B9: K1105
A10: Jubileumi jutalom | B10: K1106
A11: Béren kívüli juttatások | B11: K1107
A12: Ruházati költségtérítés | B12: K1108
A13: Közlekedési költségtérítés | B13: K1109
A14: Egyéb költségtérítések | B14: K1110
A15: Lakhatási támogatások | B15: K1111
A16: Szociális támogatások | B16: K1112
A17: Foglalkoztatottak egyéb személyi juttatásai | B17: K1113
A18: Foglalkoztatottak személyi juttatásai (=01+…+13) K11 | B18: K11 | C18: =SUM(C5:C17) -> 0 | D18: =SUM(D5:D17) -> 0 | E18: =SUM(E5:E17) -> 0 | F18: =SUM(F5:F17) -> 0 | G18: =SUM(G5:G17) -> 0 | H18: =SUM(H5:H17) -> 0 | I18: =SUM(I5:I17) -> 0
A19: Választott tisztségviselők juttatásai | B19: K121 | C19: =+'[1]2021.01.01.'!E10 -> 0 | D19: 0 | E19: 0 | F19: 0 | G19: 0 | H19: 0 | I19: 0
A20: Munkavégzésre irányuló egyéb jogviszonyban nem saját foglalkoztatottnak fizetett juttatások | B20: K122
A21: Egyéb külső személyi juttatások | B21: K123
A22: Külső személyi juttatások (=15+16+17) K12 | B22: K12 | C22: =SUM(C19:C21) -> 0 | D22: =SUM(D19:D21) -> 0 | E22: 0 | F22: 0 | G22: =SUM(G19:G21) -> 0 | H22: 0 | I22: 0
A23: Személyi juttatások (=14+18) | B23: K1 | C23: =SUM(C22,C18) -> 0 | D23: =SUM(D22,D18) -> 0 | E23: =SUM(E22,E18) -> 0 | F23: =SUM(F22,F18) -> 0 | G23: =SUM(G22,G18) -> 0 | H23: =SUM(H22,H18) -> 0 | I23: =SUM(I22,I18) -> 0
A24: Munkaadókat terhelő járulékok és szociális hozzájárulási adó | B24: K2 | C24: =+C19*0.155 -> 0 | D24: 0 | E24: 0 | F24: 0 | G24: =+G19*0.155*0.9 -> 0 | H24: =+H19*0.155*0.9 -> 0 | I24: =+I19*0.155*0.9 -> 0
A25: Szakmai anyagok beszerzése | B25: K311
A26: Üzemeltetési anyagok beszerzése | B26: K312 | C26: 400000 | D26: 134150 | E26: 134150 | F26: 134150 | G26: 0 | H26: 0 | I26: 59251 | J26: =+G26/C26 -> 0 | K26: =+H26/D26 -> 0
A27: Árubeszerzés | B27: K313
A28: Készletbeszerzés (=21+22+23) K31 | B28: K31 | C28: =SUM(C25:C27) -> 400000 | D28: =SUM(D25:D27) -> 134150 | E28: =SUM(E25:E27) -> 134150 | F28: =SUM(F25:F27) -> 134150 | G28: =SUM(G25:G27) -> 0 | H28: =SUM(H25:H27) -> 0 | I28: =SUM(I25:I27) -> 59251 | J28: =+G28/C28 -> 0 | K28: =+H28/D28 -> 0 | L28: =+I28/E28 -> 0.44167723
A29: Informatikai szolgáltatások igénybevétele | B29: K321
A30: Egyéb kommunikációs szolgáltatások | B30: K322
A31: Kommunikációs szolgáltatások (=25+26) K32 | B31: K32 | C31: =SUM(C29:C30) -> 0 | D31: =SUM(D29:D30) -> 0 | E31: 0 | F31: 0 | G31: =SUM(G29:G30) -> 0 | H31: 0 | I31: 0
A32: Közüzemi díjak | B32: K331
A33: Vásárolt élelmezés | B33: K332
A34: Bérleti és lízing díjak | B34: K333 | D34: 0 | E34: 450000 | F34: 450000 | G34: 0 | H34: 450000 | I34: 450000
A35: Karbantartási, kisjavítási szolgáltatások | B35: K334
A36: Közvetített szolgáltatások | B36: K335
A37: Szakmai tevékenységet segítő szolgáltatások | B37: K336
A38: Egyéb szolgáltatások | B38: K337 | C38: 400000 | D38: 1043100 | E38: 1043100 | F38: 1043100 | G38: 1037225 | H38: 1038919 | I38: 1038919 | J38: =+G38/C38 -> 2.5930625 | K38: =+H38/D38 -> 0.99599176 | L38: =+I38/E38 -> 0.99599176
A39: Szolgáltatási kiadások (=28+…+34) K33 | B39: K33 | C39: =SUM(C32:C38) -> 400000 | D39: =SUM(D32:D38) -> 1043100 | E39: =SUM(E32:E38) -> 1493100 | F39: =SUM(F32:F38) -> 1493100 | G39: =SUM(G32:G38) -> 1037225 | H39: =SUM(H32:H38) -> 1488919 | I39: =SUM(I32:I38) -> 1488919 | J39: =+G39/C39 -> 2.5930625 | K39: =+H39/D39 -> 1.4273981 | L39: =+I39/E39 -> 0.99719979
A40: Kiküldetések kiadásai | B40: K341
A41: Reklám- és propagandakiadások | B41: K342
...

Sheet Bevétel
L1: Adatok Ft-ban
B2: SÜLYSÁPI ROMA NEMZETISÉGI ÖNKORMÁNYZAT 2023.III. NEGYEDÉV KÖLTSÉGVETÉSI BEVÉTELEK
A3: Sor- szám | B3: Rovat megnevezése | C3: Rovat száma | D3: Eredeti ei. (Ft) 2023.01.01. | E3: Módosított ei. | F3: Módosított ei. | G3: Módosított ei. | H3: Teljesítés | I3: Teljesítés | J3: Teljesítés | K3: 2023.06.30-i realizálás az eredeti előir-hoz képest | L3: 2023.09.30-i realizálás a féléves előir-hoz képest | M3: 2023.10.31-i realizálás a III. negyedéves előir-hoz képest
E4: 45107 | F4: 45199 | G4: 45229 | H4: 45107 | I4: 45199 | J4: 45230
A5: 01 | B5: Helyi önkormányzatok működésének általános támogatása | C5: B111
A6: 02 | B6: Települési önkormányzatok egyes köznevelési feladatainak támogatása | C6: B112
A7: 03 | B7: Települési önkormányzatok szociális gyermekjóléti és gyermekétkeztetési feladatainak támogatása | C7: B113
A8: 04 | B8: Települési önkormányzatok kulturális feladatainak támogatása | C8: B114
A9: 05 | B9: Működési célú költségvetési támogatások és kiegészítő támogatások | C9: B115
A10: 06 | B10: Elszámolásból származó bevételek | C10: B116
A11: 07 | B11: Önkormányzatok működési támogatásai (=01+…+06) | C11: B11 | D11: =SUM(D5:D10) -> 0
A12: 08 | B12: Elvonások és befizetések bevételei | C12: B12
A13: 09 | B13: Működési célú garancia- és kezességvállalásból származó megtérülések államháztartáson belülről | C13: B13
A14: 10 | B14: Működési célú visszatérítendő támogatások, kölcsönök visszatérülése államháztartáson belülről | C14: B14
A15: 11 | B15: Működési célú visszatérítendő támogatások, kölcsönök igénybevétele államháztartáson belülről | C15: B15
A16: 12 | B16: Egyéb működési célú támogatások bevételei államháztartáson belülről (központi ezelésű előirányzatok) | C16: B16 | D16: =520000*2 -> 1040000 | E16: 1267250 | F16: 1717250 | G16: 1717250 | H16: 1717250 | I16: 1944500 | J16: 1944500 | K16: =+H16/D16 -> 1.6512019 | L16: =+I16/E16 -> 1.5344249 | M16: =+J16/F16 -> 1.1323337
A17: 13 | B17: Működési célú támogatások államháztartáson belülről (=07+…+12) | C17: B1 | D17: =SUM(D11:D16) -> 1040000 | E17: =SUM(E11:E16) -> 1267250 | F17: =SUM(F11:F16) -> 1717250 | G17: =SUM(G11:G16) -> 1717250 | H17: =SUM(H11:H16) -> 1717250 | I17: =SUM(I11:I16) -> 1944500 | J17: =SUM(J11:J16) -> 1944500 | K17: =+H17/D17 -> 1.6512019 | L17: =+I17/E17 -> 1.5344249 | M17: =+J17/F17 -> 1.1323337
A18: 14 | B18: Felhalmozási célú önkormányzati támogatások | C18: B21
A19: 15 | B19: Felhalmozási célú garancia- és kezességvállalásból származó megtérülések államháztartáson belülről | C19: B22
A20: 16 | B20: Felhalmozási célú visszatérítendő támogatások, kölcsönök visszatérülése államháztartáson belülről | C20: B23
A21: 17 | B21: Felhalmozási célú visszatérítendő támogatások, kölcsönök igénybevétele államháztartáson belülről | C21: B24
A22: 18 | B22: Egyéb felhalmozási célú támogatások bevételei államháztartáson belülről | C22: B25
A23: 19 | B23: Felhalmozási célú támogatások államháztartáson belülről (=14+…+18) | C23: B2 | D23: =SUM(D18:D22) -> 0
A24: 20 | B24: Magánszemélyek jövedelemadói | C24: B311
A25: 21 | B25: Társaságok jövedelemadói | C25: B312
A26: 22 | B26: Jövedelemadók (=20+21) | C26: B31 | D26: =SUM(D24:D25) -> 0
A27: 23 | B27: Szociális hozzájárulási adó és járulékok | C27: B32
A28: 24 | B28: Bérhez és foglalkoztatáshoz kapcsolódó adók | C28: B33
A29: 25 | B29: Vagyoni tipusú adók | C29: B34
A30: 26 | B30: Értékesítési és forgalmi adók | C30: B351
A31: 27 | B31: Fogyasztási adók | C31: B352
A32: 28 | B32: Pénzügyi monopóliumok nyereségét terhelő adók | C32: B353
A33: 29 | B33: Gépjárműadók | C33: B354
A34: 30 | B34: Egyéb áruhasználati és szolgáltatási adók | C34: B355
A35: 31 | B35: Termékek és szolgáltatások adói (=26+…+30) | C35: B35 | D35: =SUM(D30:D34) -> 0
A36: 32 | B36: Egyéb közhatalmi bevételek | C36: B36
A37: 33 | B37: Közhatalmi bevételek (=22+...+25+31+32) | C37: B3 | D37: =SUM(D26:D29,D35,D36) -> 0
A38: 34 | B38: Készletértékesítés ellenértéke | C38: B401
A39: 35 | B39: Szolgáltatások ellenértéke | C39: B402
A40: 36 | B40: Közvetített szolgáltatások ellenértéke | C40: B403
...
