Workbook

Sheet 01
A1: SÜLYSÁPI ROMA NEMZETISÉGI ÖNKORMÁNYZAT
A2: Intézmény törzsszáma: 828989
D4: Adatok Ft-ban
A5: 2022. ÉVI Zárszámadás
A6: 1. Melléklet
A7: K1-K8. Költségvetési kiadások előirányzatának teljesítéséről
A8: Megnevezés | B8: Eredeti előirányzat | C8: Módosított előirányzat | D8: Teljesítés
A9: Választott tisztségviselők juttatásai (K121) | B9: 0 | C9: 0 | D9: 0
A10: Külső személyi juttatáso (K12) | B10: =+B9 -> 0 | C10: =+C9 -> 0 | D10: =+D9 -> 0
A11: Személyi juttatások (K1) | B11: =+B10 -> 0 | C11: =+C10 -> 0 | D11: =+D10 -> 0
A12: Munkaadókat terhelő járulékok és szociális hozzájárulási adó (K2) | B12: =+B13 -> 0 | C12: =+C13 -> 0 | D12: =+D13 -> 0
A13: ebből: szociális hozzájárulási adó (K2) | B13: 0 | C13: 0 | D13: 0
A14: Üzemeltetési anyagok beszerzése (K312) | B14: 0 | C14: 74206 | D14: 74206
A15: Készletbeszerzés (K31) | B15: =+B14 -> 0 | C15: =+C14 -> 74206 | D15: =+D14 -> 74206
A16: Egyéb szolgáltatások (K337) | B16: 1054594 | C16: 1424178 | D16: 1419505
A17: Szolgáltatási kiadások (K33) | B17: =+B16 -> 1054594 | C17: =+C16 -> 1424178 | D17: =+D16 -> 1419505
A18: Működési célú előzetesen felszámított általános forgalmi adó (K351) | B18: 0 | C18: 16424 | D18: 16424
A19: Egyéb dologi kiadások (K355) | B19: 0 | C19: 0 | D19: 0
A20: Különféle befizetések és egyéb dologi kiadások (K35) | B20: 0 | C20: =+C18+C19 -> 16424 | D20: =+D18+D19 -> 16424
A21: Dologi kiadások (K3) | B21: =+B15+B17+B20 -> 1054594 | C21: =+C15+C17+C20 -> 1514808 | D21: =+D15+D17+D20 -> 1510135
A22: Egyéb tárgyi eszközök beszerzése, létesítése (K64) | B22: 0 | C22: 30693 | D22: 30693
A23: Beruházási célú előzetesen felszámított általános forgalmi adó (K67) | B23: 0 | C23: 8287 | D23: 8287
A24: Beruházások (K6) | B24: =+B22+B23 -> 0 | C24: =+C22+C23 -> 38980 | D24: =+D22+D23 -> 38980
A25: Költségvetési kiadások (K1-K8) | B25: =+B11+B12+B21+B24 -> 1054594 | C25: =+C11+C12+C21+C24 -> 1553788 | D25: =+D11+D12+D21+D24 -> 1549115

Sheet 02
A1: SÜLYSÁPI ROMA NEMZETISÉGI ÖNKORMÁNYZAT
A2: Intézmény törzsszáma: 828989
D4: Adatok Ft-ban
A5: 2022. ÉVI Zárszámadás
A6: 2. Melléklet
A7: B1. - B7. Költségvetési bevételek előirányzatának teljesítéséről
A8: Megnevezés | B8: Eredeti előirányzat | C8: Módosított előirányzat | D8: Teljesítés
A9: Egyéb működési célú támogatások bevételei államháztartáson belülről (B16) | B9: 1040000 | C9: 1539194 | D9: 1539194
A10: Működési célú támogatások államháztartáson belülről (B1) | B10: =+B9 -> 1040000 | C10: =+C9 -> 1539194 | D10: =+D9 -> 1539194
A11: Egyéb kapott (járó) kamatok és kamatjellegű bevételek (B4082) | B11: 0 | C11: 0 | D11: 2250
A12: Kamatbevételek és más nyereségjellegű bevételek (B408) | B12: =+B11 -> 0 | C12: =+C11 -> 0 | D12: =+D11 -> 2250
A13: Egyéb működési bevételek (B411) | B13: 0 | C13: 0 | D13: 0
A14: Működési bevételek (B4) | B14: =SUM(B12:B13) -> 0 | C14: =SUM(C12:C13) -> 0 | D14: =SUM(D12:D13) -> 2250
A15: Költségvetési bevételek (B1-B7) | B15: =+B10+B14 -> 1040000 | C15: =+C10+C14 -> 1539194 | D15: =+D10+D14 -> 1541444

Sheet 03
A1: SÜLYSÁPI ROMA NEMZETISÉGI ÖNKORMÁNYZAT
A2: Intézmény törzsszáma: 828989
D4: Adatok Ft-ban
A5: 2022. ÉVI Zárszámadás
A6: 3. Melléklet
A7: B8. Finanszírozási bevételekről
A8: Megnevezés | B8: Eredeti előirányzat | C8: Módosított előirányzat | D8: Teljesítés
A9: Előző év költségvetési maradványának igénybevétele (B8131) | B9: 14594 | C9: 14594 | D9: 14594
A10: Maradvány igénybevétele (B813) | B10: =+B9 -> 14594 | C10: =+C9 -> 14594 | D10: =+D9 -> 14594
A11: Belföldi finanszírozás bevétele (B81) | B11: =+B10 -> 14594 | C11: =+C10 -> 14594 | D11: =+D10 -> 14594
A12: Finanszírozási bevételek (B8) | B12: =+B11 -> 14594 | C12: =+C11 -> 14594 | D12: =+D11 -> 14594
A14: Összes kiadás | B14: =+'02'!B15+'03'!B12 -> 1054594 | C14: =+'02'!C15+'03'!C12 -> 1553788 | D14: =+'02'!D15+'03'!D12 -> 1556038
A15: Összes bevétel | B15: =+'01'!B25 -> 1054594 | C15: =+'01'!C25 -> 1553788 | D15: =+'01'!D25 -> 1549115
A16: Ell. | B16: =+B14-B15 -> 0 | C16: =+C14-C15 -> 0 | D16: =+D14-D15 -> 6923

Sheet 04
A1: SÜLYSÁPI ROMA NEMZETISÉGI ÖNKORMÁNYZAT
A2: Intézmény törzsszáma: 828989
B4: Adatok Ft-ban
A5: 2022. ÉVI Zárszámadás
A6: 4. Melléklet
A7: Maradványkimutatás
A8: Megnevezés | B8: Összeg
A9: 01 Alaptevékenység költségvetési bevételei | B9: =+'02'!D15 -> 1541444
A10: 02 Alaptevékenység költségvetési kiadásai | B10: =+'01'!D25 -> 1549115
A11: I Alaptevékenység költségvetési egyenlege (=01-02) | B11: =+B9-B10 -> -7671
A12: 03 Alaptevékenység finanszírozási bevételei | B12: =+'03'!D12 -> 14594
A13: II Alaptevékenység finanszírozási egyenlege (=03-04) | B13: =+B12 -> 14594
A14: A) Alaptevékenység maradványa (=±I±II) | B14: =+B11+B13 -> 6923
A15: C) Összes maradvány (=A+B) | B15: =+B14 -> 6923
A16: E) Alaptevékenység szabad maradványa (=A-D) | B16: =+B15 -> 6923

Sheet 05
A1: SÜLYSÁPI ROMA NEMZETISÉGI ÖNKORMÁNYZAT
A2: Intézmény törzsszáma: 828989
D5: Adatok Ft-ban
A6: 2022. ÉVI Zárszámadás
A7: 5. Melléklet
A8: Mérleg
A9: Megnevezés | B9: Előző időszak | C9: Módosítások (+/-) | D9: Tárgyi időszak
A10: C/III/1 Kincstáron kívüli forintszámlák | B10: 14594 | C10: 0 | D10: 6923
A11: C/III Forintszámlák (=C/III/1+C/III/2) | B11: 14594 | C11: 0 | D11: =+D10 -> 6923
A12: C) PÉNZESZKÖZÖK | B12: 14594 | C12: 0 | D12: =+D11 -> 6923
A13: ESZKÖZÖK ÖSSZESEN | B13: 14594 | C13: 0 | D13: =+D12 -> 6923
A14: G/IV Felhalmozott eredmény | B14: -60548 | C14: 0 | D14: 14594
A15: G/VI Mérleg szerinti eredmény | B15: 75142 | C15: 0 | D15: -7691
A16: G/ SAJÁT TŐKE | B16: 14594 | C16: 0 | D16: =+D14+D15 -> 6903
A17: J/2 Költségek, ráfordítások passzív időbeli elhatárolása | B17: 0 | C17: 0 | D17: 0
A18: J) PASSZÍV IDŐBELI ELHATÁROLÁSOK | B18: 0 | C18: 0 | D18: 0
A19: FORRÁSOK ÖSSZESEN | B19: 14594 | C19: 0 | D19: =+D16+D18 -> 6903

Sheet 06
A1: SÜLYSÁPI ROMA NEMZETISÉGI ÖNKORMÁNYZAT
A2: Intézmény törzsszáma: 828989
D4: Adatok forintban
A5: 2022. ÉVI Zárszámadás
A6: 6. Melléklet
A7: Eredménykimutatás
A8: Megnevezés | B8: Előző időszak | C8: Módosítások (+/-) | D8: Tárgyi időszak
A9: 07 Egyéb működési célú támogatások eredményszemléletű bevételei | B9: 1658176 | C9: 0 | D9: 1539194
A10: 09 Különféle egyéb eredményszemléletű bevételek | B10: 8054 | C10: 0 | D10: 0
A11: III Egyéb eredményszemléletű bevételek | B11: 1666230 | C11: 0 | D11: 1539194
A12: 10 Anyagköltség | B12: 70866 | C12: 0 | D12: 74206
A13: 11 Igénybe vett szolgáltatások értéke | B13: 565647 | C13: 0 | D13: 1419505
A14: IV Anyagjellegű ráfordítások | B14: 636513 | C14: 0 | D14: 1493711
A15: 15 Személyi jellegű egyéb kifizetések | B15: 820000 | C15: 0 | D15: 0
A16: 16 Bérjárulékok | B16: 114390 | C16: 0 | D16: 0
A17: V Személyi jellegű ráfordítások | B17: 934390 | C17: 0 | D17: 0
A18: VI Érékcsökkenési leírás | B18: 0 | D18: 30693
A19: VII Egyéb ráfordítások | B19: 21589 | C19: 0 | D19: 24711
A20: A) TEVÉKENYSÉGEK EREDMÉNYE (=I±II+III-IV-V-VI-VII) | B20: 73738 | C20: 0 | D20: -9921
A21: 20 Egyéb kapott (járó) kamatok és kamatjellegű eredményszemléletű bevételek | B21: 1404 | C21: 0 | D21: 2250
A22: VIII Pénzügyi műveletek eredményszemléletű bevételei | B22: 1404 | C22: 0 | D22: 2250
A23: B) PÉNZÜGYI MŰVELETEK EREDMÉNYE | B23: 1404 | C23: 0 | D23: 2250
A24: C) MÉRLEG SZERINTI EREDMÉNY (=±A±B) | B24: 75142 | C24: 0 | D24: -7671

Sheet 07
A1: SÜLYSÁPI ROMA NEMZETISÉGI ÖNKORMÁNYZAT
A2: Intézmény törzsszáma: 828989
E4: Adatok forintban
A5: 2022. ÉVI Zárszámadás
A6: 7. Melléklet
A7: Települési és területi nemzetiségi önkormányzatok tárgyévi támogatásának elszámolása
A8: Megnevezés | B8: A központi költségvetésből támogatásként rendelkezésre bocsátott összeg | C8: A települési/területi nemzetiségi önkormányzat által tárgyévben ténylegesen felhasznált összeg | D8: A települési/területi nemzetiségi önkormányzat által a tárgyévet követő évben felhasználni tervezett összeg | E8: Eltérés
A9: A "Települési és területi nemzetiségi önkormányzatok támogatása" működési költségvetési támogatás része (KGR Beszámoló 02. űrlap 36. sorának részösszege) | B9: 1040000 | C9: 1040000 | D9: 0 | E9: 0
A10: A "Települési és területi nemzetiségi önkormányzatok támogatása" feladatalapú költségvetési támogatás része (KGR beszámoló 02. űrlap 36. és/vagy 72. sorának részösszege) | B10: 499194 | C10: 492271 | D10: 6923 | E10: 0
A11: Összesen | B11: =+B9+B10 -> 1539194 | C11: =+C9+C10 -> 1532271 | D11: =+D10 -> 6923 | E11: 0

Sheet 08
A1: SÜLYSÁPI ROMA NEMZETISÉGI ÖNKORMÁNYZAT
A2: Intézmény törzsszáma: 828989
W3: Adatok Ft-ban
A4: 2022. ÉVI Zárszámadás
A5: 8. Melléklet
A6: Vagyonkimutatás - 2022
A7: Értéktípus: Forint
A8: Megnevezés | K8: Sorszám | O8: Előző év | U8: Tárgyév | AA8: Index (%)
A9: 1 | K9: 2 | O9: 3 | U9: 4 | AA9: 5
A10: ESZKÖZÖK
A11: A/ NEMZETI VAGYONBA TARTOZÓ BEFEKTETETT ESZKÖZÖK | K11: A
A12: I. IMMATERIÁLIS JAVAK | K12: A/I
A13: 1. Vagyoni értékű jogok | K13: A/I/1
A14: a) Forgalomképtelen törzsvagyon | K14: A/I/1/a
A15: b) Nemzetgazdasági szempontból kiemelt jelentőségű törzsvagyon | K15: A/I/1/b
A16: c) Korlátozottan forgalomképes vagyon | K16: A/I/1/c
A17: d) Üzleti vagyon | K17: A/I/1/d
A18: 2. Szellemi termékek | K18: A/I/2
A19: a) Forgalomképtelen törzsvagyon | K19: A/I/2/a
A20: b) Nemzetgazdasági szempontból kiemelt jelentőségű törzsvagyon | K20: A/I/2/b
A21: c) Korlátozottan forgalomképes vagyon | K21: A/I/2/c
A22: d) Üzleti vagyon | K22: A/I/2/d
... A83: II. Értékpapírok | K83: B/II
A84: C/ PÉNZESZKÖZÖK | K84: C | O84: 14 594 | U84: 6 923 | AA84: 47,44
A85: I. Lekötött bankbetétek | K85: C/I
A86: II. Pénztárak, csekkek, betétkönyvek | K86: C/II
A87: III. Forintszámlák | K87: C/III | O87: 14 594 | U87: 6 923 | AA87: 47,44
A88: IV. Devizaszámlák | K88: C/IV
A89: D/ KÖVETELÉSEK | K89: D
A90: I. Költségvetési évben esedékes követelések | K90: D/I
A91: II. Költségvetési évet követően esedékes követelések | K91: D/II
A92: III. Követelés jellegű sajátos elszámolások | K92: D/III
A93: E/ EGYÉB SAJÁTOS ESZKÖZOLDALI ELSZÁMOLÁSOK | K93: E
A94: F/ AKTÍV IDŐBELI ELHATÁROLÁSOK | K94: F
A95: ESZKÖZÖK ÖSSZESEN | K95: A+..+F | O95: 14 594 | U95: 6 923 | AA95: 47,44
A97: FORRÁSOK
A98: G/ SAJÁT TŐKE | K98: G | O98: 14 594 | U98: 6 923 | AA98: 47,44
A99: I. Nemzeti vagyon induláskori értéke | K99: G/I
A100: II. Nemzeti vagyon változásai | K100: G/II
A101: III. Egyéb eszközök induláskori értéke és változásai | K101: G/III
...

Sheet 09
A1: SÜLYSÁPI ROMA NEMZETISÉGI ÖNKORMÁNYZAT
A2: Intézmény törzsszáma: 828989
F4: Adatok forintban
A5: 2022. ÉVI Zárszámadás
A6: 9. Melléklet
A7: Pénzeszközök változása
A8: Megnevezés | B8: I. negyedév | C8: II. negyedév | D8: III. negyedév | E8: IV. negyedév | F8: Összesen
A11: Nyitó pénzkészlet | B11: 14594 | C11: =+B23 -> 535054 | D11: =+C23 -> 721775 | E11: =+D23 -> 670209 | F11: =+B11 -> 14594
A14: Költségvetési bevétel | B14: =535054 -> 535054 | C14: =1305130-B14 -> 770076 | D14: =1555574-C14-B14 -> 250444 | E14: =1556038-D14-C14-B14 -> 464 | F14: =+B14+C14+D14+E14 -> 1556038
A17: Költségvetési kiadás | B17: =0+14594 -> 14594 | C17: =583355+14594-B17 -> 583355 | D17: =885365+14594-C17-B17 -> 302010 | E17: =1549115+14594-D17-C17-B17 -> 663750 | F17: =+B17+C17+D17+E17 -> 1563709
A20: 36..fkv.forgalma | B20: 0 | C20: 0 | D20: =SUM([1]Önkormányzat!D24,[1]Bölcsőde!D24,[1]Óvoda!D24,[1]Dr.Gáspár!D24,[1]Konyha!D24,[1]Wamkk!D24,[1]PH!D24) -> 0 | E20: =SUM([1]Önkormányzat!E24,[1]Bölcsőde!E24,[1]Óvoda!E24,[1]Dr.Gáspár!E24,[1]Konyha!E24,[1]Wamkk!E24,[1]PH!E24) -> 0 | F20: =+B20+C20+D20+E20 -> 0
A23: Záró pénzkészlet | B23: =B11+B14-B17+B20 -> 535054 | C23: =C11+C14-C17+C20 -> 721775 | D23: =D11+D14-D17+D20 -> 670209 | E23: =E11+E14-E17+E20 -> 6923 | F23: =F11+F14-F17+F20 -> 6923
