Workbook

Sheet 1_M_Kiadások
B1: SÜLYSÁPI ROMA NEMZETISÉGI ÖNKORMÁNYZAT 2024. ÉVI KÖLTSÉGVETÉS KIADÁSOK | D1: 1. MELLÉKLET
A2: Sor- szám | B2: Rovat megnevezése | C2: Rovat száma | D2: Eredeti ei. (Ft)
A3: 01 | B3: Törvény szerinti illetmények, munkabérek | C3: K1101
A4: 02 | B4: Normatív jutalmak | C4: K1102
A5: 03 | B5: Céljuttatás, projektprémium | C5: K1103
A6: 04 | B6: Készenléti, ügyeleti, helyettesítési díj, túlóra, túlszolgálat | C6: K1104
A7: 05 | B7: Végkielégítés | C7: K1105
A8: 06 | B8: Jubileumi jutalom | C8: K1106
A9: 07 | B9: Béren kívüli juttatások | C9: K1107
A10: 08 | B10: Ruházati költségtérítés | C10: K1108
A11: 09 | B11: Közlekedési költségtérítés | C11: K1109
A12: 10 | B12: Egyéb költségtérítések | C12: K1110
A13: 11 | B13: Lakhatási támogatások | C13: K1111
A14: 12 | B14: Szociális támogatások | C14: K1112
A15: 13 | B15: Foglalkoztatottak egyéb személyi juttatásai | C15: K1113
A16: 14 | B16: Foglalkoztatottak személyi juttatásai (=01+…+13) K11 | C16: K11 | D16: =SUM(D3:D15) -> 0
A17: 15 | B17: Választott tisztségviselők juttatásai | C17: K121
A18: 16 | B18: Munkavégzésre irányuló egyéb jogviszonyban nem saját foglalkoztatottnak fizetett juttatások | C18: K122
A19: 17 | B19: Egyéb külső személyi juttatások | C19: K123
A20: 18 | B20: Külső személyi juttatások (=15+16+17) K12 | C20: K12 | D20: =SUM(D17:D19) -> 0
A21: 19 | B21: Személyi juttatások (=14+18) | C21: K1 | D21: =SUM(D20,D16) -> 0
A22: 20 | B22: Munkaadókat terhelő járulékok és szociális hozzájárulási adó | C22: K2 | D22: =+D17*0.155 -> 0
A23: 21 | B23: Szakmai anyagok beszerzése | C23: K311 | D23: 0
A24: 22 | B24: Üzemeltetési anyagok beszerzése | C24: K312 | D24: 400000
A25: 23 | B25: Árubeszerzés | C25: K313
A26: 24 | B26: Készletbeszerzés (=21+22+23) K31 | C26: K31 | D26: =SUM(D23:D25) -> 400000
A27: 25 | B27: Informatikai szolgáltatások igénybevétele | C27: K321
A28: 26 | B28: Egyéb kommunikációs szolgáltatások | C28: K322
A29: 27 | B29: Kommunikációs szolgáltatások (=25+26) K32 | C29: K32 | D29: =SUM(D27:D28) -> 0
A30: 28 | B30: Közüzemi díjak | C30: K331
A31: 29 | B31: Vásárolt élelmezés | C31: K332
A32: 30 | B32: Bérleti és lízing díjak | C32: K333
A33: 31 | B33: Karbantartási, kisjavítási szolgáltatások | C33: K334
A34: 32 | B34: Közvetített szolgáltatások | C34: K335
A35: 33 | B35: Szakmai tevékenységet segítő szolgáltatások | C35: K336 | D35: 0
A36: 34 | B36: Egyéb szolgáltatások | C36: K337 | D36: 420000
A37: 35 | B37: Szolgáltatási kiadások (=28+…+34) K33 | C37: K33 | D37: =SUM(D30:D36) -> 420000
A38: 36 | B38: Kiküldetések kiadásai | C38: K341 | D38: 0
A39: 37 | B39: Reklám- és propagandakiadások | C39: K342
A40: 38 | B40: Kiküldetések, reklám- és propagandakiadások (=36+37) | C40: K34 | D40: =SUM(D38:D39) -> 0
...

Sheet 2_M_Bevételek
B1: SÜLYSÁPI ROMA NEMZETISÉGI ÖNKORMÁNYZAT 2024. ÉVI KÖLTSÉGVETÉS BEVÉTELEK | D1: 2. MELLÉKLET
A2: Sor- szám | B2: Rovat megnevezése | C2: Rovat száma | D2: Eredeti ei. (Ft)
A3: 01 | B3: Helyi önkormányzatok működésének általános támogatása | C3: B111
A4: 02 | B4: Települési önkormányzatok egyes köznevelési feladatainak támogatása | C4: B112
A5: 03 | B5: Települési önkormányzatok szociális gyermekjóléti és gyermekétkeztetési feladatainak támogatása | C5: B113
A6: 04 | B6: Települési önkormányzatok kulturális feladatainak támogatása | C6: B114
A7: 05 | B7: Működési célú költségvetési támogatások és kiegészítő támogatások | C7: B115
A8: 06 | B8: Elszámolásból származó bevételek | C8: B116
A9: 07 | B9: Önkormányzatok működési támogatásai (=01+…+06) | C9: B11 | D9: =SUM(D3:D8) -> 0
A10: 08 | B10: Elvonások és befizetések bevételei | C10: B12
A11: 09 | B11: Működési célú garancia- és kezességvállalásból származó megtérülések államháztartáson belülről | C11: B13
A12: 10 | B12: Működési célú visszatérítendő támogatások, kölcsönök visszatérülése államháztartáson belülről | C12: B14
A13: 11 | B13: Működési célú visszatérítendő támogatások, kölcsönök igénybevétele államháztartáson belülről | C13: B15
A14: 12 | B14: Egyéb működési célú támogatások bevételei államháztartáson belülről (központi ezelésű előirányzatok) | C14: B16 | D14: =520000*2 -> 1040000
A15: 13 | B15: Működési célú támogatások államháztartáson belülről (=07+…+12) | C15: B1 | D15: =SUM(D9:D14) -> 1040000
A16: 14 | B16: Felhalmozási célú önkormányzati támogatások | C16: B21
A17: 15 | B17: Felhalmozási célú garancia- és kezességvállalásból származó megtérülések államháztartáson belülről | C17: B22
A18: 16 | B18: Felhalmozási célú visszatérítendő támogatások, kölcsönök visszatérülése államháztartáson belülről | C18: B23
A19: 17 | B19: Felhalmozási célú visszatérítendő támogatások, kölcsönök igénybevétele államháztartáson belülről | C19: B24
A20: 18 | B20: Egyéb felhalmozási célú támogatások bevételei államháztartáson belülről | C20: B25
A21: 19 | B21: Felhalmozási célú támogatások államháztartáson belülről (=14+…+18) | C21: B2 | D21: =SUM(D16:D20) -> 0
A22: 20 | B22: Magánszemélyek jövedelemadói | C22: B311
A23: 21 | B23: Társaságok jövedelemadói | C23: B312
A24: 22 | B24: Jövedelemadók (=20+21) | C24: B31 | D24: =SUM(D22:D23) -> 0
A25: 23 | B25: Szociális hozzájárulási adó és járulékok | C25: B32
A26: 24 | B26: Bérhez és foglalkoztatáshoz kapcsolódó adók | C26: B33
A27: 25 | B27: Vagyoni tipusú adók | C27: B34
A28: 26 | B28: Értékesítési és forgalmi adók | C28: B351
A29: 27 | B29: Fogyasztási adók | C29: B352
A30: 28 | B30: Pénzügyi monopóliumok nyereségét terhelő adók | C30: B353
A31: 29 | B31: Gépjárműadók | C31: B354
A32: 30 | B32: Egyéb áruhasználati és szolgáltatási adók | C32: B355
A33: 31 | B33: Termékek és szolgáltatások adói (=26+…+30) | C33: B35 | D33: =SUM(D28:D32) -> 0
A34: 32 | B34: Egyéb közhatalmi bevételek | C34: B36
A35: 33 | B35: Közhatalmi bevételek (=22+...+25+31+32) | C35: B3 | D35: =SUM(D24:D27,D33,D34) -> 0
A36: 34 | B36: Készletértékesítés ellenértéke | C36: B401
A37: 35 | B37: Szolgáltatások ellenértéke | C37: B402
A38: 36 | B38: Közvetített szolgáltatások ellenértéke | C38: B403
A39: 37 | B39: Tulajdonosi bevételek | C39: B404
A40: 38 | B40: Ellátási díjak | C40: B405
...

Sheet 3_M_Költségvetési mérleg
A1: 3. melléklet
A2: Sülysápi Roma Nemzetiségi Önkormányzat
A3: 2024. évi költségvetési mérlege
E4: adatok Ft-ban
A5: BEVÉTELEK | D5: KIADÁSOK
A6: Megnevezés | B6: 2024. évi eredeti ei. | D6: Megnevezés | E6: 2024 évi eredeti ei.
A8: 1. | B8: 2. | D8: 1. | E8: 2.
A9: Működési bevétel | B9: =SUM(B10:B19) -> 1040000 | D9: Működési kiadás | E9: =SUM(E10:E19) -> 1048047
A10: Önkormányzatok működési támogatásai | B10: 0 | D10: Személyi juttatások | E10: =+'1_M_Kiadások'!D21 -> 0
A11: Elvonások és befizetések bevételei | B11: 0 | D11: Munkáltatót terh.jár. és szoc.hozzáj. adó | E11: =+'1_M_Kiadások'!D22 -> 0
A12: Egyéb műk.c.tám.bev. áh.n belülről | B12: =+'2_M_Bevételek'!D14 -> 1040000 | D12: Dologi kiadás | E12: =+'1_M_Kiadások'!D47 -> 1048047
A13: Közhatalmi bevételek | B13: 0 | D13: Ellátottak pénzbeli juttatásai | E13: 0
A14: Működési bevételek | B14: 0 | D14: Elvonások és befizetések | E14: 0
A15: Műk.c.visszat.tám.,kölcs.visszat.áh.n kívülről | B15: 0 | D15: Egyéb műk.c.támog.áh.n belülre | E15: 0
A16: Egyéb működési célú átvett pénzeszk. | B16: 0 | D16: Műk.c.visszat.támog., kölcs.nyújt.áh.n kívülre | E16: 0
A17: Műk.bev.felh.célra | B17: 0 | D17: Egyéb műk.c.támog.áh.n kívülre | E17: 0
D18: Működési tartalék: - általános | E18: 0
D19: - cél | E19: 0
A20: Felhalmozási célú bev. | B20: =SUM(B21:B27) -> 0 | D20: Felhalmozási célú kiadás | E20: =SUM(E21:E27) -> 0
A21: Felhalmozási célú önkorm.i támogatások | B21: 0 | D21: Beruházások | E21: 0
A22: Egyéb felhalm.c.tám.bev. áh.n belülről | B22: 0 | D22: Felújítások | E22: 0
A23: Immat. jav.,ingatlanok., egyéb tárgyi e.érték. | B23: 0 | D23: Egyéb felhalm.c.támog.áh.n belülre | E23: 0
A24: Felhalm.c.visszat.tám.,kölcs.visszat.áh.n kívülről | B24: 0 | D24: Felhalm.c.visszat.támog.kölcs.,nyújt.áh.n kívülre | E24: 0
A25: Egyéb felhalmozási célú átvett pénzeszk. | B25: 0 | D25: Egyéb felhalm.c.támog.áh.n kívülre | E25: 0
A26: Műk.bev.felhalm.célra | B26: 0 | D26: Felhalmozási tartalék: - általános | E26: 0
D27: - cél | E27: 0
A28: Költségvetési bev-ek | B28: =B20+B9 -> 1040000 | D28: Költségvetési kiadások | E28: =E9+E20 -> 1048047
A29: Maradvány igénybevétele felj.célra | B29: 0 | D29: Hosszú lej.hitelek, kölcsönök törlesztése
A30: Maradvány igénybevétele műk.célra | B30: =+'2_M_Bevételek'!D71 -> 8047 | D30: Áh.n. belüli megelőlegezés visszafizetése | E30: 0
A31: Maradvány igénybevétele finanszírozási célra | B31: 0 | D31: Pénzeszközök lekötött bankbetétként elhelyezése | E31: 0
A32: Áh.n belüli megelőlegezés | D32: Belföldi értékpapírok kiadásai | E32: 0
A33: Lekötött bankbetétek megszüntetése
A34: Belföldi értékpapírok bevételei | B34: 0
A35: Finanszírozási bevételek | B35: =SUM(B29:B34) -> 8047 | D35: Finanszírozási kiadások | E35: =SUM(E29:E33) -> 0
A37: Nyitó | D37: Záró
A38: Bevételek összesen: | B38: =B36+B28+B37+B35 -> 1048047 | D38: Kiadás összesen: | E38: =E28+E36+E37+E35 -> 1048047
D40: Költségvetési mérleg egyenlege: | E40: =+E38-B38 -> 0

Sheet 4_M_Működési mérleg
A1: 4. melléklet
A2: Sülysápi Roma Nemzetiségi Önkormányzat
A3: I. Működési célú (folyó) bevételek, működési célú (folyó) kiadások mérlege 2024. év
A6: adatk Ft-ban
A7: BEVÉTELEK | D7: KIADÁSOK
A8: Megnevezés | B8: 2024. évi eredeti ei. | D8: Megnevezés | E8: 2024. évi eredeti ei.
A11: Önkorm. működési támogatásai | B11: =+'2_M_Bevételek'!D15 -> 1040000 | D11: Személyi juttatások | E11: =+'1_M_Kiadások'!D21 -> 0
A12: Egyéb műk.c.tám.bev. áh.n belülről | B12: 0 | D12: Munkaadót terh.jár.és szoc.hozzáj.adó | E12: =+'1_M_Kiadások'!D22 -> 0
A13: Közhatalmi bevételek | B13: 0 | D13: Dologi kiadások | E13: =+'1_M_Kiadások'!D47 -> 1048047
A14: Működési bevételek | B14: 0 | D14: Ellátottak pénzbeli juttatásai | E14: 0
A15: Egyéb működéi célú átvett pénzeszk. | B15: 0 | D15: Elvonások, befizetések | E15: 0
A16: Maradvány igénybevétele műk.célra | B16: =+'2_M_Bevételek'!D72 -> 8047 | D16: Egyéb műk.c.támog.áh.n belülre | E16: 0
D17: Műk.c.visszat.támog., kölcs.nyújt.áh.n kívülre | E17: 0
D18: Egyéb műk.c.támog.áh.n kívülre | E18: 0
D19: Tartalékok | E19: 0
D20: Egyéb (Előző évi megelőlegezés) | E20: 0
D21: Többlet
A22: Működési bevétel összesen: | B22: =SUM(B11:B21) -> 1048047 | D22: Működési kiadás összesen: | E22: =SUM(E11:E21) -> 1048047
A23: Működési mérleg hiány: | B23: =+E22-B22 -> 0 | D23: Működési mérleg többlet: | E23: 0

Sheet 5_M_Felhalm.mérleg
A1: 5. melléklet
A2: Sülysápi Roma Nemzetiségi Önkormányzat
A3: II. Felhalmozási célú bevételek és kiadások mérlege 2024. év
A5: Sülysápi Roma Nemzetiségi Önkormányzatnak nincsenek felhalmozási célú bevételei és kiadásai
A6: adatk Ft-ban
A7: BEVÉTELEK | D7: KIADÁSOK
A8: Megnevezés | B8: 2024. évi eredeti ei. | D8: Megnevezés | E8: 2024. évi eredeti ei.
A10: Felhalmozási célú önkorm.i támogatások | B10: 0 | D10: Beruházások | E10: 0
A11: Egyéb felhalm.c.tám.bev. áh.n belülről | B11: 0 | D11: Felújítások | E11: 0
A12: Immat. jav.,ingatlanok., egyéb tárgyi e.érték. | B12: 0 | D12: Egyéb felhalm.c.támog.áh.n belülre | E12: 0
A13: Felhalm.c.visszat.tám.,kölcs.visszat.áh.n kívülről | B13: 0 | D13: Felhalm.c.visszat.támog.kölcs.,nyújt.áh.n kívülre | E13: 0
A14: Egyéb felhalmozási célú átvett pénzeszk. | B14: 0 | D14: Egyéb felhalm.c.támog.áh.n kívülre | E14: 0
A15: Maradvány igénybevétele felj.célra | B15: 0 | D15: Felhalmozási célú tartalék | E15: 0
A19: Felhalmozási bevételek összesen: | B19: =SUM(B10:B18) -> 0 | D19: Felhalmozási kiadások összesen: | E19: =SUM(E10:E18) -> 0
A20: Felhalmozási mérleg hiány: | B20: 0 | D20: Felhalmozási mérleg többlet: | E20: =+B19-E19 -> 0
A22: Működési és felhalmozási bevételek | B22: =+'4_M_Működési mérleg'!B22+'5_M_Felhalm.mérleg'!B19 -> 1048047 | D22: Működési és felhalmozási bevételek | E22: =+'4_M_Működési mérleg'!E22+'5_M_Felhalm.mérleg'!E19 -> 1048047
A23: Költségvetés főösszege: | B23: =+'1_M_Kiadások'!D97 -> 1048047 | D23: Költségvetés főösszege: | E23: =+B23 -> 1048047
A24: Ell. | B24: =+B22-B23 -> 0 | D24: Ell. | E24: =+E23-E22 -> 0

Sheet 6_M_Felm kiad
A1: 6. melléklet
A2: Sülysápi Roma Nemzetiségi Önkormányzat
A3: 2024. évi Adósságot keletkeztető ügyletek.
A6: Sülysápi Roma Nemzetiségi Önkorányzatnak nincsenek adósságot keletkeztető ügyletei, önkormányzati garanciái és önkormányzati kezességvállalásai.
A7: Sülysápi Roma Nemzetiségi Önkormányzatnak nincs költségvetési hiánya, nem szükséges arra szolgáló finanszírozási bevételi előirányzatot létrehozni.
A9: Sülysápi Roma Nemzetiségi Önkorányzatnak nincsenek olyan fejlesztési céljai, amelyek megvalósításához adósságot keletkeztető ügylet megkötése válik vagy válhat szükségessé.

Sheet 7_M_Finansz mérleg
A1: 7. melléklet
A2: Sülysápi Roma Nemzetiségi Önkormányzat
A3: Finanszírozási mérleg 2024. év
E5: adatok Ft-ban
A6: BEVÉTELEK | D6: KIADÁSOK
A7: Megnevezés | B7: 2024. évi eredeti ei. | D7: Megnevezés | E7: 2024. évi eredeti ei.
A9: előző évi maradvány igénybevétele működési célra (finanszírozási c. bev.) | B9: =+'2_M_Bevételek'!D72 -> 8047 | D9: Pénzeszközök lekötött bankbetétként elhelyezése | E9: 0
A10: előző évi maradvány igénybevétele felhalmozási célra (finanszírozási c. bev.) | B10: 0 | D10: ÁH-n belüli megelőlegezés visszafizetés | E10: 0
A11: ÁH-n belüli megelőlegezések | B11: 0 | D11: -
A12: Betétek megszüntetése | B12: 0 | D12: -
A13: Belföldi értékpapírok bevételei | B13: 0 | D13: -
A14: Összes finanszírozási bevétel | B14: =SUM(B9:B10) -> 8047 | D14: Összes finanszírozási kiadás | E14: =SUM(E9:E10) -> 0

Sheet 8_M_3 év
A1: 8. melléklet
A2: Sülysápi Roma Nemzetiségi Önkormányzat
A3: Költségvetési évet követő három év tervezett előirányzata
A4: adatok Ft-ban
A5: Bevétel megnevezése | B5: 2024. évi tervezett előirányzat | C5: 2025. évi tervezett előirányzat | D5: 2026. évi tervezett előirányzat | E5: 2027. évi tervezett előirányzat
A6: Önkormányzatok működési támogatásai | B6: =+'2_M_Bevételek'!D15 -> 1040000 | C6: 1040000 | D6: 1040000 | E6: 1040000
A7: Elvonások és befizetések bevételei | B7: 0 | C7: 0 | D7: 0 | E7: 0
A8: Egyéb műk.c.tám.bev. áh.n belülről | B8: 0 | C8: 0 | D8: 0 | E8: 0
A9: Közhatalmi bevételek | B9: 0 | C9: 0 | D9: 0 | E9: 0
A10: Működési bevételek | B10: 0 | C10: 0 | D10: 0 | E10: 0
A11: Műk.c.visszat.tám.,kölcs.visszat.áh.n kívülről | B11: 0 | C11: 0 | D11: 0 | E11: 0
A12: Egyéb működési célú átvett pénzeszk. | B12: 0 | C12: 0 | D12: 0 | E12: 0
A13: Felhalmozási célú önkorm.i támogatások | B13: 0 | C13: 0 | D13: 0 | E13: 0
A14: Egyéb felhalm.c.tám.bev. áh.n belülről | B14: 0 | C14: 0 | D14: 0 | E14: 0
A15: Immat. jav.,ingatlanok., egyéb tárgyi e.érték. | B15: 0 | C15: 0 | D15: 0 | E15: 0
A16: Felhalm.c.visszat.tám.,kölcs.visszat.áh.n kívülről | B16: 0 | C16: 0 | D16: 0 | E16: 0
A17: Egyéb felhalmozási célú átvett pénzeszk. | B17: 0 | C17: 0 | D17: 0 | E17: 0
A18: Maradvány igénybevétele felj.célra | B18: 0 | C18: 0 | D18: 0 | E18: 0
A19: Maradvány igénybevétele műk.célra | B19: =+'2_M_Bevételek'!D72 -> 8047 | C19: 6000 | D19: 6000 | E19: 6000
A20: Maradvány igénybevétel finanszírozási célra | B20: 0 | C20: 0 | D20: 0 | E20: 0
A21: Belföldi értékpapírok bevételei | B21: 0 | C21: 0 | D21: 0 | E21: 0
A22: Egyéb finanszírozási bevételek | B22: 0 | C22: 0 | D22: 0 | E22: 0
A23: Bevételek összesen: | B23: =SUM(B6:B22) -> 1048047 | C23: =SUM(C6:C22) -> 1046000 | D23: =SUM(D6:D22) -> 1046000 | E23: =SUM(E6:E22) -> 1046000
A25: Kiadás megnevezése | B25: 2024. évi tervezett előirányzat | C25: 2025. évi tervezett előirányzat | D25: 2026. évi tervezett előirányzat | E25: 2027. évi tervezett előirányzat
A26: Személyi juttatások | B26: =+'1_M_Kiadások'!D21 -> 0 | C26: 0 | D26: 0 | E26: 0
A27: Munkáltatót terh.jár. és szoc.hozzáj. adó | B27: =+'1_M_Kiadások'!D22 -> 0 | C27: 0 | D27: 0 | E27: 0
A28: Dologi kiadás | B28: =+'1_M_Kiadások'!D47 -> 1048047 | C28: 1046000 | D28: 1046000 | E28: 1046000
A29: Ellátottak pénzbeli juttatásai | B29: 0 | C29: 0 | D29: 0 | E29: 0
A30: Egyéb műk.c.támog.áh.n belülre | B30: 0 | C30: 0 | D30: 0 | E30: 0
A31: Műk.c.visszat.támog., kölcs.nyújt.áh.n kívülre | B31: 0 | C31: 0 | D31: 0 | E31: 0
A32: Egyéb műk.c.támog.áh.n kívülre | B32: 0 | C32: 0 | D32: 0 | E32: 0
A33: Elvonások, befizetések | B33: 0 | C33: 0 | D33: 0 | E33: 0
A34: Műk.célú tartalék | B34: 0 | C34: 0 | D34: 0 | E34: 0
A35: Beruházások | B35: 0 | C35: 0 | D35: 0 | E35: 0
A36: Felújítások | B36: 0 | C36: 0 | D36: 0 | E36: 0
A37: Egyéb felhalm.c.támog.áh.n belülre | B37: 0 | C37: 0 | D37: 0 | E37: 0
A38: Felhalm.c.visszat.támog.kölcs.,nyújt.áh.n kívülre | B38: 0 | C38: 0 | D38: 0 | E38: 0
A39: Egyéb felhalm.c.támog.áh.n kívülre | B39: 0 | C39: 0 | D39: 0 | E39: 0
A40: Felh.célú tartalék | B40: 0 | C40: 0 | D40: 0 | E40: 0
... A43: Államháztartáson belüli megelőlegezés | B43: 0 | C43: 0 | D43: 0 | E43: 0
...

Sheet 9_M_Kötelező fel.
A1: 9. melléklet
A2: Sülysápi Roma Nemzetiségi Önkormányzat
A3: Költségvetés bevételeinek és kiadásainak megbontása - kötelező, önként vállalt, államigazgatási feladatok szerint 2024. év
A5: adatok Ft-ban
A6: MEGNEVEZÉS | B6: KÖTELEZŐ FELADAT | C6: ÖNKÉNT VÁLLALT FELADAT | D6: ÁLLAMIGAZ-GATÁSI FELADATOK | E6: ÖSSZESEN
A7: Személyi juttatások | B7: =+'1_M_Kiadások'!D21 -> 0 | C7: 0 | D7: 0 | E7: =+B7+C7+D7 -> 0
A8: Munkaadót terh.jár.és szoc.hozzáj.adó | B8: =+'1_M_Kiadások'!D22 -> 0 | C8: 0 | D8: 0 | E8: =+B8+C8+D8 -> 0
A9: Dologi kiadások | B9: 0 | C9: =+'1_M_Kiadások'!D47 -> 1048047 | D9: 0 | E9: =+B9+C9+D9 -> 1048047
A10: Ellátottak pénzbeli juttatásai | B10: 0 | C10: 0 | D10: 0 | E10: =+B10+C10+D10 -> 0
A11: Elvonások, befizetések | B11: 0 | C11: 0 | D11: 0 | E11: =+B11+C11+D11 -> 0
A12: Egyéb műk.c.támog.áh.n belülre | B12: 0 | C12: 0 | D12: 0 | E12: =+B12+C12+D12 -> 0
A13: Műk.c.visszat.támog., kölcs.nyújt.áh.n kívülre | B13: 0 | C13: 0 | D13: 0 | E13: =+B13+C13+D13 -> 0
A14: Egyéb műk.c.támog.áh.n kívülre | B14: 0 | C14: 0 | D14: 0 | E14: =+B14+C14+D14 -> 0
A15: Tartalékok | B15: 0 | C15: 0 | D15: 0 | E15: =+B15+C15+D15 -> 0
A16: Egyéb | B16: 0 | C16: 0 | D16: 0 | E16: =+B16+C16+D16 -> 0
A17: Többlet | B17: 0 | C17: 0 | D17: 0 | E17: =+B17+C17+D17 -> 0
A18: Működési kiadás összesen: | B18: =SUM(B7:B17) -> 0 | C18: =SUM(C7:C17) -> 1048047 | D18: =SUM(D16:D17) -> 0 | E18: =SUM(E7:E17) -> 1048047
A19: beruházások
A20: - Önkormányzat | B20: 0 | C20: 0 | D20: 0 | E20: =SUM(B20:D20) -> 0
A21: - Beruházások intézmények | B21: 0 | C21: 0 | D21: 0 | E21: =SUM(B21:D21) -> 0
A22: beruházások összesen | B22: =SUM(B20:B21) -> 0 | C22: =SUM(C20:C21) -> 0 | D22: =SUM(D20:D21) -> 0 | E22: =SUM(E20:E21) -> 0
A23: felújítások
A24: - Önkormányzat | B24: 0 | C24: 0 | D24: 0 | E24: =SUM(B24:D24) -> 0
A25: felújítások összesen | B25: =SUM(B24:B24) -> 0 | C25: =SUM(C24:C24) -> 0 | D25: =SUM(D24:D24) -> 0 | E25: =SUM(E24:E24) -> 0
A26: egyéb felhalmozási kiadások
A27: · - egyéb felhalmozási célú támogatások áh-n belülre | B27: 0 | C27: 0 | D27: 0 | E27: =SUM(B27:D27) -> 0
A28: · - felhalmozási célú visszat. támogatások, kölcsönök nyújtása áh-n kívülre | B28: 0 | C28: 0 | D28: 0 | E28: =SUM(B28:D28) -> 0
A29: · - egyéb felhalmozási célú támogatások áh-n kívülre | B29: 0 | C29: 0 | D29: 0 | E29: =SUM(B29:D29) -> 0
A30: egyéb felhalmozási kiadások összesen | B30: =SUM(B27:B29) -> 0 | C30: =SUM(C27:C29) -> 0 | D30: =SUM(D27:D29) -> 0 | E30: =SUM(E27:E29) -> 0
A31: FELHALMOZÁSI KIADÁS ÖSSZESEN | B31: =SUM(B22,B25,B30) -> 0 | C31: =SUM(C22,C25,C30) -> 0 | D31: =SUM(D22,D25,D30) -> 0 | E31: =SUM(E22,E25,E30) -> 0
A32: Hosszú lejáratú hitelek, kölcsönök törlesztése | B32: 0 | C32: 0 | D32: 0 | E32: =SUM(B32:D32) -> 0
A33: Belföldi értékpapírok kiadásai | B33: 0 | C33: 0 | D33: 0 | E33: =SUM(B33:D33) -> 0
A34: Államháztartáson belüli megelőlegezés visszafizetés | B34: 0 | C34: 0 | D34: 0 | E34: =SUM(B34:D34) -> 0
A35: Pénzeszköz betét elhelyezés | B35: 0 | C35: 0 | D35: 0
A36: Finanszírozási kiadások összesen | B36: =SUM(B32:B35) -> 0 | C36: =SUM(C32:C35) -> 0 | D36: =SUM(D32:D35) -> 0 | E36: =SUM(E32:E35) -> 0
A37: KIADÁSOK MINDÖSSZESEN | B37: =+B18+B31+B36 -> 0 | C37: =+C18+C31+C36 -> 1048047 | D37: =+D18+D31+D36 -> 0 | E37: =+E18+E31+E36 -> 1048047
A40: MEGNEVEZÉS | B40: KÖTELEZŐ FELADAT | C40: ÖNKÉNT VÁLLALT FELADAT | D40: ÁLLAMIGAZ-GATÁSI FELADATOK | E40: ÖSSZESEN
A41: Önkormányzatok működési támogatásai | B41: 0 | C41: =+'2_M_Bevételek'!D15 -> 1040000 | D41: 0 | E41: =+B41+C41+D41 -> 1040000
A42: Elvonások és befizetések bevételei | B42: 0 | C42: 0 | D42: 0 | E42: =+B42+C42+D42 -> 0
A43: Egyéb műk.c.tám.bev. áh.n belülről | B43: 0 | C43: 0 | D43: 0 | E43: =+B43+C43+D43 -> 0
...

Sheet 10_M_Több éves kihatással járó 
A1: 10. melléklet
A2: Sülysápi Roma Nemzetiségi Önkormányzat
A3: Több éves kihatással járó döntések alakulása 2024. év
A7: 2024-ben nincs több éves kihatással járó kiadási döntés.
