Workbook

Sheet Kiadás
I1: Adatok Ft-ban
A2: SÜLYSÁPI ROMA NEMZETISÉGI ÖNKORMÁNYZAT 2024.I. FÉLÉV KÖLTSÉGVETÉSI KIADÁSOK
A3: Rovat megnevezése | B3: Rovat száma | C3: Eredeti ei. | D3: Módosított ei. | E3: Teljesítés | F3: 2024.06.30-i realizálás az eredeti előir-hoz képest | G3: Módosított ei. | H3: Teljesítés | I3: 2024.07.31-i realizálás a félévi módosított előir-hoz képest
C4: 45292 | D4: 45473 | E4: 45473 | G4: 45504 | H4: 45504
A5: Törvény szerinti illetmények, munkabérek | B5: K1101
A6: Normatív jutalmak | B6: K1102
A7: Céljuttatás, projektprémium | B7: K1103
A8: Készenléti, ügyeleti, helyettesítési díj, túlóra, túlszolgálat | B8: K1104
A9: Végkielégítés | B9: K1105
A10: Jubileumi jutalom | B10: K1106
A11: Béren kívüli juttatások | B11: K1107
A12: Ruházati költségtérítés | B12: K1108
A13: Közlekedési költségtérítés | B13: K1109
A14: Egyéb költségtérítések | B14: K1110
A15: Lakhatási támogatások | B15: K1111
A16: Szociális támogatások | B16: K1112
A17: Foglalkoztatottak egyéb személyi juttatásai | B17: K1113
A18: Foglalkoztatottak személyi juttatásai (=01+…+13) K11 | B18: K11 | C18: =SUM(C5:C17) -> 0 | D18: =SUM(D5:D17) -> 0 | E18: =SUM(E5:E17) -> 0 | H18: =SUM(H5:H17) -> 0
A19: Választott tisztségviselők juttatásai | B19: K121 | C19: =+'[1]2021.01.01.'!E10 -> 0 | D19: 0 | E19: 0 | G19: 0 | H19: 0
A20: Munkavégzésre irányuló egyéb jogviszonyban nem saját foglalkoztatottnak fizetett juttatások | B20: K122
A21: Egyéb külső személyi juttatások | B21: K123
A22: Külső személyi juttatások (=15+16+17) K12 | B22: K12 | C22: =SUM(C19:C21) -> 0 | D22: =SUM(D19:D21) -> 0 | E22: =SUM(E19:E21) -> 0 | G22: =SUM(G19:G21) -> 0 | H22: =SUM(H19:H21) -> 0
A23: Személyi juttatások (=14+18) | B23: K1 | C23: =SUM(C22,C18) -> 0 | D23: =SUM(D22,D18) -> 0 | E23: =SUM(E22,E18) -> 0 | G23: =+G18+G22 -> 0 | H23: =SUM(H22,H18) -> 0
A24: Munkaadókat terhelő járulékok és szociális hozzájárulási adó | B24: K2 | C24: =+C19*0.155 -> 0 | D24: 0 | E24: =+E19*0.155*0.9 -> 0 | G24: =+G19*0.9*0.155 -> 0 | H24: =+H19*0.9*0.155 -> 0
A25: Szakmai anyagok beszerzése | B25: K311
A26: Üzemeltetési anyagok beszerzése | B26: K312 | C26: 400000 | D26: 400000 | E26: 262819 | F26: =+E26/C26 -> 0.6570475 | G26: 400000 | H26: 285784 | I26: =+H26/D26 -> 0.71446
A27: Árubeszerzés | B27: K313
A28: Készletbeszerzés (=21+22+23) K31 | B28: K31 | C28: =SUM(C25:C27) -> 400000 | D28: =SUM(D25:D27) -> 400000 | E28: =SUM(E25:E27) -> 262819 | F28: =+E28/C28 -> 0.6570475 | G28: =SUM(G25:G27) -> 400000 | H28: =SUM(H25:H27) -> 285784 | I28: =+H28/D28 -> 0.71446
A29: Informatikai szolgáltatások igénybevétele | B29: K321
A30: Egyéb kommunikációs szolgáltatások | B30: K322
A31: Kommunikációs szolgáltatások (=25+26) K32 | B31: K32 | C31: =SUM(C29:C30) -> 0 | D31: =SUM(D29:D30) -> 0 | E31: =SUM(E29:E30) -> 0 | H31: =SUM(H29:H30) -> 0
A32: Közüzemi díjak | B32: K331
A33: Vásárolt élelmezés | B33: K332
A34: Bérleti és lízing díjak | B34: K333
A35: Karbantartási, kisjavítási szolgáltatások | B35: K334
A36: Közvetített szolgáltatások | B36: K335
A37: Szakmai tevékenységet segítő szolgáltatások | B37: K336 | H37: 0
A38: Egyéb szolgáltatások | B38: K337 | C38: 420000 | D38: 420000 | E38: 253377 | F38: =+E38/C38 -> 0.60327857 | G38: 420000 | H38: 401488 | I38: =+H38/D38 -> 0.95592381
A39: Szolgáltatási kiadások (=28+…+34) K33 | B39: K33 | C39: =SUM(C32:C38) -> 420000 | D39: =SUM(D32:D38) -> 420000 | E39: =SUM(E32:E38) -> 253377 | F39: =+E39/C39 -> 0.60327857 | G39: =SUM(G32:G38) -> 420000 | H39: =SUM(H32:H38) -> 401488 | I39: =+H39/D39 -> 0.95592381
A40: Kiküldetések kiadásai | B40: K341 | H40: 0
A41: Reklám- és propagandakiadások | B41: K342
A42: Kiküldetések, reklám- és propagandakiadások (=36+37) | B42: K34 | C42: =SUM(C40:C41) -> 0 | D42: =SUM(D40:D41) -> 0 | E42: =SUM(E40:E41) -> 0 | H42: =SUM(H40:H41) -> 0
A43: Működési célú előzetesen felszámított általános forgalmi adó | B43: K351 | C43: 221000 | D43: 221000 | E43: 50046 | F43: =+E43/C43 -> 0.22645249 | G43: 221000 | H43: 72865 | I43: =+H43/D43 -> 0.32970588
A44: Fizetendő általános forgalmi adó | B44: K352
A45: Kamatkiadások | B45: K353
A46: Egyéb pénzügyi műveletek kiadásai | B46: K354
A47: Egyéb dologi kiadások | B47: K355 | C47: 7047 | D47: 7047 | E47: 0 | F47: =+E47/C47 -> 0 | G47: 7047 | H47: 0 | I47: =+H47/D47 -> 0
A48: Különféle befizetések és egyéb dologi kiadások (=39+…+43) | B48: K35 | C48: =SUM(C43:C47) -> 228047 | D48: =SUM(D43:D47) -> 228047 | E48: =SUM(E43:E47) -> 50046 | F48: =+E48/C48 -> 0.21945476 | G48: =SUM(G43:G47) -> 228047 | H48: =SUM(H43:H47) -> 72865 | I48: =+H48/D48 -> 0.31951747
A49: Dologi kiadások (=24+27+35+38+44) | B49: K3 | C49: =SUM(C48,C42,C39,C31,C28) -> 1048047 | D49: =SUM(D48,D42,D39,D31,D28) -> 1048047 | E49: =SUM(E48,E42,E39,E31,E28) -> 566242 | F49: =+E49/C49 -> 0.54028302 | G49: =SUM(G48,G42,G39,G31,G28) -> 1048047 | H49: =SUM(H48,H42,H39,H31,H28) -> 760137 | I49: =+H49/D49 -> 0.72528904
A50: Társadalombiztosítási ellátások | B50: K41
A51: Családi támogatások | B51: K42
A52: Pénzbeli kárpótlások, kártérítések | B52: K43
A53: Betegséggel kapcsolatos (nem társadalombiztosítási) ellátások | B53: K44
A54: Foglalkoztatással, munkanélküliséggel kapcsolatos ellátások | B54: K45
A55: Lakhatással kapcsolatos ellátások | B55: K46
A56: Intézményi ellátottak pénzbeli juttatásai | B56: K47
A57: Egyéb nem intézményi ellátások | B57: K48
A58: Ellátottak pénzbeli juttatásai (=46+...+53) | B58: K4 | C58: =SUM(C50:C57) -> 0 | D58: =SUM(D50:D57) -> 0 | E58: =SUM(E50:E57) -> 0 | G58: =SUM(G50:G57) -> 0 | H58: =SUM(H50:H57) -> 0
A59: Nemzetközi kötelezettségek | B59: K501
A60: A helyi önkormányzatok előző évi elszámolásából származó kiadások | B60: K5021
A61: A helyi önkormányzatok törvényi előíráson alapuló befizetései | B61: K5022
A62: Egyéb elvonások, befizetések | B62: K5023
A63: Elvonások és befizetések (=56+57+58) | B63: K502 | C63: =SUM(C59:C62) -> 0 | D63: =SUM(D59:D62) -> 0 | E63: =SUM(E59:E62) -> 0 | G63: =SUM(G59:G62) -> 0 | H63: =SUM(H59:H62) -> 0
A64: Működési célú garancia- és kezességvállalásból származó kifizetés államháztartáson belülre | B64: K503
A65: Működési célú visszatérítendő támogatások, kölcsönök nyújtása államháztartáson belülre | B65: K504
A66: Működési célú visszatérítendő támogatások, kölcsönök törlesztése államháztartáson belülre | B66: K505
A67: Egyéb működési célú támogatások államháztartáson belülre | B67: K506
A68: Működési célú garancia- és kezességvállalásból származó kifizetés államháztartáson kívülre | B68: K507
A69: Működési célú visszatérítendő támogatások, kölcsönök nyújtása államháztartáson kívülre | B69: K508
A70: Árkiegészítések, ártámogatások | B70: K509
A71: Kamattámogatások | B71: K510
A72: Működési célú támogatások az Európai Uniónak | B72: K511
A73: Egyéb működési célú támogatások államháztartáson kívülre | B73: K512
A74: Tartalékok | B74: K513
A75: Egyéb működési célú kiadások (=55+59+…+70) | B75: K5 | C75: =SUM(C64:C74) -> 0 | D75: =SUM(D64:D74) -> 0 | E75: =SUM(E64:E74) -> 0 | G75: =SUM(G64:G74) -> 0 | H75: =SUM(H64:H74) -> 0
A76: Immateriális javak beszerzése, létesítése | B76: K61
A77: Ingatlanok beszerzése, létesítése | B77: K62
A78: Informatikai eszközök beszerzése, létesítése | B78: K63
A79: Egyéb tárgyi eszközök beszerzése, létesítése | B79: K64
A80: Részesedések beszerzése | B80: K65
A81: Meglévő részesedések növeléséhez kapcsolódó kiadások | B81: K66
A82: Beruházási célú előzetesen felszámított általános forgalmi adó | B82: K67
A83: Beruházások (=72+…+78) | B83: K6 | C83: =SUM(C76:C82) -> 0 | D83: =SUM(D76:D82) -> 0 | E83: =SUM(E76:E82) -> 0 | G83: 0 | H83: =SUM(H76:H82) -> 0
A84: Ingatlanok felújítása | B84: K71
A85: Informatikai eszközök felújítása | B85: K72
A86: Egyéb tárgyi eszközök felújítása | B86: K73
A87: Felújítási célú előzetesen felszámított általános forgalmi adó | B87: K74
A88: Felújítások (=80+...+83) | B88: K7 | C88: =SUM(C84:C87) -> 0 | D88: =SUM(D84:D87) -> 0 | E88: =SUM(E84:E87) -> 0 | G88: 0 | H88: =SUM(H84:H87) -> 0
A89: Felhalmozási célú garancia- és kezességvállalásból származó kifizetés államháztartáson belülre | B89: K81
A90: Felhalmozási célú visszatérítendő támogatások, kölcsönök nyújtása államháztartáson belülre | B90: K82
A91: Felhalmozási célú visszatérítendő támogatások, kölcsönök törlesztése államháztartáson belülre | B91: K83
A92: Egyéb felhalmozási célú támogatások államháztartáson belülre | B92: K84
A93: Felhalmozási célú garancia- és kezességvállalásból származó kifizetés államháztartáson kívülre | B93: K85
A94: Felhalmozási célú visszatérítendő támogatások, kölcsönök nyújtása államháztartáson kívülre | B94: K86
A95: Lakástámogatás | B95: K87
A96: Felhalmozási célú támogatások az Európai Uniónak | B96: K88
A97: Egyéb felhalmozási célú támogatások államháztartáson kívülre | B97: K89
A98: Egyéb felhalmozási célú kiadások (=85+…+93) | B98: K8 | C98: =SUM(C89:C97) -> 0 | D98: =SUM(D89:D97) -> 0 | E98: =SUM(E89:E97) -> 0 | G98: =SUM(G89:G97) -> 0 | H98: =SUM(H89:H97) -> 0
A99: Költségvetési kiadások (=19+20+45+54+71+79+84+94) | B99: K1-K8 | C99: =SUM(C98,C88,C83,C75,C58,C49,C24,C23) -> 1048047 | D99: =SUM(D98,D88,D83,D75,D58,D49,D24,D23) -> 1048047 | E99: =SUM(E98,E88,E83,E75,E58,E49,E24,E23) -> 566242 | F99: =+E99/C99 -> 0.54028302 | G99: =SUM(G98,G88,G83,G75,G58,G49,G24,G23) -> 1048047 | H99: =SUM(H98,H88,H83,H75,H58,H49,H24,H23) -> 760137 | I99: =+H99/D99 -> 0.72528904

Sheet Bevétel
J1: Adatok Ft-ban
B2: SÜLYSÁPI ROMA NEMZETISÉGI ÖNKORMÁNYZAT 2024.I. FÉLÉV KÖLTSÉGVETÉSI BEVÉTELEK
A3: Sor- szám | B3: Rovat megnevezése | C3: Rovat száma | D3: Eredeti ei. | E3: Módosított ei. | F3: Teljesítés | G3: 2024.06.30-i realizálás az eredeti előir-hoz képest | H3: Módosított ei. | I3: Teljesítés | J3: 2024.07.31-i realizálás a félévi módosított előir-hoz képest
D4: 45292 | E4: 45473 | F4: 45473 | H4: 45504 | I4: 45504
A5: 01 | B5: Helyi önkormányzatok működésének általános támogatása | C5: B111
A6: 02 | B6: Települési önkormányzatok egyes köznevelési feladatainak támogatása | C6: B112
A7: 03 | B7: Települési önkormányzatok szociális gyermekjóléti és gyermekétkeztetési feladatainak támogatása | C7: B113
A8: 04 | B8: Települési önkormányzatok kulturális feladatainak támogatása | C8: B114
A9: 05 | B9: Működési célú költségvetési támogatások és kiegészítő támogatások | C9: B115
A10: 06 | B10: Elszámolásból származó bevételek | C10: B116
A11: 07 | B11: Önkormányzatok működési támogatásai (=01+…+06) | C11: B11 | D11: =SUM(D5:D10) -> 0
A12: 08 | B12: Elvonások és befizetések bevételei | C12: B12
A13: 09 | B13: Működési célú garancia- és kezességvállalásból származó megtérülések államháztartáson belülről | C13: B13
A14: 10 | B14: Működési célú visszatérítendő támogatások, kölcsönök visszatérülése államháztartáson belülről | C14: B14
A15: 11 | B15: Működési célú visszatérítendő támogatások, kölcsönök igénybevétele államháztartáson belülről | C15: B15
A16: 12 | B16: Egyéb működési célú támogatások bevételei államháztartáson belülről (központi ezelésű előirányzatok) | C16: B16 | D16: =520000*2 -> 1040000 | E16: 1040000 | F16: 1217688 | G16: =+F16/D16 -> 1.1708538 | H16: 1040000 | I16: 1217688 | J16: =+I16/E16 -> 1.1708538
A17: 13 | B17: Működési célú támogatások államháztartáson belülről (=07+…+12) | C17: B1 | D17: =SUM(D11:D16) -> 1040000 | E17: =SUM(E11:E16) -> 1040000 | F17: =SUM(F11:F16) -> 1217688 | G17: =+F17/E17 -> 1.1708538 | H17: =SUM(H11:H16) -> 1040000 | I17: =SUM(I11:I16) -> 1217688 | J17: =+I17/H17 -> 1.1708538
A18: 14 | B18: Felhalmozási célú önkormányzati támogatások | C18: B21
A19: 15 | B19: Felhalmozási célú garancia- és kezességvállalásból származó megtérülések államháztartáson belülről | C19: B22
A20: 16 | B20: Felhalmozási célú visszatérítendő támogatások, kölcsönök visszatérülése államháztartáson belülről | C20: B23
A21: 17 | B21: Felhalmozási célú visszatérítendő támogatások, kölcsönök igénybevétele államháztartáson belülről | C21: B24
A22: 18 | B22: Egyéb felhalmozási célú támogatások bevételei államháztartáson belülről | C22: B25
A23: 19 | B23: Felhalmozási célú támogatások államháztartáson belülről (=14+…+18) | C23: B2 | D23: =SUM(D18:D22) -> 0
A24: 20 | B24: Magánszemélyek jövedelemadói | C24: B311
A25: 21 | B25: Társaságok jövedelemadói | C25: B312
A26: 22 | B26: Jövedelemadók (=20+21) | C26: B31 | D26: =SUM(D24:D25) -> 0
A27: 23 | B27: Szociális hozzájárulási adó és járulékok | C27: B32
A28: 24 | B28: Bérhez és foglalkoztatáshoz kapcsolódó adók | C28: B33
A29: 25 | B29: Vagyoni tipusú adók | C29: B34
A30: 26 | B30: Értékesítési és forgalmi adók | C30: B351
A31: 27 | B31: Fogyasztási adók | C31: B352
A32: 28 | B32: Pénzügyi monopóliumok nyereségét terhelő adók | C32: B353
A33: 29 | B33: Gépjárműadók | C33: B354
A34: 30 | B34: Egyéb áruhasználati és szolgáltatási adók | C34: B355
A35: 31 | B35: Termékek és szolgáltatások adói (=26+…+30) | C35: B35 | D35: =SUM(D30:D34) -> 0
A36: 32 | B36: Egyéb közhatalmi bevételek | C36: B36
A37: 33 | B37: Közhatalmi bevételek (=22+...+25+31+32) | C37: B3 | D37: =SUM(D26:D29,D35,D36) -> 0
A38: 34 | B38: Készletértékesítés ellenértéke | C38: B401
A39: 35 | B39: Szolgáltatások ellenértéke | C39: B402
A40: 36 | B40: Közvetített szolgáltatások ellenértéke | C40: B403
A41: 37 | B41: Tulajdonosi bevételek | C41: B404
A42: 38 | B42: Ellátási díjak | C42: B405
A43: 39 | B43: Kiszámlázott általános forgalmi adó | C43: B406
A44: 40 | B44: Általános forgalmi adó visszatérítése | C44: B407
A45: 41 | B45: Befektetett pénzügyi eszközökből származó bevételek | C45: B4081
A46: 42 | B46: Egyéb kapott (járó) kamatok és kamatjellegű bevételek | C46: B4082 | D46: 0 | E46: 0 | F46: 760 | H46: 0 | I46: 954
A47: 43 | B47: Kamatbevételek és más nyereségjellegű bevételek (=41+42) | C47: B408 | D47: =SUM(D45:D46) -> 0 | E47: =SUM(E45:E46) -> 0 | F47: =SUM(F45:F46) -> 760 | G47: =SUM(G45:G46) -> 0 | H47: =SUM(H45:H46) -> 0 | I47: =SUM(I45:I46) -> 954
A48: 44 | B48: Részesedésekből származó pénzügyi műveletek bevételei | C48: B4091
A49: 45 | B49: Más egyéb pénzügyi műveletek bevételei | C49: B4092
A50: 46 | B50: Egyéb pénzügyi műveletek bevételei (=44+45) | C50: B409 | D50: =SUM(D48:D49) -> 0 | H50: =SUM(H48:H49) -> 0
A51: 47 | B51: Biztosító által fizetett kártérítés | C51: B410
A52: 48 | B52: Egyéb működési bevételek | C52: B411 | H52: 0
A53: 49 | B53: Működési bevételek (=34+…+40+43+46+...+48) | C53: B4 | D53: =SUM(D38:D44,D47,D50,D51,D52) -> 0 | E53: =SUM(E38:E44,E47,E50,E51,E52) -> 0 | F53: =SUM(F38:F44,F47,F50,F51,F52) -> 760 | H53: =SUM(H38:H52)-H45-H46-H48-H49 -> 0 | I53: =SUM(I38:I44,I47,I50,I51,I52) -> 954
A54: 50 | B54: Immateriális javak értékesítése | C54: B51
A55: 51 | B55: Ingatlanok értékesítése | C55: B52
A56: 52 | B56: Egyéb tárgyi eszközök értékesítése | C56: B53
A57: 53 | B57: Részesedések értékesítése | C57: B54
A58: 54 | B58: Részesedések megszűnéséhez kapcsolódó bevételek | C58: B55
A59: 55 | B59: Felhalmozási bevételek (=50+…+54) | C59: B5 | D59: =SUM(D54:D58) -> 0 | E59: =SUM(E54:E58) -> 0 | F59: =SUM(F54:F58) -> 0 | H59: =SUM(H54:H58) -> 0 | I59: =SUM(I54:I58) -> 0
A60: 56 | B60: Működési célú garancia- és kezességvállalásból származó megtérülések államháztartáson kívülről | C60: B61
A61: 57 | B61: Működési célú visszatérítendő támogatások, kölcsönök visszatérülése az Európai Uniótól | C61: B62
A62: 58 | B62: Működési célú visszatérítendő támogatások, kölcsönök visszatérülése kormányoktól és más nemzetközi szervezetektől | C62: B63
A63: 59 | B63: Működési célú visszatérítendő támogatások, kölcsönök visszatérülése államháztartáson kívülről | C63: B64
A64: 60 | B64: Egyéb működési célú átvett pénzeszközök | C64: B65
A65: 61 | B65: Működési célú átvett pénzeszközök (=56+…+60) | C65: B6 | D65: =SUM(D60:D64) -> 0 | E65: =SUM(E60:E64) -> 0 | F65: =SUM(F60:F64) -> 0 | H65: =SUM(H60:H64) -> 0 | I65: =SUM(I60:I64) -> 0
A66: 62 | B66: Felhalmozási célú garancia- és kezességvállalásból származó megtérülések államháztartáson kívülről | C66: B71
A67: 63 | B67: Felhalmozási célú visszatérítendő támogatások, kölcsönök visszatérülése az Európai Uniótól | C67: B72
A68: 64 | B68: Felhalmozási célú visszatérítendő támogatások, kölcsönök visszatérülése kormányoktól és más nemzetközi szervezetektől | C68: B73
A69: 65 | B69: Felhalmozási célú visszatérítendő támogatások, kölcsönök visszatérülése államháztartáson kívülről | C69: B74
A70: 66 | B70: Egyéb felhalmozási célú átvett pénzeszközök | C70: B75
A71: 67 | B71: Felhalmozási célú átvett pénzeszközök (=62+…+66) | C71: B7 | D71: =SUM(D66:D70) -> 0 | E71: =SUM(E66:E70) -> 0 | F71: =SUM(F66:F70) -> 0 | H71: =SUM(H66:H70) -> 0 | I71: =SUM(I66:I70) -> 0
A72: 68 | B72: Költségvetési bevételek (=13+19+33+49+55+61+67) | C72: B1-B7 | D72: =SUM(D17,D23,D37,D53,D59,D65,D71) -> 1040000 | E72: =SUM(E17,E23,E37,E53,E59,E65,E71) -> 1040000 | F72: =SUM(F17,F23,F37,F53,F59,F65,F71) -> 1218448 | G72: =+F72/D72 -> 1.1715846 | H72: =SUM(H17,H23,H37,H53,H59,H65,H71) -> 1040000 | I72: =SUM(I17,I23,I37,I53,I59,I65,I71) -> 1218642 | J72: =+I72/E72 -> 1.1717712
A73: 69 | B73: Előző évi költségvetési maradvány igénybevétele | C73: B8131 | D73: 8047 | E73: 8047 | F73: 8047 | G73: =+F73/D73 -> 1 | H73: 8047 | I73: 8047 | J73: =+I73/E73 -> 1
A74: 70 | B74: Finanszírozási bevételek | C74: B8 | D74: =+D73 -> 8047 | E74: =+E73 -> 8047 | F74: =+F73 -> 8047 | G74: =+F74/D74 -> 1 | H74: =+H73 -> 8047 | I74: =+I73 -> 8047 | J74: =+I74/E74 -> 1
A75: 71 | B75: Összes bevétel | C75: B | D75: =+D72+D74 -> 1048047 | E75: =+E72+E74 -> 1048047 | F75: =+F72+F74 -> 1226495 | G75: =+F75/D75 -> 1.1702672 | H75: =+H72+H74 -> 1048047 | I75: =+I72+I74 -> 1226689 | J75: =+I75/E75 -> 1.1704523
D76: =+D75-Kiadás!C99 -> 0 | E76: =+E75-Kiadás!D99 -> 0 | F76: =+F75-Kiadás!E99 -> 660253 | H76: =+H75-Kiadás!G99 -> 0 | I76: =+I75-Kiadás!H99 -> 466552
